Workbook

Sheet PANEL DE CONTROL DISTRITAL
A1: INSTITUTO NACIONAL ELECTORAL SISTEMA DE GESTIÓN DE LA CALIDAD CIUDAD DE MÉXICO
M2: Fecha de corte 31/08/2023 | Q2: Version 0
A4: TABLERO DE CONTROL DISTRITAL DE PROCESOS SUSTANTIVOS DEL SISTEMA DE GESTIÓN DE LA CALIDAD
A5: CAMPAÑA ANUAL PERMANENTE 2022-2023
A6: Número | B6: PROCESOS SUSTANTIVOS E INDICADORES | I6: % AVANCE REGISTRADO | K6: % AVANCE REGISTRADO | M6: % AVANCE REGISTRADO | O6: % AVANCE REGISTRADO | Q6: % AVANCE REGISTRADO | S6: % AVANCE REGISTRADO | U6: % AVANCE REGISTRADO | W6: % AVANCE REGISTRADO | Y6: % AVANCE REGISTRADO | AA6: % AVANCE REGISTRADO | AC6: % AVANCE REGISTRADO | AE6: % AVANCE REGISTRADO | AG6: % AVANCE REGISTRADO | AI6: % AVANCE REGISTRADO | AK6: % AVANCE REGISTRADO | AM6: % AVANCE REGISTRADO | AO6: % AVANCE REGISTRADO | AQ6: % AVANCE REGISTRADO | AS6: % AVANCE REGISTRADO | AU6: % AVANCE REGISTRADO | AW6: % AVANCE REGISTRADO | AY6: % AVANCE REGISTRADO | BA6: % AVANCE REGISTRADO | BC6: % AVANCE REGISTRADO | BE6: % AVANCE REGISTRADO
B7: DESCRIPCIÓN | E7: MEDICIÓN
B8: Proceso | C8: Dueño de Proceso | D8: Indicador | E8: Cálculo | F8: Periodo | G8: Estimado | H8: Nominativo | I8: Distrito 01 | K8: Distrito 02 | M8: Distrito 03 | O8: Distrito 04 | Q8: Distrito 05 | S8: Distrito 06 | U8: Distrito 07 | W8: Distrito 08 | Y8: Distrito 09 | AA8: Distrito 10 | AC8: Distrito 11 | AE8: Distrito 12 | AG8: Distrito 13 | AI8: Distrito 14 | AK8: Distrito 15 | AM8: Distrito 16 | AO8: Distrito 17 | AQ8: Distrito 18 | AS8: Distrito 19 | AU8: Distrito 20 | AW8: Distrito 21 | AY8: Distrito 22 | BA8: Distrito 23 | BC8: Distrito 24 | BE8: Estatal
A9: 1 | B9: ENTREVISTA | C9: Auxiliar de Atención Ciudadana | D9: Efectividad de la entrevista = | E9: (Número de trámites aplicados / (Número de fichas requisitadas - Notificaciones de improcedencia de trámite)) x 100 | F9: Semanal (remesa) | G9: 0.9 | H9: Número de trámites aplicados | I9: =AVERAGE('090151'!AV10:AV11) -> 0.99670194 | K9: =AVERAGE('090251'!AV10:AV11) -> 0.9990982 | M9: =AVERAGE('090351'!AV10:AV11) -> 0.95121413 | O9: =AVERAGE('090451'!AV10:AV11) -> 0.95603146 | Q9: =AVERAGE('090551'!AV10:AV11) -> 0.99569057 | S9: =AVERAGE('090651'!AV10:AV11) -> 0.98149583 | U9: =AVERAGE('090751'!AV10:AV11) -> 0.97906263 | W9: =AVERAGE('090851'!AV10:AV11) -> 0.98150362 | Y9: =AVERAGE('090951'!AV10:AV11) -> 0.97489208 | AA9: =AVERAGE('091051'!AV10:AV11) -> 0.99693919 | AC9: =AVERAGE('091151'!AV10:AV11) -> 0.99622236 | AE9: =AVERAGE('091251'!AV10:AV11,'091252'!AV10:AV11) -> 0.96994023 | AG9: =AVERAGE('091351'!AV10:AV11) -> 0.98279699 | AI9: =AVERAGE('091451'!AV10:AV11) -> 0.9887423 | AK9: =AVERAGE('091551'!AV10:AV11,'091552'!AV10:AV11) -> 0.99140745 | AM9: =AVERAGE('091651'!AV10:AV11) -> 0.99946607 | AO9: =AVERAGE('091751'!AV10:AV11) -> 0.96317865 | AQ9: =AVERAGE('091851'!AV10:AV11,'091852'!AV10:AV11) -> 0.99064302 | AS9: =AVERAGE('091951'!AV10:AV11) -> 0.97143065 | AU9: =AVERAGE('092051'!AV10:AV11) -> 0.97885835 | AW9: =AVERAGE('092151'!AV10:AV11) -> 0.99981536 | AY9: =AVERAGE('092251'!AV10:AV11) -> 0.95278399 | BA9: =AVERAGE('092351'!AV10:AV11) -> 0.98112216 | BC9: =AVERAGE('092451'!AV10:AV11,'092452'!AV10:AV11) -> 0.96666351 | BE9: =AVERAGE(I9,K9,M9,O9,Q9,S9,U9,W9,Y9,AA9,AC9,AE9,AG9,AI9,AK9,AM9,AO9,AQ9,AS9,AU9,AW9,AY9,BA9,BC9) -> 0.98107086
H10: Número de fichas requisitadas - Notificaciones de improcedencia de trámite
A12: 2 | B12: TRÁMITE | C12: Operador de Equipo Tecnológico | D12: Trámites exitosos efectivos= | E12: (Número de trámites exitosos / Número de trámites aplicados) x 100 | F12: Semanal (remesa) | G12: 0.9 | H12: Número de trámites exitosos | I12: =AVERAGE('090151'!AV13:AV14) -> 0.98478862 | K12: =AVERAGE('090251'!AV13:AV14) -> 0.98789891 | M12: =AVERAGE('090351'!AV13:AV14) -> 0.99704442 | O12: =AVERAGE('090451'!AV13:AV14) -> 0.99841973 | Q12: =AVERAGE('090551'!AV13:AV14) -> 0.99826267 | S12: =AVERAGE('090651'!AV13:AV14) -> 0.99756523 | U12: =AVERAGE('090751'!AV13:AV14) -> 0.99345353 | W12: =AVERAGE('090851'!AV13:AV14) -> 0.97818556 | Y12: =AVERAGE('090951'!AV13:AV14) -> 0.99723244 | AA12: =AVERAGE('091051'!AV13:AV14) -> 0.98928839 | AC12: =AVERAGE('091151'!AV13:AV14) -> 0.98431413 | AE12: =AVERAGE('091251'!AV13:AV14,'091252'!AV13:AV14) -> 0.99582466 | AG12: =AVERAGE('091351'!AV13:AV14) -> 0.98598445 | AI12: =AVERAGE('091451'!AV13:AV14) -> 0.99808222 | AK12: =AVERAGE('091551'!AV13:AV14,'091552'!AV13:AV14) -> 0.99864343 | AM12: =AVERAGE('091651'!AV13:AV14) -> 0.98496107 | AO12: =AVERAGE('091751'!AV13:AV14) -> 0.9938007 | AQ12: =AVERAGE('091851'!AV13:AV14,'091852'!AV13:AV14) -> 0.98385564 | AS12: =AVERAGE('091951'!AV13:AV14) -> 0.99715654 | AU12: =AVERAGE('092051'!AV13:AV14) -> 0.98340343 | AW12: =AVERAGE('092151'!AV13:AV14) -> 0.9955677 | AY12: =AVERAGE('092251'!AV13:AV14) -> 1.0063769 | BA12: =AVERAGE('092351'!AV13:AV14) -> 0.99045253 | BC12: =AVERAGE('092451'!AV13:AV14,'092452'!AV13:AV14) -> 0.99562166 | BE12: =AVERAGE(I12,K12,M12,O12,Q12,S12,U12,W12,Y12,AA12,AC12,AE12,AG12,AI12,AK12,AM12,AO12,AQ12,AS12,AU12,AW12,AY12,BA12,BC12) -> 0.99234102
H13: Número de trámites aplicados
A15: 3 | B15: TRANSFERENCIA | C15: Responsable de Módulo | D15: Transacciones exitosas = | E15: (Número de Archivos de Transacción aceptados /Total de Archivos de Transacción procesados) x100 | F15: Semanal (remesa) | G15: 0.9 | H15: Número de Archivos de Transacción aceptados | I15: =AVERAGE('090151'!AV16:AV17) -> 1 | K15: =AVERAGE('090251'!AV16:AV17) -> 1 | M15: =AVERAGE('090351'!AV16:AV17) -> 1 | O15: =AVERAGE('090451'!AV16:AV17) -> 1 | Q15: =AVERAGE('090551'!AV16:AV17) -> 1 | S15: =AVERAGE('090651'!AV16:AV17) -> 1 | U15: =AVERAGE('090751'!AV16:AV17) -> 1 | W15: =AVERAGE('090851'!AV16:AV17) -> 1 | Y15: =AVERAGE('090951'!AV16:AV17) -> 1 | AA15: =AVERAGE('091051'!AV16:AV17) -> 1.0001014 | AC15: =AVERAGE('091151'!AV16:AV17) -> 0.99989639 | AE15: =AVERAGE('091251'!AV16:AV17,'091252'!AV16:AV17) -> 1 | AG15: =AVERAGE('091351'!AV16:AV17) -> 1 | AI15: =AVERAGE('091451'!AV16:AV17) -> 0.99808222 | AK15: =AVERAGE('091551'!AV16:AV17,'091552'!AV16:AV17) -> 0.99992239 | AM15: =AVERAGE('091651'!AV16:AV17) -> 1 | AO15: =AVERAGE('091751'!AV16:AV17) -> 1 | AQ15: =AVERAGE('091851'!AV16:AV17,'091852'!AV16:AV17) -> 1 | AS15: =AVERAGE('091951'!AV16:AV17) -> 1 | AU15: =AVERAGE('092051'!AV16:AV17) -> 1 | AW15: =AVERAGE('092151'!AV16:AV17) -> 0.99996306 | AY15: =AVERAGE('092251'!AV16:AV17) -> 1 | BA15: =AVERAGE('092351'!AV16:AV17) -> 1 | BC15: =AVERAGE('092451'!AV16:AV17,'092452'!AV16:AV17) -> 0.99998869 | BE15: =AVERAGE(I15,K15,M15,O15,Q15,S15,U15,W15,Y15,AA15,AC15,AE15,AG15,AI15,AK15,AM15,AO15,AQ15,AS15,AU15,AW15,AY15,BA15,BC15) -> 0.99991476
H16: Total de Archivos de Transacción procesados
A18: 4 | B18: CONCILIACIÓN | C18: Responsable de Módulo | D18: Credenciales disponibles para entrega = | E18: ((Credenciales recibidas - Credenciales inconsistentes) / Credenciales recibidas) x 100 | F18: Semanal (remesa) | G18: 0.9 | H18: Credenciales Recibidas - Credenciales inconsistentes | I18: =AVERAGE('090151'!AV19:AV20) -> 1 | K18: =AVERAGE('090251'!AV19:AV20) -> 0.99995418 | M18: =AVERAGE('090351'!AV19:AV20) -> 0.99991289 | O18: =AVERAGE('090451'!AV19:AV20) -> 0.99886403 | Q18: =AVERAGE('090551'!AV19:AV20) -> 1 | S18: =AVERAGE('090651'!AV19:AV20) -> 0.99996683 | U18: =AVERAGE('090751'!AV19:AV20) -> 1 | W18: =AVERAGE('090851'!AV19:AV20) -> 1.0000762 | Y18: =AVERAGE('090951'!AV19:AV20) -> 1 | AA18: =AVERAGE('091051'!AV19:AV20) -> 1 | AC18: =AVERAGE('091151'!AV19:AV20) -> 0.99985516 | AE18: =AVERAGE('091251'!AV19:AV20,'091252'!AV19:AV20) -> 1 | AG18: =AVERAGE('091351'!AV19:AV20) -> 1 | AI18: =AVERAGE('091451'!AV19:AV20) -> 1 | AK18: =AVERAGE('091551'!AV19:AV20,'091552'!AV19:AV20) -> 1 | AM18: =AVERAGE('091651'!AV19:AV20) -> 1 | AO18: =AVERAGE('091751'!AV19:AV20) -> 0.99996204 | AQ18: =AVERAGE('091851'!AV19:AV20,'091852'!AV19:AV20) -> 1 | AS18: =AVERAGE('091951'!AV19:AV20) -> 1 | AU18: =AVERAGE('092051'!AV19:AV20) -> 1 | AW18: =AVERAGE('092151'!AV19:AV20) -> 1 | AY18: =AVERAGE('092251'!AV19:AV20) -> 0.99996876 | BA18: =AVERAGE('092351'!AV19:AV20) -> 0.99995139 | BC18: =AVERAGE('092451'!AV19:AV20,'092452'!AV19:AV20) -> 1 | BE18: =AVERAGE(I18,K18,M18,O18,Q18,S18,U18,W18,Y18,AA18,AC18,AE18,AG18,AI18,AK18,AM18,AO18,AQ18,AS18,AU18,AW18,AY18,BA18,BC18) -> 0.99993798
H19: Credenciales recibidas
A21: 5 | B21: CONCILIACIÓN | C21: Responsable de Módulo | D21: Credenciales disponibles para entrega = | E21: (Credenciales en resguardo / Credenciales totales en SIIRFE disponibles para entrega) x 100 | F21: Semanal (remesa) | G21: 1 | H21: Credenciales en resguardo | I21: =AVERAGE('090151'!AV22:AV23) -> 1 | K21: =AVERAGE('090251'!AV22:AV23) -> 1 | M21: =AVERAGE('090351'!AV22:AV23) -> 1 | O21: =AVERAGE('090451'!AV22:AV23) -> 1 | Q21: =AVERAGE('090551'!AV22:AV23) -> 1 | S21: =AVERAGE('090651'!AV22:AV23) -> 1 | U21: =AVERAGE('090751'!AV22:AV23) -> 1 | W21: =AVERAGE('090851'!AV22:AV23) -> 1 | Y21: =AVERAGE('090951'!AV22:AV23) -> 1 | AA21: =AVERAGE('091051'!AV22:AV23) -> 1 | AC21: =AVERAGE('091151'!AV22:AV23) -> 1 | AE21: =AVERAGE('091251'!AV22:AV23,'091252'!AV22:AV23) -> 1 | AG21: =AVERAGE('091351'!AV22:AV23) -> 1 | AI21: =AVERAGE('091451'!AV22:AV23) -> 1 | AK21: =AVERAGE('091551'!AV22:AV23,'091552'!AV22:AV23) -> 1.0001567 | AM21: =AVERAGE('091651'!AV22:AV23) -> 1 | AO21: =AVERAGE('091751'!AV22:AV23) -> 1 | AQ21: =AVERAGE('091851'!AV22:AV23,'091852'!AV22:AV23) -> 1 | AS21: =AVERAGE('091951'!AV22:AV23) -> 1 | AU21: =AVERAGE('092051'!AV22:AV23) -> 1 | AW21: =AVERAGE('092151'!AV22:AV23) -> 1 | AY21: =AVERAGE('092251'!AV22:AV23) -> 1 | BA21: =AVERAGE('092351'!AV22:AV23) -> 1 | BC21: =AVERAGE('092451'!AV22:AV23,'092452'!AV22:AV23) -> 1 | BE21: =AVERAGE(I21,K21,M21,O21,Q21,S21,U21,W21,Y21,AA21,AC21,AE21,AG21,AI21,AK21,AM21,AO21,AQ21,AS21,AU21,AW21,AY21,BA21,BC21) -> 1.0000065
H22: Credenciales totales en SIIRFE disponibles para entrega
A24: 6 | B24: ENTREGA | C24: Operador de Equipo Tecnológico | D24: Efectividad de entrega de CPV en MAC = | E24: (Total de credenciales entregadas / Total de credenciales solicitadas) x 100 | F24: Semanal (remesa) | G24: 0.9 | H24: Total de credenciales entregadas | I24: =AVERAGE('090151'!AV25:AV26) -> 0.98470588 | K24: =AVERAGE('090251'!AV25:AV26) -> 0.99984541 | M24: =AVERAGE('090351'!AV25:AV26) -> 1 | O24: =AVERAGE('090451'!AV25:AV26) -> 1 | Q24: =AVERAGE('090551'!AV25:AV26) -> 1 | S24: =AVERAGE('090651'!AV25:AV26) -> 0.99996691 | U24: =AVERAGE('090751'!AV25:AV26) -> 0.97788076 | W24: =AVERAGE('090851'!AV25:AV26) -> 0.9925781 | Y24: =AVERAGE('090951'!AV25:AV26) -> 1 | AA24: =AVERAGE('091051'!AV25:AV26) -> 1 | AC24: =AVERAGE('091151'!AV25:AV26) -> 1 | AE24: =AVERAGE('091251'!AV25:AV26,'091252'!AV25:AV26) -> 1 | AG24: =AVERAGE('091351'!AV25:AV26) -> 1 | AI24: =AVERAGE('091451'!AV25:AV26) -> 1 | AK24: =AVERAGE('091551'!AV25:AV26,'091552'!AV25:AV26) -> 1.0000256 | AM24: =AVERAGE('091651'!AV25:AV26) -> 1 | AO24: =AVERAGE('091751'!AV25:AV26) -> 1 | AQ24: =AVERAGE('091851'!AV25:AV26,'091852'!AV25:AV26) -> 0.99747486 | AS24: =AVERAGE('091951'!AV25:AV26) -> 0.98501443 | AU24: =AVERAGE('092051'!AV25:AV26) -> 1 | AW24: =AVERAGE('092151'!AV25:AV26) -> 0.99992546 | AY24: =AVERAGE('092251'!AV25:AV26) -> 0.95373513 | BA24: =AVERAGE('092351'!AV25:AV26) -> 0.99246951 | BC24: =AVERAGE('092451'!AV25:AV26,'092452'!AV25:AV26) -> 0.99996617 | BE24: =AVERAGE(I24,K24,M24,O24,Q24,S24,U24,W24,Y24,AA24,AC24,AE24,AG24,AI24,AK24,AM24,AO24,AQ24,AS24,AU24,AW24,AY24,BA24,BC24) -> 0.99514951
H25: Total de credenciales solicitadas

Sheet 090151
A1: ='PANEL DE CONTROL DISTRITAL'!A1:Q1 -> INSTITUTO NACIONAL ELECTORAL SISTEMA DE GESTIÓN DE LA CALIDAD CIUDAD DE MÉXICO
D2: Distrito | E2: 1 | F2: Módulo | H2: 90151 | AU2: ='PANEL DE CONTROL DISTRITAL'!M2 -> Fecha de corte 31/08/2023
A4: TABLERO DE CONTROL DE PROCESOS SUSTANTIVOS DEL SISTEMA DE GESTIÓN DE LA CALIDAD
A6: ='PANEL DE CONTROL DISTRITAL'!A6 -> Número | B6: ='PANEL DE CONTROL DISTRITAL'!B6 -> PROCESOS SUSTANTIVOS E INDICADORES | I6: SEMANA OPERATIVA | AV6: % AVANCE REGISTRADO
B7: ='PANEL DE CONTROL DISTRITAL'!B7 -> DESCRIPCIÓN | E7: ='PANEL DE CONTROL DISTRITAL'!E7 -> MEDICIÓN | I7: ='PANEL DE CONTROL DISTRITAL'!A5 -> CAMPAÑA ANUAL PERMANENTE 2022-2023
B9: ='PANEL DE CONTROL DISTRITAL'!B8 -> Proceso | C9: ='PANEL DE CONTROL DISTRITAL'!C8 -> Dueño de Proceso | D9: ='PANEL DE CONTROL DISTRITAL'!D8 -> Indicador | E9: ='PANEL DE CONTROL DISTRITAL'!E8 -> Cálculo | F9: ='PANEL DE CONTROL DISTRITAL'!F8 -> Periodo | G9: ='PANEL DE CONTROL DISTRITAL'!G8 -> Estimado | H9: ='PANEL DE CONTROL DISTRITAL'!H8 -> Nominativo | I9: 2022-53 | J9: 2022-54 | K9: 2022-55 | L9: 2023-01 | M9: 2023-02 | N9: 2023-03 | O9: 2023-04 | P9: 2023-05 | Q9: 2023-06 | R9: 2023-07 | S9: 2023-08 | T9: 2023-09 | U9: 2023-10 | V9: 2023-11 | W9: 2023-12 | X9: 2023-13 | Y9: 2023-14 | Z9: 2023-15 | AA9: 2023-16 | AB9: 2023-17 | AC9: 2023-18 | AD9: 2023-19 | AE9: 2023-20 | AF9: 2023-21 | AG9: 2023-22 | AH9: 2023-23 | AI9: 2023-24 | AJ9: 2023-25 | AK9: 2023-26 | AL9: 2023-27 | AM9: 2023-28 | AN9: 2023-29 | AO9: 2023-30 | AP9: 2023-31 | AQ9: 2023-32 | AR9: 2023-33 | AS9: 2023-34 | AT9: 2023-35 | AU9: 2023-36
A10: ='PANEL DE CONTROL DISTRITAL'!A9 -> 1 | B10: ='PANEL DE CONTROL DISTRITAL'!B9 -> ENTREVISTA | C10: ='PANEL DE CONTROL DISTRITAL'!C9 -> Auxiliar de Atención Ciudadana | D10: ='PANEL DE CONTROL DISTRITAL'!D9 -> Efectividad de la entrevista = | E10: ='PANEL DE CONTROL DISTRITAL'!E9 -> (Número de trámites aplicados / (Número de fichas requisitadas - Notificaciones de improcedencia de trámite)) x 100 | F10: ='PANEL DE CONTROL DISTRITAL'!F9 -> Semanal (remesa) | G10: ='PANEL DE CONTROL DISTRITAL'!G9 -> 0.9 | H10: ='PANEL DE CONTROL DISTRITAL'!H9 -> Número de trámites aplicados | I10: 110 | J10: 481 | K10: 0 | L10: 0 | M10: 435 | N10: 597 | O10: 604 | P10: 567 | Q10: 592 | R10: 464 | S10: 629 | T10: 651 | U10: 592 | V10: 591 | W10: 658 | X10: 476 | Y10: 588 | Z10: 424 | AA10: 581 | AB10: 595 | AC10: 562 | AD10: 324 | AE10: 523 | AF10: 577 | AG10: 605 | AH10: 551 | AI10: 552 | AJ10: 593 | AK10: 579 | AL10: 554 | AM10: 579 | AN10: 536 | AO10: 630 | AP10: 605 | AQ10: 587 | AR10: 603 | AS10: 567 | AT10: 601 | AU10: 485 | AV10: =IFERROR(SUM(I10:AU10)/SUM(I11:AU11),0) -> 0.99670194
H11: ='PANEL DE CONTROL DISTRITAL'!H10 -> Número de fichas requisitadas - Notificaciones de improcedencia de trámite | I11: 110 | J11: 481 | K11: 0 | L11: 0 | M11: 435 | N11: 597 | O11: 608 | P11: 567 | Q11: 592 | R11: 465 | S11: 630 | T11: 651 | U11: 592 | V11: 591 | W11: 660 | X11: 476 | Y11: 590 | Z11: 426 | AA11: 583 | AB11: 602 | AC11: 566 | AD11: 327 | AE11: 525 | AF11: 579 | AG11: 607 | AH11: 556 | AI11: 554 | AJ11: 597 | AK11: 583 | AL11: 554 | AM11: 582 | AN11: 539 | AO11: 631 | AP11: 605 | AQ11: 592 | AR11: 605 | AS11: 568 | AT11: 603 | AU11: 486
A13: ='PANEL DE CONTROL DISTRITAL'!A12 -> 2 | B13: ='PANEL DE CONTROL DISTRITAL'!B12 -> TRÁMITE | C13: ='PANEL DE CONTROL DISTRITAL'!C12 -> Operador de Equipo Tecnológico | D13: ='PANEL DE CONTROL DISTRITAL'!D12 -> Trámites exitosos efectivos= | E13: ='PANEL DE CONTROL DISTRITAL'!E12 -> (Número de trámites exitosos / Número de trámites aplicados) x 100 | F13: ='PANEL DE CONTROL DISTRITAL'!F12 -> Semanal (remesa) | G13: ='PANEL DE CONTROL DISTRITAL'!G12 -> 0.9 | H13: ='PANEL DE CONTROL DISTRITAL'!H12 -> Número de trámites exitosos | I13: 110 | J13: 481 | K13: 0 | L13: 0 | M13: 433 | N13: 595 | O13: 603 | P13: 564 | Q13: 592 | R13: 462 | S13: 628 | T13: 647 | U13: 590 | V13: 591 | W13: 656 | X13: 476 | Y13: 586 | Z13: 424 | AA13: 580 | AB13: 595 | AC13: 560 | AD13: 324 | AE13: 522 | AF13: 577 | AG13: 605 | AH13: 551 | AI13: 551 | AJ13: 591 | AK13: 577 | AL13: 552 | AM13: 579 | AN13: 535 | AO13: 627 | AP13: 603 | AQ13: 583 | AR13: 600 | AS13: 563 | AT13: 598 | AU13: 229 | AV13: =IFERROR(SUM(I13:AU13)/SUM(I14:AU14),0) -> 0.98478862
H14: ='PANEL DE CONTROL DISTRITAL'!H13 -> Número de trámites aplicados | I14: 110 | J14: 481 | K14: 0 | L14: 0 | M14: 435 | N14: 597 | O14: 604 | P14: 567 | Q14: 592 | R14: 464 | S14: 629 | T14: 651 | U14: 592 | V14: 591 | W14: 658 | X14: 476 | Y14: 588 | Z14: 424 | AA14: 581 | AB14: 595 | AC14: 562 | AD14: 324 | AE14: 523 | AF14: 577 | AG14: 605 | AH14: 551 | AI14: 552 | AJ14: 593 | AK14: 579 | AL14: 554 | AM14: 579 | AN14: 536 | AO14: 630 | AP14: 605 | AQ14: 587 | AR14: 603 | AS14: 567 | AT14: 601 | AU14: 485
A16: ='PANEL DE CONTROL DISTRITAL'!A15 -> 3 | B16: ='PANEL DE CONTROL DISTRITAL'!B15 -> TRANSFERENCIA | C16: ='PANEL DE CONTROL DISTRITAL'!C15 -> Responsable de Módulo | D16: ='PANEL DE CONTROL DISTRITAL'!D15 -> Transacciones exitosas = | E16: ='PANEL DE CONTROL DISTRITAL'!E15 -> (Número de Archivos de Transacción aceptados /Total de Archivos de Transacción procesados) x100 | F16: ='PANEL DE CONTROL DISTRITAL'!F15 -> Semanal (remesa) | G16: ='PANEL DE CONTROL DISTRITAL'!G15 -> 0.9 | H16: ='PANEL DE CONTROL DISTRITAL'!H15 -> Número de Archivos de Transacción aceptados | I16: 110 | J16: 481 | K16: 0 | L16: 0 | M16: 435 | N16: 597 | O16: 604 | P16: 567 | Q16: 592 | R16: 464 | S16: 629 | T16: 651 | U16: 592 | V16: 591 | W16: 658 | X16: 476 | Y16: 588 | Z16: 424 | AA16: 581 | AB16: 595 | AC16: 562 | AD16: 324 | AE16: 523 | AF16: 577 | AG16: 605 | AH16: 551 | AI16: 552 | AJ16: 593 | AK16: 579 | AL16: 554 | AM16: 579 | AN16: 536 | AO16: 630 | AP16: 605 | AQ16: 587 | AR16: 603 | AS16: 567 | AT16: 601 | AU16: 485 | AV16: =IFERROR(SUM(I16:AU16)/SUM(I17:AU17),0) -> 1
H17: ='PANEL DE CONTROL DISTRITAL'!H16 -> Total de Archivos de Transacción procesados | I17: 110 | J17: 481 | K17: 0 | L17: 0 | M17: 435 | N17: 597 | O17: 604 | P17: 567 | Q17: 592 | R17: 464 | S17: 629 | T17: 651 | U17: 592 | V17: 591 | W17: 658 | X17: 476 | Y17: 588 | Z17: 424 | AA17: 581 | AB17: 595 | AC17: 562 | AD17: 324 | AE17: 523 | AF17: 577 | AG17: 605 | AH17: 551 | AI17: 552 | AJ17: 593 | AK17: 579 | AL17: 554 | AM17: 579 | AN17: 536 | AO17: 630 | AP17: 605 | AQ17: 587 | AR17: 603 | AS17: 567 | AT17: 601 | AU17: 485
A19: ='PANEL DE CONTROL DISTRITAL'!A18 -> 4 | B19: ='PANEL DE CONTROL DISTRITAL'!B18 -> CONCILIACIÓN | C19: ='PANEL DE CONTROL DISTRITAL'!C18 -> Responsable de Módulo | D19: ='PANEL DE CONTROL DISTRITAL'!D18 -> Credenciales disponibles para entrega = | E19: ='PANEL DE CONTROL DISTRITAL'!E18 -> ((Credenciales recibidas - Credenciales inconsistentes) / Credenciales recibidas) x 100 | F19: ='PANEL DE CONTROL DISTRITAL'!F18 -> Semanal (remesa) | G19: ='PANEL DE CONTROL DISTRITAL'!G18 -> 0.9 | H19: ='PANEL DE CONTROL DISTRITAL'!H18 -> Credenciales Recibidas - Credenciales inconsistentes | I19: 252 | J19: 445 | K19: 0 | L19: 0 | M19: 178 | N19: 615 | O19: 686 | P19: 665 | Q19: 417 | R19: 660 | S19: 597 | T19: 641 | U19: 614 | V19: 124 | W19: 337 | X19: 1226 | Y19: 607 | Z19: 340 | AA19: 459 | AB19: 782 | AC19: 467 | AD19: 436 | AE19: 513 | AF19: 582 | AG19: 453 | AH19: 366 | AI19: 814 | AJ19: 705 | AK19: 461 | AL19: 227 | AM19: 0 | AN19: 0 | AO19: 1910 | AP19: 606 | AQ19: 615 | AR19: 826 | AS19: 570 | AT19: 628 | AU19: 452 | AV19: =IFERROR(SUM(I19:AU19)/SUM(I20:AU20),0) -> 1
H20: ='PANEL DE CONTROL DISTRITAL'!H19 -> Credenciales recibidas | I20: 252 | J20: 445 | K20: 0 | L20: 0 | M20: 178 | N20: 615 | O20: 686 | P20: 665 | Q20: 417 | R20: 660 | S20: 597 | T20: 641 | U20: 614 | V20: 124 | W20: 337 | X20: 1226 | Y20: 607 | Z20: 340 | AA20: 459 | AB20: 782 | AC20: 467 | AD20: 436 | AE20: 513 | AF20: 582 | AG20: 453 | AH20: 366 | AI20: 814 | AJ20: 705 | AK20: 461 | AL20: 227 | AM20: 0 | AN20: 0 | AO20: 1910 | AP20: 606 | AQ20: 615 | AR20: 826 | AS20: 570 | AT20: 628 | AU20: 452
A22: ='PANEL DE CONTROL DISTRITAL'!A21 -> 5 | B22: ='PANEL DE CONTROL DISTRITAL'!B21 -> CONCILIACIÓN | C22: ='PANEL DE CONTROL DISTRITAL'!C21 -> Responsable de Módulo | D22: ='PANEL DE CONTROL DISTRITAL'!D21 -> Credenciales disponibles para entrega = | E22: ='PANEL DE CONTROL DISTRITAL'!E21 -> (Credenciales en resguardo / Credenciales totales en SIIRFE disponibles para entrega) x 100 | F22: ='PANEL DE CONTROL DISTRITAL'!F21 -> Semanal (remesa) | G22: ='PANEL DE CONTROL DISTRITAL'!G21 -> 1 | H22: ='PANEL DE CONTROL DISTRITAL'!H21 -> Credenciales en resguardo | I22: 1052 | J22: 896 | K22: 896 | L22: 896 | M22: 684 | N22: 829 | O22: 957 | P22: 1019 | Q22: 930 | R22: 1015 | S22: 1088 | T22: 1113 | U22: 1123 | V22: 625 | W22: 673 | X22: 1243 | Y22: 1138 | Z22: 1057 | AA22: 947 | AB22: 1343 | AC22: 1044 | AD22: 1050 | AE22: 952 | AF22: 1058 | AG22: 969 | AH22: 759 | AI22: 1021 | AJ22: 1154 | AK22: 1027 | AL22: 666 | AM22: 414 | AN22: 356 | AO22: 1648 | AP22: 1110 | AQ22: 983 | AR22: 1193 | AS22: 1147 | AT22: 1167 | AU22: 1152 | AV22: =IFERROR(SUM(I22:AU22)/SUM(I23:AU23),0) -> 1
H23: ='PANEL DE CONTROL DISTRITAL'!H22 -> Credenciales totales en SIIRFE disponibles para entrega | I23: 1052 | J23: 896 | K23: 896 | L23: 896 | M23: 684 | N23: 829 | O23: 957 | P23: 1019 | Q23: 930 | R23: 1015 | S23: 1088 | T23: 1113 | U23: 1123 | V23: 625 | W23: 673 | X23: 1243 | Y23: 1138 | Z23: 1057 | AA23: 947 | AB23: 1343 | AC23: 1044 | AD23: 1050 | AE23: 952 | AF23: 1058 | AG23: 969 | AH23: 759 | AI23: 1021 | AJ23: 1154 | AK23: 1027 | AL23: 666 | AM23: 414 | AN23: 356 | AO23: 1648 | AP23: 1110 | AQ23: 983 | AR23: 1193 | AS23: 1147 | AT23: 1167 | AU23: 1152
A25: ='PANEL DE CONTROL DISTRITAL'!A24 -> 6 | B25: ='PANEL DE CONTROL DISTRITAL'!B24 -> ENTREGA | C25: ='PANEL DE CONTROL DISTRITAL'!C24 -> Operador de Equipo Tecnológico | D25: ='PANEL DE CONTROL DISTRITAL'!D24 -> Efectividad de entrega de CPV en MAC = | E25: ='PANEL DE CONTROL DISTRITAL'!E24 -> (Total de credenciales entregadas / Total de credenciales solicitadas) x 100 | F25: ='PANEL DE CONTROL DISTRITAL'!F24 -> Semanal (remesa) | G25: ='PANEL DE CONTROL DISTRITAL'!G24 -> 0.9 | H25: ='PANEL DE CONTROL DISTRITAL'!H24 -> Total de credenciales entregadas | I25: 204 | J25: 601 | K25: 0 | L25: 0 | M25: 390 | N25: 470 | O25: 558 | P25: 603 | Q25: 506 | R25: 572 | S25: 516 | T25: 616 | U25: 594 | V25: 622 | W25: 284 | X25: 656 | Y25: 712 | Z25: 418 | AA25: 569 | AB25: 385 | AC25: 766 | AD25: 430 | AE25: 609 | AF25: 476 | AG25: 542 | AH25: 576 | AI25: 552 | AJ25: 572 | AK25: 588 | AL25: 588 | AM25: 252 | AN25: 58 | AO25: 618 | AP25: 1136 | AQ25: 742 | AR25: 616 | AS25: 616 | AT25: 608 | AU25: 467 | AV25: =IFERROR(SUM(I25:AU25)/SUM(I26:AU26),0) -> 0.98470588
H26: ='PANEL DE CONTROL DISTRITAL'!H25 -> Total de credenciales solicitadas | I26: 204 | J26: 601 | K26: 0 | L26: 0 | M26: 390 | N26: 470 | O26: 558 | P26: 603 | Q26: 506 | R26: 572 | S26: 516 | T26: 616 | U26: 594 | V26: 622 | W26: 596 | X26: 656 | Y26: 712 | Z26: 418 | AA26: 569 | AB26: 385 | AC26: 766 | AD26: 430 | AE26: 609 | AF26: 476 | AG26: 542 | AH26: 576 | AI26: 552 | AJ26: 572 | AK26: 588 | AL26: 588 | AM26: 252 | AN26: 58 | AO26: 618 | AP26: 1136 | AQ26: 742 | AR26: 616 | AS26: 616 | AT26: 608 | AU26: 467
B27: *Registre el valor nominal solicitado en la celda, el resultado proporcional esta automatizado.
I29: Semaforización
J30: Valor que requiere atención y justificación en el apartado de observaciones
J31: Valor suficiente
J32: Valor esperado
B34: CUADRO DE OBSERVACIONES
B35: Descripción | H35: No conformidad

Sheet 090251
A1: ='PANEL DE CONTROL DISTRITAL'!A1:Q1 -> INSTITUTO NACIONAL ELECTORAL SISTEMA DE GESTIÓN DE LA CALIDAD CIUDAD DE MÉXICO
D2: Distrito | E2: 2 | F2: Módulo | H2: 90251 | AU2: ='PANEL DE CONTROL DISTRITAL'!M2 -> Fecha de corte 31/08/2023
A4: TABLERO DE CONTROL DE PROCESOS SUSTANTIVOS DEL SISTEMA DE GESTIÓN DE LA CALIDAD
A6: ='PANEL DE CONTROL DISTRITAL'!A6 -> Número | B6: ='PANEL DE CONTROL DISTRITAL'!B6 -> PROCESOS SUSTANTIVOS E INDICADORES | I6: SEMANA OPERATIVA | AV6: % AVANCE REGISTRADO
B7: ='PANEL DE CONTROL DISTRITAL'!B7 -> DESCRIPCIÓN | E7: ='PANEL DE CONTROL DISTRITAL'!E7 -> MEDICIÓN | I7: ='PANEL DE CONTROL DISTRITAL'!A5 -> CAMPAÑA ANUAL PERMANENTE 2022-2023
B9: ='PANEL DE CONTROL DISTRITAL'!B8 -> Proceso | C9: ='PANEL DE CONTROL DISTRITAL'!C8 -> Dueño de Proceso | D9: ='PANEL DE CONTROL DISTRITAL'!D8 -> Indicador | E9: ='PANEL DE CONTROL DISTRITAL'!E8 -> Cálculo | F9: ='PANEL DE CONTROL DISTRITAL'!F8 -> Periodo | G9: ='PANEL DE CONTROL DISTRITAL'!G8 -> Estimado | H9: ='PANEL DE CONTROL DISTRITAL'!H8 -> Nominativo | I9: ='090151'!I9 -> 2022-53 | J9: ='090151'!J9 -> 2022-54 | K9: ='090151'!K9 -> 2022-55 | L9: ='090151'!L9 -> 2023-01 | M9: ='090151'!M9 -> 2023-02 | N9: ='090151'!N9 -> 2023-03 | O9: ='090151'!O9 -> 2023-04 | P9: ='090151'!P9 -> 2023-05 | ... AU9: ='090151'!AU9 -> 2023-36
A10: ='PANEL DE CONTROL DISTRITAL'!A9 -> 1 | B10: ='PANEL DE CONTROL DISTRITAL'!B9 -> ENTREVISTA | C10: ='PANEL DE CONTROL DISTRITAL'!C9 -> Auxiliar de Atención Ciudadana | D10: ='PANEL DE CONTROL DISTRITAL'!D9 -> Efectividad de la entrevista = | E10: ='PANEL DE CONTROL DISTRITAL'!E9 -> (Número de trámites aplicados / (Número de fichas requisitadas - Notificaciones de improcedencia de trámite)) x 100 | F10: ='PANEL DE CONTROL DISTRITAL'!F9 -> Semanal (remesa) | G10: ='PANEL DE CONTROL DISTRITAL'!G9 -> 0.9 | H10: ='PANEL DE CONTROL DISTRITAL'!H9 -> Número de trámites aplicados | I10: 436 | J10: 1731 | K10: 0 | L10: 0 | M10: 1397 | N10: 1980 | O10: 1958 | P10: 2034 | Q10: 1862 | R10: 1643 | S10: 1987 | T10: 1900 | U10: 1854 | V10: 1705 | W10: 2038 | X10: 1543 | Y10: 1847 | Z10: 1337 | AA10: 1915 | AB10: 1960 | AC10: 1862 | AD10: 1123 | AE10: 1619 | AF10: 1871 | AG10: 1937 | AH10: 1888 | AI10: 1881 | AJ10: 1928 | AK10: 1873 | AL10: 1695 | AM10: 1488 | AN10: 1977 | AO10: 1869 | AP10: 1906 | AQ10: 1946 | AR10: 1952 | AS10: 1951 | AT10: 1960 | AU10: 1513 | AV10: =IFERROR(SUM(I10:AU10)/SUM(I11:AU11),0) -> 0.9990982
H11: ='PANEL DE CONTROL DISTRITAL'!H10 -> Número de fichas requisitadas - Notificaciones de improcedencia de trámite | I11: 437 | J11: 1731 | K11: 0 | L11: 0 | M11: 1397 | N11: 1981 | O11: 1958 | P11: 2034 | Q11: 1862 | R11: 1643 | S11: 1987 | T11: 1900 | U11: 1854 | V11: 1706 | W11: 2039 | X11: 1543 | Y11: 1850 | Z11: 1338 | AA11: 1923 | AB11: 1973 | AC11: 1878 | AD11: 1125 | AE11: 1620 | AF11: 1872 | AG11: 1937 | AH11: 1888 | AI11: 1882 | AJ11: 1928 | AK11: 1875 | AL11: 1696 | AM11: 1489 | AN11: 1977 | AO11: 1869 | AP11: 1907 | AQ11: 1947 | AR11: 1953 | AS11: 1953 | AT11: 1960 | AU11: 1513
A13: ='PANEL DE CONTROL DISTRITAL'!A12 -> 2 | B13: ='PANEL DE CONTROL DISTRITAL'!B12 -> TRÁMITE | C13: ='PANEL DE CONTROL DISTRITAL'!C12 -> Operador de Equipo Tecnológico | D13: ='PANEL DE CONTROL DISTRITAL'!D12 -> Trámites exitosos efectivos= | E13: ='PANEL DE CONTROL DISTRITAL'!E12 -> (Número de trámites exitosos / Número de trámites aplicados) x 100 | F13: ='PANEL DE CONTROL DISTRITAL'!F12 -> Semanal (remesa) | G13: ='PANEL DE CONTROL DISTRITAL'!G12 -> 0.9 | H13: ='PANEL DE CONTROL DISTRITAL'!H12 -> Número de trámites exitosos | I13: 435 | J13: 1728 | K13: 0 | L13: 0 | M13: 1396 | N13: 1977 | O13: 1952 | P13: 2029 | Q13: 1855 | R13: 1639 | S13: 1982 | T13: 1892 | U13: 1851 | V13: 1696 | W13: 2029 | X13: 1537 | Y13: 1842 | Z13: 1331 | AA13: 1333 | AB13: 1954 | AC13: 1857 | AD13: 1120 | AE13: 1616 | AF13: 1860 | AG13: 1931 | AH13: 1880 | AI13: 1877 | AJ13: 1918 | AK13: 1868 | AL13: 1691 | AM13: 1481 | AN13: 1974 | AO13: 1858 | AP13: 1902 | AQ13: 1936 | AR13: 1945 | AS13: 1944 | AT13: 1954 | AU13: 1505 | AV13: =IFERROR(SUM(I13:AU13)/SUM(I14:AU14),0) -> 0.98789891
H14: ='PANEL DE CONTROL DISTRITAL'!H13 -> Número de trámites aplicados | I14: 436 | J14: 1731 | K14: 0 | L14: 0 | M14: 1397 | N14: 1980 | O14: 1958 | P14: 2034 | Q14: 1862 | R14: 1643 | S14: 1987 | T14: 1900 | U14: 1854 | V14: 1705 | W14: 2038 | X14: 1543 | Y14: 1847 | Z14: 1337 | AA14: 1915 | AB14: 1960 | AC14: 1862 | AD14: 1123 | AE14: 1619 | AF14: 1871 | AG14: 1937 | AH14: 1888 | AI14: 1881 | AJ14: 1928 | AK14: 1873 | AL14: 1695 | AM14: 1488 | AN14: 1977 | AO14: 1869 | AP14: 1906 | AQ14: 1946 | AR14: 1952 | AS14: 1951 | AT14: 1960 | AU14: 1513
A16: ='PANEL DE CONTROL DISTRITAL'!A15 -> 3 | B16: ='PANEL DE CONTROL DISTRITAL'!B15 -> TRANSFERENCIA | C16: ='PANEL DE CONTROL DISTRITAL'!C15 -> Responsable de Módulo | D16: ='PANEL DE CONTROL DISTRITAL'!D15 -> Transacciones exitosas = | E16: ='PANEL DE CONTROL DISTRITAL'!E15 -> (Número de Archivos de Transacción aceptados /Total de Archivos de Transacción procesados) x100 | F16: ='PANEL DE CONTROL DISTRITAL'!F15 -> Semanal (remesa) | G16: ='PANEL DE CONTROL DISTRITAL'!G15 -> 0.9 | H16: ='PANEL DE CONTROL DISTRITAL'!H15 -> Número de Archivos de Transacción aceptados | I16: 436 | J16: 1731 | K16: 0 | L16: 0 | M16: 1397 | N16: 1980 | O16: 1958 | P16: 2034 | Q16: 1862 | R16: 1643 | S16: 1987 | T16: 1900 | U16: 1854 | V16: 1705 | W16: 2038 | X16: 1543 | Y16: 1846 | Z16: 1337 | AA16: 1915 | AB16: 1960 | AC16: 1862 | AD16: 1123 | AE16: 1619 | AF16: 1871 | AG16: 1937 | AH16: 1888 | AI16: 1881 | AJ16: 1928 | AK16: 1873 | AL16: 1695 | AM16: 1487 | AN16: 1977 | AO16: 1869 | AP16: 1905 | AQ16: 1946 | AR16: 1952 | AS16: 1951 | AT16: 1960 | AU16: 1513 | AV16: =IFERROR(SUM(I16:AU16)/SUM(I17:AU17),0) -> 1
H17: ='PANEL DE CONTROL DISTRITAL'!H16 -> Total de Archivos de Transacción procesados | I17: 436 | J17: 1731 | K17: 0 | L17: 0 | M17: 1397 | N17: 1980 | O17: 1958 | P17: 2034 | Q17: 1860 | R17: 1643 | S17: 1987 | T17: 1900 | U17: 1854 | V17: 1705 | W17: 2038 | X17: 1543 | Y17: 1847 | Z17: 1337 | AA17: 1915 | AB17: 1960 | AC17: 1862 | AD17: 1123 | AE17: 1619 | AF17: 1871 | AG17: 1937 | AH17: 1888 | AI17: 1880 | AJ17: 1928 | AK17: 1873 | AL17: 1695 | AM17: 1488 | AN17: 1977 | AO17: 1869 | AP17: 1906 | AQ17: 1946 | AR17: 1952 | AS17: 1951 | AT17: 1960 | AU17: 1513
A19: ='PANEL DE CONTROL DISTRITAL'!A18 -> 4 | B19: ='PANEL DE CONTROL DISTRITAL'!B18 -> CONCILIACIÓN | C19: ='PANEL DE CONTROL DISTRITAL'!C18 -> Responsable de Módulo | D19: ='PANEL DE CONTROL DISTRITAL'!D18 -> Credenciales disponibles para entrega = | E19: ='PANEL DE CONTROL DISTRITAL'!E18 -> ((Credenciales recibidas - Credenciales inconsistentes) / Credenciales recibidas) x 100 | F19: ='PANEL DE CONTROL DISTRITAL'!F18 -> Semanal (remesa) | G19: ='PANEL DE CONTROL DISTRITAL'!G18 -> 0.9 | H19: ='PANEL DE CONTROL DISTRITAL'!H18 -> Credenciales Recibidas - Credenciales inconsistentes | I19: 756 | J19: 1532 | K19: 0 | L19: 0 | M19: 828 | N19: 1925 | O19: 2205 | P19: 2321 | Q19: 1463 | R19: 2008 | S19: 2044 | T19: 1896 | U19: 1899 | V19: 360 | W19: 951 | X19: 3759 | Y19: 1967 | Z19: 775 | AA19: 1729 | AB19: 2630 | AC19: 1923 | AD19: 1091 | AE19: 1684 | AF19: 1822 | AG19: 1865 | AH19: 1916 | AI19: 1567 | AJ19: 2406 | AK19: 1930 | AL19: 371 | AM19: 0 | AN19: 0 | AO19: 5719 | AP19: 1811 | AQ19: 2706 | AR19: 1952 | AS19: 2078 | AT19: 1949 | AU19: 1629 | AV19: =IFERROR(SUM(I19:AU19)/SUM(I20:AU20),0) -> 0.99995418
H20: ='PANEL DE CONTROL DISTRITAL'!H19 -> Credenciales recibidas | I20: 756 | J20: 1532 | K20: 0 | L20: 0 | M20: 828 | N20: 1925 | O20: 2205 | P20: 2321 | Q20: 1463 | R20: 2008 | S20: 2044 | T20: 1896 | U20: 1899 | V20: 360 | W20: 951 | X20: 3759 | Y20: 1967 | Z20: 775 | AA20: 1729 | AB20: 2630 | AC20: 1923 | AD20: 1091 | AE20: 1684 | AF20: 1822 | AG20: 1865 | AH20: 1916 | AI20: 1567 | AJ20: 2406 | AK20: 1930 | AL20: 371 | AM20: 0 | AN20: 0 | AO20: 5719 | AP20: 1811 | AQ20: 2706 | AR20: 1952 | AS20: 2078 | AT20: 1949 | AU20: 1632
A22: ='PANEL DE CONTROL DISTRITAL'!A21 -> 5 | B22: ='PANEL DE CONTROL DISTRITAL'!B21 -> CONCILIACIÓN | C22: ='PANEL DE CONTROL DISTRITAL'!C21 -> Responsable de Módulo | D22: ='PANEL DE CONTROL DISTRITAL'!D21 -> Credenciales disponibles para entrega = | E22: ='PANEL DE CONTROL DISTRITAL'!E21 -> (Credenciales en resguardo / Credenciales totales en SIIRFE disponibles para entrega) x 100 | F22: ='PANEL DE CONTROL DISTRITAL'!F21 -> Semanal (remesa) | G22: ='PANEL DE CONTROL DISTRITAL'!G21 -> 1 | H22: ='PANEL DE CONTROL DISTRITAL'!H21 -> Credenciales en resguardo | I22: 4125 | J22: 3616 | K22: 3616 | L22: 3616 | M22: 2948 | N22: 3301 | O22: 3577 | P22: 3904 | Q22: 3438 | R22: 3635 | S22: 3894 | T22: 3845 | U22: 3718 | V22: 2324 | W22: 2381 | X22: 4348 | Y22: 4177 | Z22: 3552 | AA22: 3332 | AB22: 4936 | AC22: 4523 | AD22: 3895 | AE22: 3606 | AF22: 3824 | AG22: 3950 | AH22: 4002 | AI22: 3654 | AJ22: 4100 | AK22: 4149 | AL22: 2619 | AM22: 1776 | AN22: 1423 | AO22: 5954 | AP22: 4747 | AQ22: 4560 | AR22: 4258 | AS22: 4326 | AT22: 4267 | AU22: 4456 | AV22: =IFERROR(SUM(I22:AU22)/SUM(I23:AU23),0) -> 1
H23: ='PANEL DE CONTROL DISTRITAL'!H22 -> Credenciales totales en SIIRFE disponibles para entrega | I23: 4125 | J23: 3616 | K23: 3616 | L23: 3616 | M23: 2948 | N23: 3301 | O23: 3577 | P23: 3904 | Q23: 3438 | R23: 3635 | S23: 3894 | T23: 3845 | U23: 3718 | V23: 2324 | W23: 2381 | X23: 4348 | Y23: 4177 | Z23: 3552 | AA23: 3332 | AB23: 4936 | AC23: 4523 | AD23: 3895 | AE23: 3606 | AF23: 3824 | AG23: 3950 | AH23: 4002 | AI23: 3654 | AJ23: 4100 | AK23: 4149 | AL23: 2619 | AM23: 1776 | AN23: 1423 | AO23: 5954 | AP23: 4747 | AQ23: 4560 | AR23: 4258 | AS23: 4326 | AT23: 4267 | AU23: 4456
A25: ='PANEL DE CONTROL DISTRITAL'!A24 -> 6 | B25: ='PANEL DE CONTROL DISTRITAL'!B24 -> ENTREGA | C25: ='PANEL DE CONTROL DISTRITAL'!C24 -> Operador de Equipo Tecnológico | D25: ='PANEL DE CONTROL DISTRITAL'!D24 -> Efectividad de entrega de CPV en MAC = | E25: ='PANEL DE CONTROL DISTRITAL'!E24 -> (Total de credenciales entregadas / Total de credenciales solicitadas) x 100 | F25: ='PANEL DE CONTROL DISTRITAL'!F24 -> Semanal (remesa) | G25: ='PANEL DE CONTROL DISTRITAL'!G24 -> 0.9 | H25: ='PANEL DE CONTROL DISTRITAL'!H24 -> Total de credenciales entregadas | I25: 500 | J25: 2041 | K25: 0 | L25: 0 | M25: 1496 | N25: 1572 | O25: 1926 | P25: 1994 | Q25: 1929 | R25: 1811 | S25: 1745 | T25: 1945 | U25: 1953 | V25: 1754 | W25: 884 | X25: 1790 | Y25: 2138 | Z25: 1386 | AA25: 1949 | AB25: 1026 | AC25: 2335 | AD25: 1719 | AE25: 1957 | AF25: 1604 | AG25: 1739 | AH25: 1864 | AI25: 1903 | AJ25: 1960 | AK25: 1881 | AL25: 1901 | AM25: 843 | AN25: 353 | AO25: 1188 | AP25: 2989 | AQ25: 2893 | AR25: 2254 | AS25: 2010 | AT25: 2007 | AU25: 1440 | AV25: =IFERROR(SUM(I25:AU25)/SUM(I26:AU26),0) -> 0.99984541
H26: ='PANEL DE CONTROL DISTRITAL'!H25 -> Total de credenciales solicitadas | I26: 501 | J26: 2041 | K26: 0 | L26: 0 | M26: 1496 | N26: 1572 | O26: 1929 | P26: 1994 | Q26: 1929 | R26: 1811 | S26: 1745 | T26: 1945 | U26: 1953 | V26: 1754 | W26: 885 | X26: 1792 | Y26: 2138 | Z26: 1386 | AA26: 1949 | AB26: 1026 | AC26: 2336 | AD26: 1719 | AE26: 1958 | AF26: 1604 | AG26: 1739 | AH26: 1864 | AI26: 1903 | AJ26: 1960 | AK26: 1881 | AL26: 1901 | AM26: 843 | AN26: 353 | AO26: 1188 | AP26: 2989 | AQ26: 2893 | AR26: 2254 | AS26: 2010 | AT26: 2008 | AU26: 1440
B27: *Registre el valor nominal solicitado en la celda, el resultado proporcional esta automatizado.
I29: Semaforización
J30: Valor que requiere atención y justificación en el apartado de observaciones
J31: Valor suficiente
J32: Valor esperado
B34: CUADRO DE OBSERVACIONES
B35: Descripción | H35: No conformidad

Sheet 090351
A1: ='PANEL DE CONTROL DISTRITAL'!A1:Q1 -> INSTITUTO NACIONAL ELECTORAL SISTEMA DE GESTIÓN DE LA CALIDAD CIUDAD DE MÉXICO
D2: Distrito | E2: 3 | F2: Módulo | H2: 90351 | AS2: ='PANEL DE CONTROL DISTRITAL'!M2 -> Fecha de corte 31/08/2023
A4: TABLERO DE CONTROL DE PROCESOS SUSTANTIVOS DEL SISTEMA DE GESTIÓN DE LA CALIDAD
A6: ='PANEL DE CONTROL DISTRITAL'!A6 -> Número | B6: ='PANEL DE CONTROL DISTRITAL'!B6 -> PROCESOS SUSTANTIVOS E INDICADORES | I6: SEMANA OPERATIVA | AV6: % AVANCE REGISTRADO
B7: ='PANEL DE CONTROL DISTRITAL'!B7 -> DESCRIPCIÓN | E7: ='PANEL DE CONTROL DISTRITAL'!E7 -> MEDICIÓN | I7: ='PANEL DE CONTROL DISTRITAL'!A5 -> CAMPAÑA ANUAL PERMANENTE 2022-2023
B9: ='PANEL DE CONTROL DISTRITAL'!B8 -> Proceso | C9: ='PANEL DE CONTROL DISTRITAL'!C8 -> Dueño de Proceso | D9: ='PANEL DE CONTROL DISTRITAL'!D8 -> Indicador | E9: ='PANEL DE CONTROL DISTRITAL'!E8 -> Cálculo | F9: ='PANEL DE CONTROL DISTRITAL'!F8 -> Periodo | G9: ='PANEL DE CONTROL DISTRITAL'!G8 -> Estimado | H9: ='PANEL DE CONTROL DISTRITAL'!H8 -> Nominativo | I9: ='090151'!I9 -> 2022-53 | J9: ='090151'!J9 -> 2022-54 | K9: ='090151'!K9 -> 2022-55 | L9: ='090151'!L9 -> 2023-01 | M9: ='090151'!M9 -> 2023-02 | N9: ='090151'!N9 -> 2023-03 | O9: ='090151'!O9 -> 2023-04 | P9: ='090151'!P9 -> 2023-05 | ... AU9: ='090151'!AU9 -> 2023-36
A10: ='PANEL DE CONTROL DISTRITAL'!A9 -> 1 | B10: ='PANEL DE CONTROL DISTRITAL'!B9 -> ENTREVISTA | C10: ='PANEL DE CONTROL DISTRITAL'!C9 -> Auxiliar de Atención Ciudadana | D10: ='PANEL DE CONTROL DISTRITAL'!D9 -> Efectividad de la entrevista = | E10: ='PANEL DE CONTROL DISTRITAL'!E9 -> (Número de trámites aplicados / (Número de fichas requisitadas - Notificaciones de improcedencia de trámite)) x 100 | F10: ='PANEL DE CONTROL DISTRITAL'!F9 -> Semanal (remesa) | G10: ='PANEL DE CONTROL DISTRITAL'!G9 -> 0.9 | H10: ='PANEL DE CONTROL DISTRITAL'!H9 -> Número de trámites aplicados | I10: 231 | J10: 946 | K10: 0 | L10: 0 | M10: 832 | N10: 1038 | O10: 1129 | P10: 1115 | Q10: 1073 | R10: 891 | S10: 1043 | T10: 1046 | U10: 968 | V10: 931 | W10: 980 | X10: 832 | Y10: 1071 | Z10: 687 | AA10: 1028 | AB10: 995 | AC10: 930 | AD10: 544 | AE10: 793 | AF10: 1012 | AG10: 1037 | AH10: 976 | AI10: 970 | AJ10: 931 | AK10: 899 | AL10: 874 | AM10: 802 | AN10: 1047 | AO10: 1050 | AP10: 1025 | AQ10: 1040 | AR10: 1023 | AS10: 1017 | AT10: 1027 | AU10: 678 | AV10: =IFERROR(SUM(I10:AU10)/SUM(I11:AU11),0) -> 0.95121413
H11: ='PANEL DE CONTROL DISTRITAL'!H10 -> Número de fichas requisitadas - Notificaciones de improcedencia de trámite | I11: 246 | J11: 1121 | K11: 0 | L11: 0 | M11: 901 | N11: 1127 | O11: 1204 | P11: 1188 | Q11: 1151 | R11: 941 | S11: 1121 | T11: 1130 | U11: 1044 | V11: 1002 | W11: 1044 | X11: 883 | Y11: 1143 | Z11: 724 | AA11: 1079 | AB11: 1037 | AC11: 969 | AD11: 553 | AE11: 812 | AF11: 1051 | AG11: 1064 | AH11: 1016 | AI11: 1001 | AJ11: 961 | AK11: 926 | AL11: 837 | AM11: 838 | AN11: 1076 | AO11: 1118 | AP11: 1059 | AQ11: 1064 | AR11: 1048 | AS11: 1048 | AT11: 1057 | AU11: 697
A13: ='PANEL DE CONTROL DISTRITAL'!A12 -> 2 | B13: ='PANEL DE CONTROL DISTRITAL'!B12 -> TRÁMITE | C13: ='PANEL DE CONTROL DISTRITAL'!C12 -> Operador de Equipo Tecnológico | D13: ='PANEL DE CONTROL DISTRITAL'!D12 -> Trámites exitosos efectivos= | E13: ='PANEL DE CONTROL DISTRITAL'!E12 -> (Número de trámites exitosos / Número de trámites aplicados) x 100 | F13: ='PANEL DE CONTROL DISTRITAL'!F12 -> Semanal (remesa) | G13: ='PANEL DE CONTROL DISTRITAL'!G12 -> 0.9 | H13: ='PANEL DE CONTROL DISTRITAL'!H12 -> Número de trámites exitosos | I13: 228 | J13: 942 | K13: 0 | L13: 0 | M13: 832 | N13: 1036 | O13: 1125 | P13: 1112 | Q13: 1072 | R13: 890 | S13: 1042 | T13: 1040 | U13: 962 | V13: 930 | W13: 980 | X13: 831 | Y13: 1070 | Z13: 687 | AA13: 1023 | AB13: 994 | AC13: 929 | AD13: 544 | AE13: 793 | AF13: 1008 | AG13: 1037 | AH13: 972 | AI13: 968 | AJ13: 929 | AK13: 896 | AL13: 871 | AM13: 797 | AN13: 1043 | AO13: 1049 | AP13: 1019 | AQ13: 1035 | AR13: 1021 | AS13: 1007 | AT13: 1022 | AU13: 673 | AV13: =IFERROR(SUM(I13:AU13)/SUM(I14:AU14),0) -> 0.99704442
H14: ='PANEL DE CONTROL DISTRITAL'!H13 -> Número de trámites aplicados | I14: 231 | J14: 946 | K14: 0 | L14: 0 | M14: 832 | N14: 1038 | O14: 1129 | P14: 1115 | Q14: 1073 | R14: 891 | S14: 1043 | T14: 1046 | U14: 968 | V14: 931 | W14: 980 | X14: 832 | Y14: 1071 | Z14: 687 | AA14: 1028 | AB14: 995 | AC14: 930 | AD14: 544 | AE14: 793 | AF14: 1012 | AG14: 1037 | AH14: 976 | AI14: 970 | AJ14: 931 | AK14: 899 | AL14: 874 | AM14: 802 | AN14: 1047 | AO14: 1050 | AP14: 1025 | AQ14: 1040 | AR14: 1023 | AS14: 1017 | AT14: 1027 | AU14: 678
A16: ='PANEL DE CONTROL DISTRITAL'!A15 -> 3 | B16: ='PANEL DE CONTROL DISTRITAL'!B15 -> TRANSFERENCIA | C16: ='PANEL DE CONTROL DISTRITAL'!C15 -> Responsable de Módulo | D16: ='PANEL DE CONTROL DISTRITAL'!D15 -> Transacciones exitosas = | E16: ='PANEL DE CONTROL DISTRITAL'!E15 -> (Número de Archivos de Transacción aceptados /Total de Archivos de Transacción procesados) x100 | F16: ='PANEL DE CONTROL DISTRITAL'!F15 -> Semanal (remesa) | G16: ='PANEL DE CONTROL DISTRITAL'!G15 -> 0.9 | H16: ='PANEL DE CONTROL DISTRITAL'!H15 -> Número de Archivos de Transacción aceptados | I16: 231 | J16: 946 | K16: 0 | L16: 0 | M16: 832 | N16: 1038 | O16: 1129 | P16: 1115 | Q16: 1073 | R16: 891 | S16: 1043 | T16: 1046 | U16: 968 | V16: 931 | W16: 980 | X16: 832 | Y16: 1071 | Z16: 687 | AA16: 1028 | AB16: 995 | AC16: 930 | AD16: 544 | AE16: 793 | AF16: 1012 | AG16: 1037 | AH16: 976 | AI16: 970 | AJ16: 931 | AK16: 899 | AL16: 874 | AM16: 802 | AN16: 1047 | AO16: 1050 | AP16: 1025 | AQ16: 1040 | AR16: 1023 | AS16: 1017 | AT16: 1027 | AU16: 678 | AV16: =IFERROR(SUM(I16:AU16)/SUM(I17:AU17),0) -> 1
H17: ='PANEL DE CONTROL DISTRITAL'!H16 -> Total de Archivos de Transacción procesados | I17: 231 | J17: 946 | K17: 0 | L17: 0 | M17: 832 | N17: 1038 | O17: 1129 | P17: 1115 | Q17: 1073 | R17: 891 | S17: 1043 | T17: 1046 | U17: 968 | V17: 931 | W17: 980 | X17: 832 | Y17: 1071 | Z17: 687 | AA17: 1028 | AB17: 995 | AC17: 930 | AD17: 544 | AE17: 793 | AF17: 1012 | AG17: 1037 | AH17: 976 | AI17: 970 | AJ17: 931 | AK17: 899 | AL17: 874 | AM17: 802 | AN17: 1047 | AO17: 1050 | AP17: 1025 | AQ17: 1040 | AR17: 1023 | AS17: 1017 | AT17: 1027 | AU17: 678
A19: ='PANEL DE CONTROL DISTRITAL'!A18 -> 4 | B19: ='PANEL DE CONTROL DISTRITAL'!B18 -> CONCILIACIÓN | C19: ='PANEL DE CONTROL DISTRITAL'!C18 -> Responsable de Módulo | D19: ='PANEL DE CONTROL DISTRITAL'!D18 -> Credenciales disponibles para entrega = | E19: ='PANEL DE CONTROL DISTRITAL'!E18 -> ((Credenciales recibidas - Credenciales inconsistentes) / Credenciales recibidas) x 100 | F19: ='PANEL DE CONTROL DISTRITAL'!F18 -> Semanal (remesa) | G19: ='PANEL DE CONTROL DISTRITAL'!G18 -> 0.9 | H19: ='PANEL DE CONTROL DISTRITAL'!H18 -> Credenciales Recibidas - Credenciales inconsistentes | I19: 239 | J19: 845 | K19: 0 | L19: 0 | M19: 424 | N19: 993 | O19: 1338 | P19: 1296 | Q19: 792 | R19: 1175 | S19: 1052 | T19: 1003 | U19: 1032 | V19: 176 | W19: 467 | X19: 1931 | Y19: 1154 | Z19: 389 | AA19: 916 | AB19: 1357 | AC19: 957 | AD19: 544 | AE19: 795 | AF19: 948 | AG19: 1025 | AH19: 1004 | AI19: 876 | AJ19: 1215 | AK19: 933 | AL19: 179 | AM19: 0 | AN19: 0 | AO19: 3007 | AP19: 1044 | AQ19: 1438 | AR19: 1070 | AS19: 1025 | AT19: 1047 | AU19: 751 | AV19: =IFERROR(SUM(I19:AU19)/SUM(I20:AU20),0) -> 0.99991289
H20: ='PANEL DE CONTROL DISTRITAL'!H19 -> Credenciales recibidas | I20: 239 | J20: 845 | K20: 0 | L20: 0 | M20: 424 | N20: 993 | O20: 1338 | P20: 1296 | Q20: 792 | R20: 1175 | S20: 1052 | T20: 1003 | U20: 1032 | V20: 176 | W20: 467 | X20: 1931 | Y20: 1154 | Z20: 389 | AA20: 916 | AB20: 1357 | AC20: 957 | AD20: 544 | AE20: 796 | AF20: 949 | AG20: 1026 | AH20: 1004 | AI20: 876 | AJ20: 1215 | AK20: 933 | AL20: 179 | AM20: 0 | AN20: 0 | AO20: 3007 | AP20: 1044 | AQ20: 1438 | AR20: 1070 | AS20: 1025 | AT20: 1047 | AU20: 751
A22: ='PANEL DE CONTROL DISTRITAL'!A21 -> 5 | B22: ='PANEL DE CONTROL DISTRITAL'!B21 -> CONCILIACIÓN | C22: ='PANEL DE CONTROL DISTRITAL'!C21 -> Responsable de Módulo | D22: ='PANEL DE CONTROL DISTRITAL'!D21 -> Credenciales disponibles para entrega = | E22: ='PANEL DE CONTROL DISTRITAL'!E21 -> (Credenciales en resguardo / Credenciales totales en SIIRFE disponibles para entrega) x 100 | F22: ='PANEL DE CONTROL DISTRITAL'!F21 -> Semanal (remesa) | G22: ='PANEL DE CONTROL DISTRITAL'!G21 -> 1 | H22: ='PANEL DE CONTROL DISTRITAL'!H21 -> Credenciales en resguardo | I22: 2321 | J22: 1963 | K22: 1963 | L22: 1963 | M22: 1645 | N22: 1843 | O22: 2270 | P22: 2610 | Q22: 2214 | R22: 2188 | S22: 2155 | T22: 2039 | U22: 2000 | V22: 1212 | W22: 1221 | X22: 2295 | Y22: 2460 | Z22: 2139 | AA22: 2016 | AB22: 2670 | AC22: 2441 | AD22: 2119 | AE22: 1912 | AF22: 2045 | AG22: 2241 | AH22: 2206 | AI22: 2075 | AJ22: 2266 | AK22: 2174 | AL22: 1435 | AM22: 1073 | AN22: 873 | AO22: 3422 | AP22: 3252 | AQ22: 3115 | AR22: 2580 | AS22: 2408 | AT22: 2354 | AU22: 2308 | AV22: =IFERROR(SUM(I22:AU22)/SUM(I23:AU23),0) -> 1
H23: ='PANEL DE CONTROL DISTRITAL'!H22 -> Credenciales totales en SIIRFE disponibles para entrega | I23: 2321 | J23: 1963 | K23: 1963 | L23: 1963 | M23: 1645 | N23: 1843 | O23: 2270 | P23: 2610 | Q23: 2214 | R23: 2188 | S23: 2155 | T23: 2039 | U23: 2000 | V23: 1212 | W23: 1221 | X23: 2295 | Y23: 2460 | Z23: 2139 | AA23: 2016 | AB23: 2670 | AC23: 2441 | AD23: 2119 | AE23: 1912 | AF23: 2045 | AG23: 2241 | AH23: 2206 | AI23: 2075 | AJ23: 2266 | AK23: 2174 | AL23: 1435 | AM23: 1073 | AN23: 873 | AO23: 3422 | AP23: 3252 | AQ23: 3115 | AR23: 2580 | AS23: 2408 | AT23: 2354 | AU23: 2308
A25: ='PANEL DE CONTROL DISTRITAL'!A24 -> 6 | B25: ='PANEL DE CONTROL DISTRITAL'!B24 -> ENTREGA | C25: ='PANEL DE CONTROL DISTRITAL'!C24 -> Operador de Equipo Tecnológico | D25: ='PANEL DE CONTROL DISTRITAL'!D24 -> Efectividad de entrega de CPV en MAC = | E25: ='PANEL DE CONTROL DISTRITAL'!E24 -> (Total de credenciales entregadas / Total de credenciales solicitadas) x 100 | F25: ='PANEL DE CONTROL DISTRITAL'!F24 -> Semanal (remesa) | G25: ='PANEL DE CONTROL DISTRITAL'!G24 -> 0.9 | H25: ='PANEL DE CONTROL DISTRITAL'!H24 -> Total de credenciales entregadas | I25: 238 | J25: 1203 | K25: 0 | L25: 0 | M25: 742 | N25: 795 | O25: 911 | P25: 956 | Q25: 1188 | R25: 1201 | S25: 1063 | T25: 1119 | U25: 1046 | V25: 964 | W25: 454 | X25: 857 | Y25: 989 | Z25: 700 | AA25: 1039 | AB25: 703 | AC25: 1186 | AD25: 866 | AE25: 993 | AF25: 815 | AG25: 829 | AH25: 1039 | AI25: 1000 | AJ25: 1024 | AK25: 1025 | AL25: 918 | AM25: 362 | AN25: 200 | AO25: 458 | AP25: 1204 | AQ25: 1575 | AR25: 1605 | AS25: 1197 | AT25: 1101 | AU25: 797 | AV25: =IFERROR(SUM(I25:AU25)/SUM(I26:AU26),0) -> 1
H26: ='PANEL DE CONTROL DISTRITAL'!H25 -> Total de credenciales solicitadas | I26: 238 | J26: 1203 | K26: 0 | L26: 0 | M26: 742 | N26: 795 | O26: 911 | P26: 956 | Q26: 1188 | R26: 1201 | S26: 1063 | T26: 1119 | U26: 1046 | V26: 964 | W26: 454 | X26: 857 | Y26: 989 | Z26: 700 | AA26: 1039 | AB26: 703 | AC26: 1186 | AD26: 866 | AE26: 993 | AF26: 815 | AG26: 829 | AH26: 1039 | AI26: 1000 | AJ26: 1024 | AK26: 1025 | AL26: 918 | AM26: 362 | AN26: 200 | AO26: 458 | AP26: 1204 | AQ26: 1575 | AR26: 1605 | AS26: 1197 | AT26: 1101 | AU26: 797
B27: *Registre el valor nominal solicitado en la celda, el resultado proporcional esta automatizado.
I29: Semaforización
J30: Valor que requiere atención y justificación en el apartado de observaciones
J31: Valor suficiente
J32: Valor esperado
B34: CUADRO DE OBSERVACIONES
B35: Descripción | H35: No conformidad

Sheet 090451
A1: ='PANEL DE CONTROL DISTRITAL'!A1:Q1 -> INSTITUTO NACIONAL ELECTORAL SISTEMA DE GESTIÓN DE LA CALIDAD CIUDAD DE MÉXICO
D2: Distrito | E2: 4 | F2: Módulo | H2: 90451 | AS2: ='PANEL DE CONTROL DISTRITAL'!M2 -> Fecha de corte 31/08/2023
A4: TABLERO DE CONTROL DE PROCESOS SUSTANTIVOS DEL SISTEMA DE GESTIÓN DE LA CALIDAD
A6: ='PANEL DE CONTROL DISTRITAL'!A6 -> Número | B6: ='PANEL DE CONTROL DISTRITAL'!B6 -> PROCESOS SUSTANTIVOS E INDICADORES | I6: SEMANA OPERATIVA | AV6: % AVANCE REGISTRADO
B7: ='PANEL DE CONTROL DISTRITAL'!B7 -> DESCRIPCIÓN | E7: ='PANEL DE CONTROL DISTRITAL'!E7 -> MEDICIÓN | I7: ='PANEL DE CONTROL DISTRITAL'!A5 -> CAMPAÑA ANUAL PERMANENTE 2022-2023
B9: ='PANEL DE CONTROL DISTRITAL'!B8 -> Proceso | C9: ='PANEL DE CONTROL DISTRITAL'!C8 -> Dueño de Proceso | D9: ='PANEL DE CONTROL DISTRITAL'!D8 -> Indicador | E9: ='PANEL DE CONTROL DISTRITAL'!E8 -> Cálculo | F9: ='PANEL DE CONTROL DISTRITAL'!F8 -> Periodo | G9: ='PANEL DE CONTROL DISTRITAL'!G8 -> Estimado | H9: ='PANEL DE CONTROL DISTRITAL'!H8 -> Nominativo | I9: ='090151'!I9 -> 2022-53 | J9: ='090151'!J9 -> 2022-54 | K9: ='090151'!K9 -> 2022-55 | L9: ='090151'!L9 -> 2023-01 | M9: ='090151'!M9 -> 2023-02 | N9: ='090151'!N9 -> 2023-03 | O9: ='090151'!O9 -> 2023-04 | P9: ='090151'!P9 -> 2023-05 | ... AU9: ='090151'!AU9 -> 2023-36
A10: ='PANEL DE CONTROL DISTRITAL'!A9 -> 1 | B10: ='PANEL DE CONTROL DISTRITAL'!B9 -> ENTREVISTA | C10: ='PANEL DE CONTROL DISTRITAL'!C9 -> Auxiliar de Atención Ciudadana | D10: ='PANEL DE CONTROL DISTRITAL'!D9 -> Efectividad de la entrevista = | E10: ='PANEL DE CONTROL DISTRITAL'!E9 -> (Número de trámites aplicados / (Número de fichas requisitadas - Notificaciones de improcedencia de trámite)) x 100 | F10: ='PANEL DE CONTROL DISTRITAL'!F9 -> Semanal (remesa) | G10: ='PANEL DE CONTROL DISTRITAL'!G9 -> 0.9 | H10: ='PANEL DE CONTROL DISTRITAL'!H9 -> Número de trámites aplicados | I10: 385 | J10: 1498 | K10: 0 | L10: 0 | M10: 1451 | N10: 2325 | O10: 2158 | P10: 2190 | Q10: 2068 | R10: 1700 | S10: 1961 | T10: 2070 | U10: 1981 | V10: 1704 | W10: 1906 | X10: 1589 | Y10: 1898 | Z10: 1399 | AA10: 2001 | AB10: 1770 | AC10: 1630 | AD10: 1021 | AE10: 1464 | AF10: 1666 | AG10: 1484 | AH10: 1457 | AI10: 1396 | AJ10: 1319 | AK10: 1237 | AL10: 1291 | AM10: 1240 | AN10: 1667 | AO10: 1673 | AP10: 1780 | AQ10: 1947 | AR10: 1959 | AS10: 1792 | AT10: 1832 | AU10: 1473 | AV10: =IFERROR(SUM(I10:AU10)/SUM(I11:AU11),0) -> 0.95603146
H11: ='PANEL DE CONTROL DISTRITAL'!H10 -> Número de fichas requisitadas - Notificaciones de improcedencia de trámite | I11: 426 | J11: 1549 | K11: 0 | L11: 0 | M11: 1503 | N11: 2430 | O11: 2244 | P11: 2288 | Q11: 2158 | R11: 1757 | S11: 2041 | T11: 2144 | U11: 2077 | V11: 1767 | W11: 2003 | X11: 1642 | Y11: 1980 | Z11: 1462 | AA11: 2082 | AB11: 1837 | AC11: 1700 | AD11: 1053 | AE11: 1518 | AF11: 1757 | AG11: 1550 | AH11: 1517 | AI11: 1448 | AJ11: 1366 | AK11: 1285 | AL11: 1342 | AM11: 1298 | AN11: 1755 | AO11: 1741 | AP11: 1879 | AQ11: 2080 | AR11: 2072 | AS11: 1941 | AT11: 1946 | AU11: 1567
A13: ='PANEL DE CONTROL DISTRITAL'!A12 -> 2 | B13: ='PANEL DE CONTROL DISTRITAL'!B12 -> TRÁMITE | C13: ='PANEL DE CONTROL DISTRITAL'!C12 -> Operador de Equipo Tecnológico | D13: ='PANEL DE CONTROL DISTRITAL'!D12 -> Trámites exitosos efectivos= | E13: ='PANEL DE CONTROL DISTRITAL'!E12 -> (Número de trámites exitosos / Número de trámites aplicados) x 100 | F13: ='PANEL DE CONTROL DISTRITAL'!F12 -> Semanal (remesa) | G13: ='PANEL DE CONTROL DISTRITAL'!G12 -> 0.9 | H13: ='PANEL DE CONTROL DISTRITAL'!H12 -> Número de trámites exitosos | I13: 385 | J13: 1496 | K13: 0 | L13: 0 | M13: 1447 | N13: 2322 | O13: 2156 | P13: 2189 | Q13: 2063 | R13: 1700 | S13: 1955 | T13: 2066 | U13: 1976 | V13: 1703 | W13: 1903 | X13: 1584 | Y13: 1895 | Z13: 1399 | AA13: 1998 | AB13: 1770 | AC13: 1628 | AD13: 1021 | AE13: 1462 | AF13: 1664 | AG13: 1483 | AH13: 1454 | AI13: 1393 | AJ13: 1317 | AK13: 1235 | AL13: 1286 | AM13: 1236 | AN13: 1662 | AO13: 1671 | AP13: 1777 | AQ13: 1943 | AR13: 1955 | AS13: 1792 | AT13: 1829 | AU13: 1470 | AV13: =IFERROR(SUM(I13:AU13)/SUM(I14:AU14),0) -> 0.99841973
H14: ='PANEL DE CONTROL DISTRITAL'!H13 -> Número de trámites aplicados | I14: 385 | J14: 1498 | K14: 0 | L14: 0 | M14: 1451 | N14: 2325 | O14: 2158 | P14: 2190 | Q14: 2068 | R14: 1700 | S14: 1961 | T14: 2070 | U14: 1981 | V14: 1704 | W14: 1906 | X14: 1589 | Y14: 1898 | Z14: 1399 | AA14: 2001 | AB14: 1770 | AC14: 1630 | AD14: 1021 | AE14: 1464 | AF14: 1666 | AG14: 1484 | AH14: 1457 | AI14: 1396 | AJ14: 1319 | AK14: 1237 | AL14: 1291 | AM14: 1240 | AN14: 1667 | AO14: 1673 | AP14: 1780 | AQ14: 1947 | AR14: 1959 | AS14: 1792 | AT14: 1832 | AU14: 1473
A16: ='PANEL DE CONTROL DISTRITAL'!A15 -> 3 | B16: ='PANEL DE CONTROL DISTRITAL'!B15 -> TRANSFERENCIA | C16: ='PANEL DE CONTROL DISTRITAL'!C15 -> Responsable de Módulo | D16: ='PANEL DE CONTROL DISTRITAL'!D15 -> Transacciones exitosas = | E16: ='PANEL DE CONTROL DISTRITAL'!E15 -> (Número de Archivos de Transacción aceptados /Total de Archivos de Transacción procesados) x100 | F16: ='PANEL DE CONTROL DISTRITAL'!F15 -> Semanal (remesa) | G16: ='PANEL DE CONTROL DISTRITAL'!G15 -> 0.9 | H16: ='PANEL DE CONTROL DISTRITAL'!H15 -> Número de Archivos de Transacción aceptados | I16: 385 | J16: 1498 | K16: 0 | L16: 0 | M16: 1451 | N16: 2325 | O16: 2158 | P16: 2190 | Q16: 2068 | R16: 1700 | S16: 1961 | T16: 2070 | U16: 1981 | V16: 1704 | W16: 1906 | X16: 1589 | Y16: 1898 | Z16: 1399 | AA16: 2001 | AB16: 1770 | AC16: 1630 | AD16: 1021 | AE16: 1464 | AF16: 1666 | AG16: 1484 | AH16: 1457 | AI16: 1396 | AJ16: 1319 | AK16: 1237 | AL16: 1395 | AM16: 1240 | AN16: 1667 | AO16: 1673 | AP16: 1780 | AQ16: 1947 | AR16: 1959 | AS16: 1792 | AT16: 1832 | AU16: 1473 | AV16: =IFERROR(SUM(I16:AU16)/SUM(I17:AU17),0) -> 1
H17: ='PANEL DE CONTROL DISTRITAL'!H16 -> Total de Archivos de Transacción procesados | I17: 385 | J17: 1498 | K17: 0 | L17: 0 | M17: 1451 | N17: 2325 | O17: 2158 | P17: 2190 | Q17: 2068 | R17: 1700 | S17: 1961 | T17: 2070 | U17: 1981 | V17: 1704 | W17: 1906 | X17: 1589 | Y17: 1898 | Z17: 1399 | AA17: 2001 | AB17: 1770 | AC17: 1630 | AD17: 1021 | AE17: 1464 | AF17: 1666 | AG17: 1484 | AH17: 1457 | AI17: 1396 | AJ17: 1319 | AK17: 1237 | AL17: 1395 | AM17: 1240 | AN17: 1667 | AO17: 1673 | AP17: 1780 | AQ17: 1947 | AR17: 1959 | AS17: 1792 | AT17: 1832 | AU17: 1473
A19: ='PANEL DE CONTROL DISTRITAL'!A18 -> 4 | B19: ='PANEL DE CONTROL DISTRITAL'!B18 -> CONCILIACIÓN | C19: ='PANEL DE CONTROL DISTRITAL'!C18 -> Responsable de Módulo | D19: ='PANEL DE CONTROL DISTRITAL'!D18 -> Credenciales disponibles para entrega = | E19: ='PANEL DE CONTROL DISTRITAL'!E18 -> ((Credenciales recibidas - Credenciales inconsistentes) / Credenciales recibidas) x 100 | F19: ='PANEL DE CONTROL DISTRITAL'!F18 -> Semanal (remesa) | G19: ='PANEL DE CONTROL DISTRITAL'!G18 -> 0.9 | H19: ='PANEL DE CONTROL DISTRITAL'!H18 -> Credenciales Recibidas - Credenciales inconsistentes | I19: 626 | J19: 1332 | K19: 0 | L19: 0 | M19: 671 | N19: 1781 | O19: 2826 | P19: 2556 | Q19: 1671 | R19: 2147 | S19: 2073 | T19: 1973 | U19: 2054 | V19: 391 | W19: 964 | X19: 3672 | Y19: 2080 | Z19: 1039 | AA19: 1545 | AB19: 2657 | AC19: 1655 | AD19: 965 | AE19: 1561 | AF19: 1709 | AG19: 1522 | AH19: 1487 | AI19: 1067 | AJ19: 1714 | AK19: 1250 | AL19: 224 | AM19: 0 | AN19: 0 | AO19: 4605 | AP19: 1702 | AQ19: 2578 | AR19: 1983 | AS19: 1867 | AT19: 1873 | AU19: 852 | AV19: =IFERROR(SUM(I19:AU19)/SUM(I20:AU20),0) -> 0.99886403
H20: ='PANEL DE CONTROL DISTRITAL'!H19 -> Credenciales recibidas | I20: 626 | J20: 1332 | K20: 0 | L20: 0 | M20: 671 | N20: 1781 | O20: 2826 | P20: 2556 | Q20: 1739 | R20: 2148 | S20: 2073 | T20: 1973 | U20: 2054 | V20: 391 | W20: 964 | X20: 3672 | Y20: 2080 | Z20: 1039 | AA20: 1545 | AB20: 2657 | AC20: 1655 | AD20: 965 | AE20: 1561 | AF20: 1709 | AG20: 1522 | AH20: 1487 | AI20: 1067 | AJ20: 1714 | AK20: 1250 | AL20: 224 | AM20: 0 | AN20: 0 | AO20: 4605 | AP20: 1702 | AQ20: 2578 | AR20: 1983 | AS20: 1867 | AT20: 1873 | AU20: 852
A22: ='PANEL DE CONTROL DISTRITAL'!A21 -> 5 | B22: ='PANEL DE CONTROL DISTRITAL'!B21 -> CONCILIACIÓN | C22: ='PANEL DE CONTROL DISTRITAL'!C21 -> Responsable de Módulo | D22: ='PANEL DE CONTROL DISTRITAL'!D21 -> Credenciales disponibles para entrega = | E22: ='PANEL DE CONTROL DISTRITAL'!E21 -> (Credenciales en resguardo / Credenciales totales en SIIRFE disponibles para entrega) x 100 | F22: ='PANEL DE CONTROL DISTRITAL'!F21 -> Semanal (remesa) | G22: ='PANEL DE CONTROL DISTRITAL'!G21 -> 1 | H22: ='PANEL DE CONTROL DISTRITAL'!H21 -> Credenciales en resguardo | I22: 3402 | J22: 3012 | K22: 3012 | L22: 3012 | M22: 3310 | N22: 4063 | O22: 4187 | P22: 4114 | Q22: 3627 | R22: 3671 | S22: 3862 | T22: 3814 | U22: 3778 | V22: 2178 | W22: 2339 | X22: 4450 | Y22: 4564 | Z22: 4016 | AA22: 3821 | AB22: 5359 | AC22: 4791 | AD22: 3930 | AE22: 3516 | AF22: 3657 | AG22: 3530 | AH22: 3371 | AI22: 2967 | AJ22: 3228 | AK22: 3068 | AL22: 1966 | AM22: 1459 | AN22: 1294 | AO22: 4163 | AP22: 3218 | AQ22: 3792 | AR22: 3865 | AS22: 3732 | AT22: 3695 | AU22: 3183 | AV22: =IFERROR(SUM(I22:AU22)/SUM(I23:AU23),0) -> 1
H23: ='PANEL DE CONTROL DISTRITAL'!H22 -> Credenciales totales en SIIRFE disponibles para entrega | I23: 3402 | J23: 3012 | K23: 3012 | L23: 3012 | M23: 3310 | N23: 4063 | O23: 4187 | P23: 4114 | Q23: 3627 | R23: 3671 | S23: 3862 | T23: 3814 | U23: 3778 | V23: 2178 | W23: 2339 | X23: 4450 | Y23: 4564 | Z23: 4016 | AA23: 3821 | AB23: 5359 | AC23: 4791 | AD23: 3930 | AE23: 3516 | AF23: 3657 | AG23: 3530 | AH23: 3371 | AI23: 2967 | AJ23: 3228 | AK23: 3068 | AL23: 1966 | AM23: 1459 | AN23: 1294 | AO23: 4163 | AP23: 3218 | AQ23: 3792 | AR23: 3865 | AS23: 3732 | AT23: 3695 | AU23: 3183
A25: ='PANEL DE CONTROL DISTRITAL'!A24 -> 6 | B25: ='PANEL DE CONTROL DISTRITAL'!B24 -> ENTREGA | C25: ='PANEL DE CONTROL DISTRITAL'!C24 -> Operador de Equipo Tecnológico | D25: ='PANEL DE CONTROL DISTRITAL'!D24 -> Efectividad de entrega de CPV en MAC = | E25: ='PANEL DE CONTROL DISTRITAL'!E24 -> (Total de credenciales entregadas / Total de credenciales solicitadas) x 100 | F25: ='PANEL DE CONTROL DISTRITAL'!F24 -> Semanal (remesa) | G25: ='PANEL DE CONTROL DISTRITAL'!G24 -> 0.9 | H25: ='PANEL DE CONTROL DISTRITAL'!H24 -> Total de credenciales entregadas | I25: 532 | J25: 1722 | K25: 0 | L25: 0 | M25: 373 | N25: 1028 | O25: 2702 | P25: 2629 | Q25: 2094 | R25: 2098 | S25: 1849 | T25: 2021 | U25: 2014 | V25: 1991 | W25: 782 | X25: 1561 | Y25: 1966 | Z25: 1572 | AA25: 1740 | AB25: 1119 | AC25: 2223 | AD25: 1826 | AE25: 1956 | AF25: 1568 | AG25: 1649 | AH25: 1646 | AI25: 1459 | AJ25: 1453 | AK25: 1410 | AL25: 1326 | AM25: 507 | AN25: 165 | AO25: 1736 | AP25: 2621 | AQ25: 2004 | AR25: 1910 | AS25: 2000 | AT25: 1910 | AU25: 1364 | AV25: =IFERROR(SUM(I25:AU25)/SUM(I26:AU26),0) -> 1
H26: ='PANEL DE CONTROL DISTRITAL'!H25 -> Total de credenciales solicitadas | I26: 532 | J26: 1722 | K26: 0 | L26: 0 | M26: 373 | N26: 1028 | O26: 2702 | P26: 2629 | Q26: 2094 | R26: 2098 | S26: 1849 | T26: 2021 | U26: 2014 | V26: 1991 | W26: 782 | X26: 1561 | Y26: 1966 | Z26: 1572 | AA26: 1740 | AB26: 1119 | AC26: 2223 | AD26: 1826 | AE26: 1956 | AF26: 1568 | AG26: 1649 | AH26: 1646 | AI26: 1459 | AJ26: 1453 | AK26: 1410 | AL26: 1326 | AM26: 507 | AN26: 165 | AO26: 1736 | AP26: 2621 | AQ26: 2004 | AR26: 1910 | AS26: 2000 | AT26: 1910 | AU26: 1364
B27: *Registre el valor nominal solicitado en la celda, el resultado proporcional esta automatizado.
I29: Semaforización
J30: Valor que requiere atención y justificación en el apartado de observaciones
J31: Valor suficiente
J32: Valor esperado
B34: CUADRO DE OBSERVACIONES
B35: Descripción | H35: No conformidad

Sheet 090551
A1: ='PANEL DE CONTROL DISTRITAL'!A1:Q1 -> INSTITUTO NACIONAL ELECTORAL SISTEMA DE GESTIÓN DE LA CALIDAD CIUDAD DE MÉXICO
D2: Distrito | E2: 5 | F2: Módulo | H2: 90551 | AS2: ='PANEL DE CONTROL DISTRITAL'!M2 -> Fecha de corte 31/08/2023
A4: TABLERO DE CONTROL DE PROCESOS SUSTANTIVOS DEL SISTEMA DE GESTIÓN DE LA CALIDAD
A6: ='PANEL DE CONTROL DISTRITAL'!A6 -> Número | B6: ='PANEL DE CONTROL DISTRITAL'!B6 -> PROCESOS SUSTANTIVOS E INDICADORES | I6: SEMANA OPERATIVA | AV6: % AVANCE REGISTRADO
B7: ='PANEL DE CONTROL DISTRITAL'!B7 -> DESCRIPCIÓN | E7: ='PANEL DE CONTROL DISTRITAL'!E7 -> MEDICIÓN | I7: ='PANEL DE CONTROL DISTRITAL'!A5 -> CAMPAÑA ANUAL PERMANENTE 2022-2023
B9: ='PANEL DE CONTROL DISTRITAL'!B8 -> Proceso | C9: ='PANEL DE CONTROL DISTRITAL'!C8 -> Dueño de Proceso | D9: ='PANEL DE CONTROL DISTRITAL'!D8 -> Indicador | E9: ='PANEL DE CONTROL DISTRITAL'!E8 -> Cálculo | F9: ='PANEL DE CONTROL DISTRITAL'!F8 -> Periodo | G9: ='PANEL DE CONTROL DISTRITAL'!G8 -> Estimado | H9: ='PANEL DE CONTROL DISTRITAL'!H8 -> Nominativo | I9: ='090151'!I9 -> 2022-53 | J9: ='090151'!J9 -> 2022-54 | K9: ='090151'!K9 -> 2022-55 | L9: ='090151'!L9 -> 2023-01 | M9: ='090151'!M9 -> 2023-02 | N9: ='090151'!N9 -> 2023-03 | O9: ='090151'!O9 -> 2023-04 | P9: ='090151'!P9 -> 2023-05 | ... AU9: ='090151'!AU9 -> 2023-36
A10: ='PANEL DE CONTROL DISTRITAL'!A9 -> 1 | B10: ='PANEL DE CONTROL DISTRITAL'!B9 -> ENTREVISTA | C10: ='PANEL DE CONTROL DISTRITAL'!C9 -> Auxiliar de Atención Ciudadana | D10: ='PANEL DE CONTROL DISTRITAL'!D9 -> Efectividad de la entrevista = | E10: ='PANEL DE CONTROL DISTRITAL'!E9 -> (Número de trámites aplicados / (Número de fichas requisitadas - Notificaciones de improcedencia de trámite)) x 100 | F10: ='PANEL DE CONTROL DISTRITAL'!F9 -> Semanal (remesa) | G10: ='PANEL DE CONTROL DISTRITAL'!G9 -> 0.9 | H10: ='PANEL DE CONTROL DISTRITAL'!H9 -> Número de trámites aplicados | I10: 200 | J10: 876 | K10: 0 | L10: 0 | M10: 754 | N10: 931 | O10: 1020 | P10: 1002 | Q10: 1059 | R10: 853 | S10: 1042 | T10: 1036 | U10: 1024 | V10: 946 | W10: 1011 | X10: 799 | Y10: 979 | Z10: 783 | AA10: 927 | AB10: 939 | AC10: 952 | AD10: 550 | AE10: 784 | AF10: 985 | AG10: 977 | AH10: 966 | AI10: 979 | AJ10: 961 | AK10: 899 | AL10: 899 | AM10: 890 | AN10: 713 | AO10: 933 | AP10: 896 | AQ10: 863 | AR10: 905 | AS10: 896 | AT10: 903 | AU10: 677 | AV10: =IFERROR(SUM(I10:AU10)/SUM(I11:AU11),0) -> 0.99569057
H11: ='PANEL DE CONTROL DISTRITAL'!H10 -> Número de fichas requisitadas - Notificaciones de improcedencia de trámite | I11: 200 | J11: 876 | K11: 0 | L11: 0 | M11: 754 | N11: 931 | O11: 1020 | P11: 1002 | Q11: 1059 | R11: 853 | S11: 1042 | T11: 1036 | U11: 1024 | V11: 946 | W11: 1011 | X11: 799 | Y11: 986 | Z11: 793 | AA11: 937 | AB11: 946 | AC11: 958 | AD11: 560 | AE11: 790 | AF11: 993 | AG11: 983 | AH11: 969 | AI11: 982 | AJ11: 967 | AK11: 925 | AL11: 907 | AM11: 894 | AN11: 713 | AO11: 934 | AP11: 900 | AQ11: 864 | AR11: 906 | AS11: 900 | AT11: 910 | AU11: 681
A13: ='PANEL DE CONTROL DISTRITAL'!A12 -> 2 | B13: ='PANEL DE CONTROL DISTRITAL'!B12 -> TRÁMITE | C13: ='PANEL DE CONTROL DISTRITAL'!C12 -> Operador de Equipo Tecnológico | D13: ='PANEL DE CONTROL DISTRITAL'!D12 -> Trámites exitosos efectivos= | E13: ='PANEL DE CONTROL DISTRITAL'!E12 -> (Número de trámites exitosos / Número de trámites aplicados) x 100 | F13: ='PANEL DE CONTROL DISTRITAL'!F12 -> Semanal (remesa) | G13: ='PANEL DE CONTROL DISTRITAL'!G12 -> 0.9 | H13: ='PANEL DE CONTROL DISTRITAL'!H12 -> Número de trámites exitosos | I13: 199 | J13: 874 | K13: 0 | L13: 0 | M13: 751 | N13: 931 | O13: 1020 | P13: 998 | Q13: 1055 | R13: 853 | S13: 1039 | T13: 1035 | U13: 1024 | V13: 945 | W13: 1009 | X13: 797 | Y13: 979 | Z13: 783 | AA13: 925 | AB13: 939 | AC13: 952 | AD13: 549 | AE13: 781 | AF13: 984 | AG13: 974 | AH13: 965 | AI13: 976 | AJ13: 961 | AK13: 897 | AL13: 898 | AM13: 888 | AN13: 708 | AO13: 933 | AP13: 894 | AQ13: 862 | AR13: 903 | AS13: 894 | AT13: 903 | AU13: 674 | AV13: =IFERROR(SUM(I13:AU13)/SUM(I14:AU14),0) -> 0.99826267
H14: ='PANEL DE CONTROL DISTRITAL'!H13 -> Número de trámites aplicados | I14: 200 | J14: 876 | K14: 0 | L14: 0 | M14: 754 | N14: 931 | O14: 1020 | P14: 1002 | Q14: 1059 | R14: 853 | S14: 1042 | T14: 1036 | U14: 1024 | V14: 946 | W14: 1011 | X14: 799 | Y14: 979 | Z14: 783 | AA14: 927 | AB14: 939 | AC14: 952 | AD14: 550 | AE14: 784 | AF14: 985 | AG14: 977 | AH14: 966 | AI14: 979 | AJ14: 961 | AK14: 899 | AL14: 899 | AM14: 890 | AN14: 713 | AO14: 933 | AP14: 896 | AQ14: 863 | AR14: 905 | AS14: 896 | AT14: 903 | AU14: 677
A16: ='PANEL DE CONTROL DISTRITAL'!A15 -> 3 | B16: ='PANEL DE CONTROL DISTRITAL'!B15 -> TRANSFERENCIA | C16: ='PANEL DE CONTROL DISTRITAL'!C15 -> Responsable de Módulo | D16: ='PANEL DE CONTROL DISTRITAL'!D15 -> Transacciones exitosas = | E16: ='PANEL DE CONTROL DISTRITAL'!E15 -> (Número de Archivos de Transacción aceptados /Total de Archivos de Transacción procesados) x100 | F16: ='PANEL DE CONTROL DISTRITAL'!F15 -> Semanal (remesa) | G16: ='PANEL DE CONTROL DISTRITAL'!G15 -> 0.9 | H16: ='PANEL DE CONTROL DISTRITAL'!H15 -> Número de Archivos de Transacción aceptados | I16: 200 | J16: 875 | K16: 0 | L16: 0 | M16: 754 | N16: 931 | O16: 1020 | P16: 1002 | Q16: 1057 | R16: 853 | S16: 1042 | T16: 1036 | U16: 1024 | V16: 946 | W16: 1011 | X16: 799 | Y16: 979 | Z16: 783 | AA16: 927 | AB16: 939 | AC16: 952 | AD16: 550 | AE16: 784 | AF16: 985 | AG16: 977 | AH16: 966 | AI16: 978 | AJ16: 961 | AK16: 897 | AL16: 898 | AM16: 890 | AN16: 713 | AO16: 933 | AP16: 896 | AQ16: 863 | AR16: 905 | AS16: 896 | AT16: 903 | AU16: 677 | AV16: =IFERROR(SUM(I16:AU16)/SUM(I17:AU17),0) -> 1
H17: ='PANEL DE CONTROL DISTRITAL'!H16 -> Total de Archivos de Transacción procesados | I17: 200 | J17: 875 | K17: 0 | L17: 0 | M17: 754 | N17: 931 | O17: 1020 | P17: 1002 | Q17: 1057 | R17: 853 | S17: 1042 | T17: 1036 | U17: 1024 | V17: 946 | W17: 1011 | X17: 799 | Y17: 979 | Z17: 783 | AA17: 927 | AB17: 939 | AC17: 952 | AD17: 550 | AE17: 784 | AF17: 985 | AG17: 977 | AH17: 966 | AI17: 978 | AJ17: 961 | AK17: 897 | AL17: 898 | AM17: 890 | AN17: 713 | AO17: 933 | AP17: 896 | AQ17: 863 | AR17: 905 | AS17: 896 | AT17: 903 | AU17: 677
A19: ='PANEL DE CONTROL DISTRITAL'!A18 -> 4 | B19: ='PANEL DE CONTROL DISTRITAL'!B18 -> CONCILIACIÓN | C19: ='PANEL DE CONTROL DISTRITAL'!C18 -> Responsable de Módulo | D19: ='PANEL DE CONTROL DISTRITAL'!D18 -> Credenciales disponibles para entrega = | E19: ='PANEL DE CONTROL DISTRITAL'!E18 -> ((Credenciales recibidas - Credenciales inconsistentes) / Credenciales recibidas) x 100 | F19: ='PANEL DE CONTROL DISTRITAL'!F18 -> Semanal (remesa) | G19: ='PANEL DE CONTROL DISTRITAL'!G18 -> 0.9 | H19: ='PANEL DE CONTROL DISTRITAL'!H18 -> Credenciales Recibidas - Credenciales inconsistentes | I19: 414 | J19: 722 | K19: 0 | L19: 0 | M19: 407 | N19: 813 | O19: 1290 | P19: 1178 | Q19: 749 | R19: 1174 | S19: 1051 | T19: 1035 | U19: 1026 | V19: 204 | W19: 552 | X19: 1948 | Y19: 1058 | Z19: 576 | AA19: 754 | AB19: 1340 | AC19: 936 | AD19: 546 | AE19: 802 | AF19: 935 | AG19: 984 | AH19: 782 | AI19: 957 | AJ19: 1777 | AK19: 926 | AL19: 174 | AM19: 0 | AN19: 1 | AO19: 1085 | AP19: 2193 | AQ19: 1688 | AR19: 902 | AS19: 939 | AT19: 899 | AU19: 709 | AV19: =IFERROR(SUM(I19:AU19)/SUM(I20:AU20),0) -> 1
H20: ='PANEL DE CONTROL DISTRITAL'!H19 -> Credenciales recibidas | I20: 414 | J20: 722 | K20: 0 | L20: 0 | M20: 407 | N20: 813 | O20: 1290 | P20: 1178 | Q20: 749 | R20: 1174 | S20: 1051 | T20: 1035 | U20: 1026 | V20: 204 | W20: 552 | X20: 1948 | Y20: 1058 | Z20: 576 | AA20: 754 | AB20: 1340 | AC20: 936 | AD20: 546 | AE20: 802 | AF20: 935 | AG20: 984 | AH20: 782 | AI20: 957 | AJ20: 1777 | AK20: 926 | AL20: 174 | AM20: 0 | AN20: 1 | AO20: 1085 | AP20: 2193 | AQ20: 1688 | AR20: 902 | AS20: 939 | AT20: 899 | AU20: 709
A22: ='PANEL DE CONTROL DISTRITAL'!A21 -> 5 | B22: ='PANEL DE CONTROL DISTRITAL'!B21 -> CONCILIACIÓN | C22: ='PANEL DE CONTROL DISTRITAL'!C21 -> Responsable de Módulo | D22: ='PANEL DE CONTROL DISTRITAL'!D21 -> Credenciales disponibles para entrega = | E22: ='PANEL DE CONTROL DISTRITAL'!E21 -> (Credenciales en resguardo / Credenciales totales en SIIRFE disponibles para entrega) x 100 | F22: ='PANEL DE CONTROL DISTRITAL'!F21 -> Semanal (remesa) | G22: ='PANEL DE CONTROL DISTRITAL'!G21 -> 1 | H22: ='PANEL DE CONTROL DISTRITAL'!H21 -> Credenciales en resguardo | I22: 2065 | J22: 1818 | K22: 1818 | L22: 1818 | M22: 1518 | N22: 1519 | O22: 1782 | P22: 1916 | Q22: 1837 | R22: 2073 | S22: 2154 | T22: 2046 | U22: 2026 | V22: 1261 | W22: 1354 | X22: 2325 | Y22: 2294 | Z22: 2078 | AA22: 2000 | AB22: 2747 | AC22: 2384 | AD22: 2182 | AE22: 1974 | AF22: 2020 | AG22: 2135 | AH22: 1932 | AI22: 1919 | AJ22: 2181 | AK22: 2132 | AL22: 1349 | AM22: 916 | AN22: 768 | AO22: 1097 | AP22: 2516 | AQ22: 2748 | AR22: 2357 | AS22: 2247 | AT22: 2083 | AU22: 2134 | AV22: =IFERROR(SUM(I22:AU22)/SUM(I23:AU23),0) -> 1
H23: ='PANEL DE CONTROL DISTRITAL'!H22 -> Credenciales totales en SIIRFE disponibles para entrega | I23: 2065 | J23: 1818 | K23: 1818 | L23: 1818 | M23: 1518 | N23: 1519 | O23: 1782 | P23: 1916 | Q23: 1837 | R23: 2073 | S23: 2154 | T23: 2046 | U23: 2026 | V23: 1261 | W23: 1354 | X23: 2325 | Y23: 2294 | Z23: 2078 | AA23: 2000 | AB23: 2747 | AC23: 2384 | AD23: 2182 | AE23: 1974 | AF23: 2020 | AG23: 2135 | AH23: 1932 | AI23: 1919 | AJ23: 2181 | AK23: 2132 | AL23: 1349 | AM23: 916 | AN23: 768 | AO23: 1097 | AP23: 2516 | AQ23: 2748 | AR23: 2357 | AS23: 2247 | AT23: 2083 | AU23: 2134
A25: ='PANEL DE CONTROL DISTRITAL'!A24 -> 6 | B25: ='PANEL DE CONTROL DISTRITAL'!B24 -> ENTREGA | C25: ='PANEL DE CONTROL DISTRITAL'!C24 -> Operador de Equipo Tecnológico | D25: ='PANEL DE CONTROL DISTRITAL'!D24 -> Efectividad de entrega de CPV en MAC = | E25: ='PANEL DE CONTROL DISTRITAL'!E24 -> (Total de credenciales entregadas / Total de credenciales solicitadas) x 100 | F25: ='PANEL DE CONTROL DISTRITAL'!F24 -> Semanal (remesa) | G25: ='PANEL DE CONTROL DISTRITAL'!G24 -> 0.9 | H25: ='PANEL DE CONTROL DISTRITAL'!H24 -> Total de credenciales entregadas | I25: 256 | J25: 969 | K25: 0 | L25: 0 | M25: 707 | N25: 812 | O25: 1027 | P25: 1044 | Q25: 828 | R25: 938 | S25: 965 | T25: 1143 | U25: 1005 | V25: 969 | W25: 428 | X25: 977 | Y25: 1089 | Z25: 782 | AA25: 832 | AB25: 593 | AC25: 1299 | AD25: 748 | AE25: 1003 | AF25: 889 | AG25: 869 | AH25: 985 | AI25: 967 | AJ25: 915 | AK25: 975 | AL25: 957 | AM25: 433 | AN25: 149 | AO25: 756 | AP25: 769 | AQ25: 1456 | AR25: 1293 | AS25: 1049 | AT25: 1063 | AU25: 658 | AV25: =IFERROR(SUM(I25:AU25)/SUM(I26:AU26),0) -> 1
H26: ='PANEL DE CONTROL DISTRITAL'!H25 -> Total de credenciales solicitadas | I26: 256 | J26: 969 | K26: 0 | L26: 0 | M26: 707 | N26: 812 | O26: 1027 | P26: 1044 | Q26: 828 | R26: 938 | S26: 965 | T26: 1143 | U26: 1005 | V26: 969 | W26: 428 | X26: 977 | Y26: 1089 | Z26: 782 | AA26: 832 | AB26: 593 | AC26: 1299 | AD26: 748 | AE26: 1003 | AF26: 889 | AG26: 869 | AH26: 985 | AI26: 967 | AJ26: 915 | AK26: 975 | AL26: 957 | AM26: 433 | AN26: 149 | AO26: 756 | AP26: 769 | AQ26: 1456 | AR26: 1293 | AS26: 1049 | AT26: 1063 | AU26: 658
B27: *Registre el valor nominal solicitado en la celda, el resultado proporcional esta automatizado.
I29: Semaforización
J30: Valor que requiere atención y justificación en el apartado de observaciones
J31: Valor suficiente
J32: Valor esperado
B34: CUADRO DE OBSERVACIONES
B35: Descripción | H35: No conformidad

Sheet 090651
A1: ='PANEL DE CONTROL DISTRITAL'!A1:Q1 -> INSTITUTO NACIONAL ELECTORAL SISTEMA DE GESTIÓN DE LA CALIDAD CIUDAD DE MÉXICO
D2: Distrito | E2: 6 | F2: Módulo | H2: 90651 | AS2: ='PANEL DE CONTROL DISTRITAL'!M2 -> Fecha de corte 31/08/2023
A4: TABLERO DE CONTROL DE PROCESOS SUSTANTIVOS DEL SISTEMA DE GESTIÓN DE LA CALIDAD
A6: ='PANEL DE CONTROL DISTRITAL'!A6 -> Número | B6: ='PANEL DE CONTROL DISTRITAL'!B6 -> PROCESOS SUSTANTIVOS E INDICADORES | I6: SEMANA OPERATIVA | AV6: % AVANCE REGISTRADO
B7: ='PANEL DE CONTROL DISTRITAL'!B7 -> DESCRIPCIÓN | E7: ='PANEL DE CONTROL DISTRITAL'!E7 -> MEDICIÓN | I7: ='PANEL DE CONTROL DISTRITAL'!A5 -> CAMPAÑA ANUAL PERMANENTE 2022-2023
B9: ='PANEL DE CONTROL DISTRITAL'!B8 -> Proceso | C9: ='PANEL DE CONTROL DISTRITAL'!C8 -> Dueño de Proceso | D9: ='PANEL DE CONTROL DISTRITAL'!D8 -> Indicador | E9: ='PANEL DE CONTROL DISTRITAL'!E8 -> Cálculo | F9: ='PANEL DE CONTROL DISTRITAL'!F8 -> Periodo | G9: ='PANEL DE CONTROL DISTRITAL'!G8 -> Estimado | H9: ='PANEL DE CONTROL DISTRITAL'!H8 -> Nominativo | I9: ='090151'!I9 -> 2022-53 | J9: ='090151'!J9 -> 2022-54 | K9: ='090151'!K9 -> 2022-55 | L9: ='090151'!L9 -> 2023-01 | M9: ='090151'!M9 -> 2023-02 | N9: ='090151'!N9 -> 2023-03 | O9: ='090151'!O9 -> 2023-04 | P9: ='090151'!P9 -> 2023-05 | ... AU9: ='090151'!AU9 -> 2023-36
A10: ='PANEL DE CONTROL DISTRITAL'!A9 -> 1 | B10: ='PANEL DE CONTROL DISTRITAL'!B9 -> ENTREVISTA | C10: ='PANEL DE CONTROL DISTRITAL'!C9 -> Auxiliar de Atención Ciudadana | D10: ='PANEL DE CONTROL DISTRITAL'!D9 -> Efectividad de la entrevista = | E10: ='PANEL DE CONTROL DISTRITAL'!E9 -> (Número de trámites aplicados / (Número de fichas requisitadas - Notificaciones de improcedencia de trámite)) x 100 | F10: ='PANEL DE CONTROL DISTRITAL'!F9 -> Semanal (remesa) | G10: ='PANEL DE CONTROL DISTRITAL'!G9 -> 0.9 | H10: ='PANEL DE CONTROL DISTRITAL'!H9 -> Número de trámites aplicados | I10: 196 | J10: 894 | K10: 0 | L10: 0 | M10: 688 | N10: 923 | O10: 955 | P10: 941 | Q10: 911 | R10: 810 | S10: 928 | T10: 926 | U10: 870 | V10: 849 | W10: 926 | X10: 700 | Y10: 908 | Z10: 666 | AA10: 808 | AB10: 819 | AC10: 860 | AD10: 507 | AE10: 726 | AF10: 898 | AG10: 851 | AH10: 856 | AI10: 906 | AJ10: 874 | AK10: 827 | AL10: 803 | AM10: 689 | AN10: 910 | AO10: 868 | AP10: 824 | AQ10: 882 | AR10: 908 | AS10: 907 | AT10: 860 | AU10: 719 | AV10: =IFERROR(SUM(I10:AU10)/SUM(I11:AU11),0) -> 0.98149583
H11: ='PANEL DE CONTROL DISTRITAL'!H10 -> Número de fichas requisitadas - Notificaciones de improcedencia de trámite | I11: 196 | J11: 903 | K11: 0 | L11: 0 | M11: 688 | N11: 957 | O11: 968 | P11: 956 | Q11: 924 | R11: 828 | S11: 940 | T11: 941 | U11: 880 | V11: 864 | W11: 947 | X11: 702 | Y11: 915 | Z11: 679 | AA11: 818 | AB11: 846 | AC11: 870 | AD11: 538 | AE11: 742 | AF11: 917 | AG11: 867 | AH11: 875 | AI11: 919 | AJ11: 889 | AK11: 851 | AL11: 820 | AM11: 699 | AN11: 942 | AO11: 882 | AP11: 841 | AQ11: 906 | AR11: 926 | AS11: 925 | AT11: 871 | AU11: 734
A13: ='PANEL DE CONTROL DISTRITAL'!A12 -> 2 | B13: ='PANEL DE CONTROL DISTRITAL'!B12 -> TRÁMITE | C13: ='PANEL DE CONTROL DISTRITAL'!C12 -> Operador de Equipo Tecnológico | D13: ='PANEL DE CONTROL DISTRITAL'!D12 -> Trámites exitosos efectivos= | E13: ='PANEL DE CONTROL DISTRITAL'!E12 -> (Número de trámites exitosos / Número de trámites aplicados) x 100 | F13: ='PANEL DE CONTROL DISTRITAL'!F12 -> Semanal (remesa) | G13: ='PANEL DE CONTROL DISTRITAL'!G12 -> 0.9 | H13: ='PANEL DE CONTROL DISTRITAL'!H12 -> Número de trámites exitosos | I13: 195 | J13: 892 | K13: 0 | L13: 0 | M13: 683 | N13: 922 | O13: 951 | P13: 940 | Q13: 910 | R13: 810 | S13: 926 | T13: 923 | U13: 868 | V13: 848 | W13: 924 | X13: 699 | Y13: 906 | Z13: 666 | AA13: 804 | AB13: 817 | AC13: 856 | AD13: 504 | AE13: 725 | AF13: 895 | AG13: 851 | AH13: 854 | AI13: 904 | AJ13: 873 | AK13: 827 | AL13: 795 | AM13: 688 | AN13: 910 | AO13: 865 | AP13: 821 | AQ13: 880 | AR13: 905 | AS13: 907 | AT13: 856 | AU13: 719 | AV13: =IFERROR(SUM(I13:AU13)/SUM(I14:AU14),0) -> 0.99756523
H14: ='PANEL DE CONTROL DISTRITAL'!H13 -> Número de trámites aplicados | I14: 196 | J14: 894 | K14: 0 | L14: 0 | M14: 688 | N14: 923 | O14: 955 | P14: 941 | Q14: 911 | R14: 810 | S14: 928 | T14: 926 | U14: 870 | V14: 849 | W14: 926 | X14: 700 | Y14: 908 | Z14: 666 | AA14: 808 | AB14: 819 | AC14: 860 | AD14: 507 | AE14: 726 | AF14: 898 | AG14: 851 | AH14: 856 | AI14: 906 | AJ14: 874 | AK14: 827 | AL14: 803 | AM14: 689 | AN14: 910 | AO14: 868 | AP14: 824 | AQ14: 882 | AR14: 908 | AS14: 907 | AT14: 860 | AU14: 719
A16: ='PANEL DE CONTROL DISTRITAL'!A15 -> 3 | B16: ='PANEL DE CONTROL DISTRITAL'!B15 -> TRANSFERENCIA | C16: ='PANEL DE CONTROL DISTRITAL'!C15 -> Responsable de Módulo | D16: ='PANEL DE CONTROL DISTRITAL'!D15 -> Transacciones exitosas = | E16: ='PANEL DE CONTROL DISTRITAL'!E15 -> (Número de Archivos de Transacción aceptados /Total de Archivos de Transacción procesados) x100 | F16: ='PANEL DE CONTROL DISTRITAL'!F15 -> Semanal (remesa) | G16: ='PANEL DE CONTROL DISTRITAL'!G15 -> 0.9 | H16: ='PANEL DE CONTROL DISTRITAL'!H15 -> Número de Archivos de Transacción aceptados | I16: 196 | J16: 894 | K16: 0 | L16: 0 | M16: 688 | N16: 923 | O16: 955 | P16: 941 | Q16: 911 | R16: 810 | S16: 928 | T16: 926 | U16: 870 | V16: 849 | W16: 926 | X16: 700 | Y16: 908 | Z16: 666 | AA16: 808 | AB16: 819 | AC16: 860 | AD16: 507 | AE16: 726 | AF16: 898 | AG16: 851 | AH16: 856 | AI16: 906 | AJ16: 874 | AK16: 827 | AL16: 803 | AM16: 689 | AN16: 910 | AO16: 868 | AP16: 824 | AQ16: 882 | AR16: 908 | AS16: 907 | AT16: 860 | AU16: 719 | AV16: =IFERROR(SUM(I16:AU16)/SUM(I17:AU17),0) -> 1
H17: ='PANEL DE CONTROL DISTRITAL'!H16 -> Total de Archivos de Transacción procesados | I17: 196 | J17: 894 | K17: 0 | L17: 0 | M17: 688 | N17: 923 | O17: 955 | P17: 941 | Q17: 911 | R17: 810 | S17: 928 | T17: 926 | U17: 870 | V17: 849 | W17: 926 | X17: 700 | Y17: 908 | Z17: 666 | AA17: 808 | AB17: 819 | AC17: 860 | AD17: 507 | AE17: 726 | AF17: 898 | AG17: 851 | AH17: 856 | AI17: 906 | AJ17: 874 | AK17: 827 | AL17: 803 | AM17: 689 | AN17: 910 | AO17: 868 | AP17: 824 | AQ17: 882 | AR17: 908 | AS17: 907 | AT17: 860 | AU17: 719
A19: ='PANEL DE CONTROL DISTRITAL'!A18 -> 4 | B19: ='PANEL DE CONTROL DISTRITAL'!B18 -> CONCILIACIÓN | C19: ='PANEL DE CONTROL DISTRITAL'!C18 -> Responsable de Módulo | D19: ='PANEL DE CONTROL DISTRITAL'!D18 -> Credenciales disponibles para entrega = | E19: ='PANEL DE CONTROL DISTRITAL'!E18 -> ((Credenciales recibidas - Credenciales inconsistentes) / Credenciales recibidas) x 100 | F19: ='PANEL DE CONTROL DISTRITAL'!F18 -> Semanal (remesa) | G19: ='PANEL DE CONTROL DISTRITAL'!G18 -> 0.9 | H19: ='PANEL DE CONTROL DISTRITAL'!H18 -> Credenciales Recibidas - Credenciales inconsistentes | I19: 408 | J19: 815 | K19: 0 | L19: 0 | M19: 345 | N19: 909 | O19: 1091 | P19: 1132 | Q19: 614 | R19: 1075 | S19: 971 | T19: 892 | U19: 896 | V19: 164 | W19: 501 | X19: 1749 | Y19: 971 | Z19: 514 | AA19: 677 | AB19: 1129 | AC19: 829 | AD19: 501 | AE19: 740 | AF19: 868 | AG19: 860 | AH19: 844 | AI19: 688 | AJ19: 1116 | AK19: 757 | AL19: 212 | AM19: 0 | AN19: 1 | AO19: 677 | AP19: 2579 | AQ19: 1211 | AR19: 894 | AS19: 930 | AT19: 909 | AU19: 679 | AV19: =IFERROR(SUM(I19:AU19)/SUM(I20:AU20),0) -> 0.99996683
H20: ='PANEL DE CONTROL DISTRITAL'!H19 -> Credenciales recibidas | I20: 408 | J20: 815 | K20: 0 | L20: 0 | M20: 345 | N20: 909 | O20: 1091 | P20: 1132 | Q20: 614 | R20: 1075 | S20: 971 | T20: 892 | U20: 896 | V20: 164 | W20: 501 | X20: 1749 | Y20: 971 | Z20: 514 | AA20: 677 | AB20: 1129 | AC20: 829 | AD20: 501 | AE20: 740 | AF20: 868 | AG20: 860 | AH20: 844 | AI20: 688 | AJ20: 1116 | AK20: 757 | AL20: 212 | AM20: 0 | AN20: 1 | AO20: 677 | AP20: 2579 | AQ20: 1211 | AR20: 895 | AS20: 930 | AT20: 909 | AU20: 679
A22: ='PANEL DE CONTROL DISTRITAL'!A21 -> 5 | B22: ='PANEL DE CONTROL DISTRITAL'!B21 -> CONCILIACIÓN | C22: ='PANEL DE CONTROL DISTRITAL'!C21 -> Responsable de Módulo | D22: ='PANEL DE CONTROL DISTRITAL'!D21 -> Credenciales disponibles para entrega = | E22: ='PANEL DE CONTROL DISTRITAL'!E21 -> (Credenciales en resguardo / Credenciales totales en SIIRFE disponibles para entrega) x 100 | F22: ='PANEL DE CONTROL DISTRITAL'!F21 -> Semanal (remesa) | G22: ='PANEL DE CONTROL DISTRITAL'!G21 -> 1 | H22: ='PANEL DE CONTROL DISTRITAL'!H21 -> Credenciales en resguardo | I22: 1848 | J22: 1664 | K22: 1664 | L22: 1664 | M22: 1328 | N22: 1457 | O22: 1649 | P22: 1842 | Q22: 1508 | R22: 1758 | S22: 1860 | T22: 1820 | U22: 1741 | V22: 1021 | W22: 1093 | X22: 1919 | Y22: 1948 | Z22: 1734 | AA22: 1693 | AB22: 2256 | AC22: 1822 | AD22: 1739 | AE22: 1551 | AF22: 1707 | AG22: 1804 | AH22: 1740 | AI22: 1637 | AJ22: 1872 | AK22: 1669 | AL22: 1056 | AM22: 732 | AN22: 573 | AO22: 884 | AP22: 1962 | AQ22: 1962 | AR22: 1992 | AS22: 2025 | AT22: 1958 | AU22: 1960 | AV22: =IFERROR(SUM(I22:AU22)/SUM(I23:AU23),0) -> 1
H23: ='PANEL DE CONTROL DISTRITAL'!H22 -> Credenciales totales en SIIRFE disponibles para entrega | I23: 1848 | J23: 1664 | K23: 1664 | L23: 1664 | M23: 1328 | N23: 1457 | O23: 1649 | P23: 1842 | Q23: 1508 | R23: 1758 | S23: 1860 | T23: 1820 | U23: 1741 | V23: 1021 | W23: 1093 | X23: 1919 | Y23: 1948 | Z23: 1734 | AA23: 1693 | AB23: 2256 | AC23: 1822 | AD23: 1739 | AE23: 1551 | AF23: 1707 | AG23: 1804 | AH23: 1740 | AI23: 1637 | AJ23: 1872 | AK23: 1669 | AL23: 1056 | AM23: 732 | AN23: 573 | AO23: 884 | AP23: 1962 | AQ23: 1962 | AR23: 1992 | AS23: 2025 | AT23: 1958 | AU23: 1960
A25: ='PANEL DE CONTROL DISTRITAL'!A24 -> 6 | B25: ='PANEL DE CONTROL DISTRITAL'!B24 -> ENTREGA | C25: ='PANEL DE CONTROL DISTRITAL'!C24 -> Operador de Equipo Tecnológico | D25: ='PANEL DE CONTROL DISTRITAL'!D24 -> Efectividad de entrega de CPV en MAC = | E25: ='PANEL DE CONTROL DISTRITAL'!E24 -> (Total de credenciales entregadas / Total de credenciales solicitadas) x 100 | F25: ='PANEL DE CONTROL DISTRITAL'!F24 -> Semanal (remesa) | G25: ='PANEL DE CONTROL DISTRITAL'!G24 -> 0.9 | H25: ='PANEL DE CONTROL DISTRITAL'!H24 -> Total de credenciales entregadas | I25: 354 | J25: 999 | K25: 0 | L25: 0 | M25: 681 | N25: 780 | O25: 899 | P25: 939 | Q25: 948 | R25: 825 | S25: 856 | T25: 932 | U25: 952 | V25: 884 | W25: 427 | X25: 923 | Y25: 942 | Z25: 723 | AA25: 718 | AB25: 566 | AC25: 1263 | AD25: 584 | AE25: 918 | AF25: 712 | AG25: 763 | AH25: 908 | AI25: 785 | AJ25: 881 | AK25: 960 | AL25: 825 | AM25: 324 | AN25: 160 | AO25: 677 | AP25: 1491 | AQ25: 1211 | AR25: 864 | AS25: 897 | AT25: 976 | AU25: 677 | AV25: =IFERROR(SUM(I25:AU25)/SUM(I26:AU26),0) -> 0.99996691
H26: ='PANEL DE CONTROL DISTRITAL'!H25 -> Total de credenciales solicitadas | I26: 354 | J26: 999 | K26: 0 | L26: 0 | M26: 681 | N26: 780 | O26: 899 | P26: 939 | Q26: 948 | R26: 825 | S26: 856 | T26: 932 | U26: 952 | V26: 884 | W26: 427 | X26: 923 | Y26: 942 | Z26: 723 | AA26: 718 | AB26: 566 | AC26: 1263 | AD26: 584 | AE26: 918 | AF26: 712 | AG26: 763 | AH26: 908 | AI26: 785 | AJ26: 881 | AK26: 960 | AL26: 825 | AM26: 324 | AN26: 160 | AO26: 677 | AP26: 1492 | AQ26: 1211 | AR26: 864 | AS26: 897 | AT26: 976 | AU26: 677
B27: *Registre el valor nominal solicitado en la celda, el resultado proporcional esta automatizado.
I29: Semaforización
J30: Valor que requiere atención y justificación en el apartado de observaciones
J31: Valor suficiente
J32: Valor esperado
B34: CUADRO DE OBSERVACIONES
B35: Descripción | H35: No conformidad

Sheet 090751
A1: ='PANEL DE CONTROL DISTRITAL'!A1:Q1 -> INSTITUTO NACIONAL ELECTORAL SISTEMA DE GESTIÓN DE LA CALIDAD CIUDAD DE MÉXICO
D2: Distrito | E2: 7 | F2: Módulo | H2: 90751 | AS2: ='PANEL DE CONTROL DISTRITAL'!M2 -> Fecha de corte 31/08/2023
A4: TABLERO DE CONTROL DE PROCESOS SUSTANTIVOS DEL SISTEMA DE GESTIÓN DE LA CALIDAD
A6: ='PANEL DE CONTROL DISTRITAL'!A6 -> Número | B6: ='PANEL DE CONTROL DISTRITAL'!B6 -> PROCESOS SUSTANTIVOS E INDICADORES | I6: SEMANA OPERATIVA | AV6: % AVANCE REGISTRADO
B7: ='PANEL DE CONTROL DISTRITAL'!B7 -> DESCRIPCIÓN | E7: ='PANEL DE CONTROL DISTRITAL'!E7 -> MEDICIÓN | I7: ='PANEL DE CONTROL DISTRITAL'!A5 -> CAMPAÑA ANUAL PERMANENTE 2022-2023
B9: ='PANEL DE CONTROL DISTRITAL'!B8 -> Proceso | C9: ='PANEL DE CONTROL DISTRITAL'!C8 -> Dueño de Proceso | D9: ='PANEL DE CONTROL DISTRITAL'!D8 -> Indicador | E9: ='PANEL DE CONTROL DISTRITAL'!E8 -> Cálculo | F9: ='PANEL DE CONTROL DISTRITAL'!F8 -> Periodo | G9: ='PANEL DE CONTROL DISTRITAL'!G8 -> Estimado | H9: ='PANEL DE CONTROL DISTRITAL'!H8 -> Nominativo | I9: ='090151'!I9 -> 2022-53 | J9: ='090151'!J9 -> 2022-54 | K9: ='090151'!K9 -> 2022-55 | L9: ='090151'!L9 -> 2023-01 | M9: ='090151'!M9 -> 2023-02 | N9: ='090151'!N9 -> 2023-03 | O9: ='090151'!O9 -> 2023-04 | P9: ='090151'!P9 -> 2023-05 | ... AU9: ='090151'!AU9 -> 2023-36
A10: ='PANEL DE CONTROL DISTRITAL'!A9 -> 1 | B10: ='PANEL DE CONTROL DISTRITAL'!B9 -> ENTREVISTA | C10: ='PANEL DE CONTROL DISTRITAL'!C9 -> Auxiliar de Atención Ciudadana | D10: ='PANEL DE CONTROL DISTRITAL'!D9 -> Efectividad de la entrevista = | E10: ='PANEL DE CONTROL DISTRITAL'!E9 -> (Número de trámites aplicados / (Número de fichas requisitadas - Notificaciones de improcedencia de trámite)) x 100 | F10: ='PANEL DE CONTROL DISTRITAL'!F9 -> Semanal (remesa) | G10: ='PANEL DE CONTROL DISTRITAL'!G9 -> 0.9 | H10: ='PANEL DE CONTROL DISTRITAL'!H9 -> Número de trámites aplicados | I10: 192 | J10: 985 | K10: 0 | L10: 0 | M10: 933 | N10: 1239 | O10: 1189 | P10: 1170 | Q10: 1115 | R10: 908 | S10: 1064 | T10: 1090 | U10: 1050 | V10: 876 | W10: 1165 | X10: 798 | Y10: 1009 | Z10: 820 | AA10: 1039 | AB10: 1063 | AC10: 995 | AD10: 610 | AE10: 823 | AF10: 1064 | AG10: 1056 | AH10: 1033 | AI10: 940 | AJ10: 1063 | AK10: 1036 | AL10: 966 | AM10: 1003 | AN10: 944 | AO10: 1088 | AP10: 1061 | AQ10: 1055 | AR10: 1129 | AS10: 1127 | AT10: 1108 | AU10: 855 | AV10: =IFERROR(SUM(I10:AU10)/SUM(I11:AU11),0) -> 0.97906263
H11: ='PANEL DE CONTROL DISTRITAL'!H10 -> Número de fichas requisitadas - Notificaciones de improcedencia de trámite | I11: 194 | J11: 986 | K11: 0 | L11: 0 | M11: 945 | N11: 1240 | O11: 1217 | P11: 1206 | Q11: 1115 | R11: 913 | S11: 1064 | T11: 1099 | U11: 1055 | V11: 882 | W11: 1173 | X11: 800 | Y11: 1021 | Z11: 845 | AA11: 1081 | AB11: 1092 | AC11: 1017 | AD11: 636 | AE11: 866 | AF11: 1115 | AG11: 1100 | AH11: 1058 | AI11: 964 | AJ11: 1104 | AK11: 1058 | AL11: 1020 | AM11: 1035 | AN11: 961 | AO11: 1115 | AP11: 1086 | AQ11: 1088 | AR11: 1147 | AS11: 1159 | AT11: 1124 | AU11: 864
A13: ='PANEL DE CONTROL DISTRITAL'!A12 -> 2 | B13: ='PANEL DE CONTROL DISTRITAL'!B12 -> TRÁMITE | C13: ='PANEL DE CONTROL DISTRITAL'!C12 -> Operador de Equipo Tecnológico | D13: ='PANEL DE CONTROL DISTRITAL'!D12 -> Trámites exitosos efectivos= | E13: ='PANEL DE CONTROL DISTRITAL'!E12 -> (Número de trámites exitosos / Número de trámites aplicados) x 100 | F13: ='PANEL DE CONTROL DISTRITAL'!F12 -> Semanal (remesa) | G13: ='PANEL DE CONTROL DISTRITAL'!G12 -> 0.9 | H13: ='PANEL DE CONTROL DISTRITAL'!H12 -> Número de trámites exitosos | I13: 191 | J13: 978 | K13: 0 | L13: 0 | M13: 931 | N13: 1233 | O13: 1188 | P13: 1167 | Q13: 1112 | R13: 903 | S13: 1060 | T13: 1088 | U13: 1049 | V13: 875 | W13: 1162 | X13: 797 | Y13: 1005 | Z13: 818 | AA13: 1037 | AB13: 1059 | AC13: 991 | AD13: 609 | AE13: 819 | AF13: 1060 | AG13: 1054 | AH13: 1030 | AI13: 937 | AJ13: 1059 | AK13: 1035 | AL13: 965 | AM13: 997 | AN13: 943 | AO13: 1080 | AP13: 1061 | AQ13: 1049 | AR13: 1020 | AS13: 1117 | AT13: 1100 | AU13: 842 | AV13: =IFERROR(SUM(I13:AU13)/SUM(I14:AU14),0) -> 0.99345353
H14: ='PANEL DE CONTROL DISTRITAL'!H13 -> Número de trámites aplicados | I14: 192 | J14: 985 | K14: 0 | L14: 0 | M14: 933 | N14: 1239 | O14: 1189 | P14: 1170 | Q14: 1115 | R14: 908 | S14: 1064 | T14: 1090 | U14: 1050 | V14: 876 | W14: 1165 | X14: 798 | Y14: 1009 | Z14: 820 | AA14: 1039 | AB14: 1063 | AC14: 995 | AD14: 610 | AE14: 823 | AF14: 1064 | AG14: 1056 | AH14: 1033 | AI14: 940 | AJ14: 1063 | AK14: 1036 | AL14: 966 | AM14: 1003 | AN14: 944 | AO14: 1088 | AP14: 1061 | AQ14: 1055 | AR14: 1129 | AS14: 1127 | AT14: 1108 | AU14: 855
A16: ='PANEL DE CONTROL DISTRITAL'!A15 -> 3 | B16: ='PANEL DE CONTROL DISTRITAL'!B15 -> TRANSFERENCIA | C16: ='PANEL DE CONTROL DISTRITAL'!C15 -> Responsable de Módulo | D16: ='PANEL DE CONTROL DISTRITAL'!D15 -> Transacciones exitosas = | E16: ='PANEL DE CONTROL DISTRITAL'!E15 -> (Número de Archivos de Transacción aceptados /Total de Archivos de Transacción procesados) x100 | F16: ='PANEL DE CONTROL DISTRITAL'!F15 -> Semanal (remesa) | G16: ='PANEL DE CONTROL DISTRITAL'!G15 -> 0.9 | H16: ='PANEL DE CONTROL DISTRITAL'!H15 -> Número de Archivos de Transacción aceptados | I16: 192 | J16: 985 | K16: 0 | L16: 0 | M16: 933 | N16: 1239 | O16: 1189 | P16: 1170 | Q16: 1115 | R16: 908 | S16: 1063 | T16: 1090 | U16: 1050 | V16: 876 | W16: 1165 | X16: 798 | Y16: 1009 | Z16: 820 | AA16: 1039 | AB16: 1063 | AC16: 995 | AD16: 610 | AE16: 823 | AF16: 1064 | AG16: 1056 | AH16: 1033 | AI16: 940 | AJ16: 1063 | AK16: 1036 | AL16: 966 | AM16: 1003 | AN16: 944 | AO16: 1088 | AP16: 1061 | AQ16: 1055 | AR16: 1129 | AS16: 1127 | AT16: 1108 | AU16: 855 | AV16: =IFERROR(SUM(I16:AU16)/SUM(I17:AU17),0) -> 1
H17: ='PANEL DE CONTROL DISTRITAL'!H16 -> Total de Archivos de Transacción procesados | I17: 192 | J17: 985 | K17: 0 | L17: 0 | M17: 933 | N17: 1239 | O17: 1189 | P17: 1170 | Q17: 1115 | R17: 908 | S17: 1063 | T17: 1090 | U17: 1050 | V17: 876 | W17: 1165 | X17: 798 | Y17: 1009 | Z17: 820 | AA17: 1039 | AB17: 1063 | AC17: 995 | AD17: 610 | AE17: 823 | AF17: 1064 | AG17: 1056 | AH17: 1033 | AI17: 940 | AJ17: 1063 | AK17: 1036 | AL17: 966 | AM17: 1003 | AN17: 944 | AO17: 1088 | AP17: 1061 | AQ17: 1055 | AR17: 1129 | AS17: 1127 | AT17: 1108 | AU17: 855
A19: ='PANEL DE CONTROL DISTRITAL'!A18 -> 4 | B19: ='PANEL DE CONTROL DISTRITAL'!B18 -> CONCILIACIÓN | C19: ='PANEL DE CONTROL DISTRITAL'!C18 -> Responsable de Módulo | D19: ='PANEL DE CONTROL DISTRITAL'!D18 -> Credenciales disponibles para entrega = | E19: ='PANEL DE CONTROL DISTRITAL'!E18 -> ((Credenciales recibidas - Credenciales inconsistentes) / Credenciales recibidas) x 100 | F19: ='PANEL DE CONTROL DISTRITAL'!F18 -> Semanal (remesa) | G19: ='PANEL DE CONTROL DISTRITAL'!G18 -> 0.9 | H19: ='PANEL DE CONTROL DISTRITAL'!H18 -> Credenciales Recibidas - Credenciales inconsistentes | I19: 243 | J19: 1104 | K19: 0 | L19: 0 | M19: 407 | N19: 1058 | O19: 1586 | P19: 1383 | Q19: 865 | R19: 1186 | S19: 1078 | T19: 1076 | U19: 1045 | V19: 225 | W19: 630 | X19: 1967 | Y19: 1061 | Z19: 204 | AA19: 1204 | AB19: 1479 | AC19: 1008 | AD19: 601 | AE19: 845 | AF19: 993 | AG19: 1054 | AH19: 1049 | AI19: 810 | AJ19: 1243 | AK19: 1039 | AL19: 203 | AM19: 0 | AN19: 0 | AO19: 1169 | AP19: 3185 | AQ19: 1493 | AR19: 1094 | AS19: 1155 | AT19: 1102 | AU19: 531 | AV19: =IFERROR(SUM(I19:AU19)/SUM(I20:AU20),0) -> 1
H20: ='PANEL DE CONTROL DISTRITAL'!H19 -> Credenciales recibidas | I20: 243 | J20: 1104 | K20: 0 | L20: 0 | M20: 407 | N20: 1058 | O20: 1586 | P20: 1383 | Q20: 865 | R20: 1186 | S20: 1078 | T20: 1076 | U20: 1045 | V20: 225 | W20: 630 | X20: 1967 | Y20: 1061 | Z20: 204 | AA20: 1204 | AB20: 1479 | AC20: 1008 | AD20: 601 | AE20: 845 | AF20: 993 | AG20: 1054 | AH20: 1049 | AI20: 810 | AJ20: 1243 | AK20: 1039 | AL20: 203 | AM20: 0 | AN20: 0 | AO20: 1169 | AP20: 3185 | AQ20: 1493 | AR20: 1094 | AS20: 1155 | AT20: 1102 | AU20: 531
A22: ='PANEL DE CONTROL DISTRITAL'!A21 -> 5 | B22: ='PANEL DE CONTROL DISTRITAL'!B21 -> CONCILIACIÓN | C22: ='PANEL DE CONTROL DISTRITAL'!C21 -> Responsable de Módulo | D22: ='PANEL DE CONTROL DISTRITAL'!D21 -> Credenciales disponibles para entrega = | E22: ='PANEL DE CONTROL DISTRITAL'!E21 -> (Credenciales en resguardo / Credenciales totales en SIIRFE disponibles para entrega) x 100 | F22: ='PANEL DE CONTROL DISTRITAL'!F21 -> Semanal (remesa) | G22: ='PANEL DE CONTROL DISTRITAL'!G21 -> 1 | H22: ='PANEL DE CONTROL DISTRITAL'!H21 -> Credenciales en resguardo | I22: 2151 | J22: 2226 | K22: 2226 | L22: 2226 | M22: 1725 | N22: 1885 | O22: 2170 | P22: 2326 | Q22: 2017 | R22: 2315 | S22: 2200 | T22: 2155 | U22: 2083 | V22: 1387 | W22: 1431 | X22: 2411 | Y22: 2295 | Z22: 1716 | AA22: 1987 | AB22: 2901 | AC22: 2791 | AD22: 2370 | AE22: 2071 | AF22: 2134 | AG22: 2245 | AH22: 2265 | AI22: 2118 | AJ22: 2256 | AK22: 2295 | AL22: 1459 | AM22: 939 | AN22: 803 | AO22: 1140 | AP22: 2620 | AQ22: 2680 | AR22: 2574 | AS22: 2551 | AT22: 2493 | AU22: 2188 | AV22: =IFERROR(SUM(I22:AU22)/SUM(I23:AU23),0) -> 1
H23: ='PANEL DE CONTROL DISTRITAL'!H22 -> Credenciales totales en SIIRFE disponibles para entrega | I23: 2151 | J23: 2226 | K23: 2226 | L23: 2226 | M23: 1725 | N23: 1885 | O23: 2170 | P23: 2326 | Q23: 2017 | R23: 2315 | S23: 2200 | T23: 2155 | U23: 2083 | V23: 1387 | W23: 1431 | X23: 2411 | Y23: 2295 | Z23: 1716 | AA23: 1987 | AB23: 2901 | AC23: 2791 | AD23: 2370 | AE23: 2071 | AF23: 2134 | AG23: 2245 | AH23: 2265 | AI23: 2118 | AJ23: 2256 | AK23: 2295 | AL23: 1459 | AM23: 939 | AN23: 803 | AO23: 1140 | AP23: 2620 | AQ23: 2680 | AR23: 2574 | AS23: 2551 | AT23: 2493 | AU23: 2188
A25: ='PANEL DE CONTROL DISTRITAL'!A24 -> 6 | B25: ='PANEL DE CONTROL DISTRITAL'!B24 -> ENTREGA | C25: ='PANEL DE CONTROL DISTRITAL'!C24 -> Operador de Equipo Tecnológico | D25: ='PANEL DE CONTROL DISTRITAL'!D24 -> Efectividad de entrega de CPV en MAC = | E25: ='PANEL DE CONTROL DISTRITAL'!E24 -> (Total de credenciales entregadas / Total de credenciales solicitadas) x 100 | F25: ='PANEL DE CONTROL DISTRITAL'!F24 -> Semanal (remesa) | G25: ='PANEL DE CONTROL DISTRITAL'!G24 -> 0.9 | H25: ='PANEL DE CONTROL DISTRITAL'!H24 -> Total de credenciales entregadas | I25: 303 | J25: 1029 | K25: 0 | L25: 0 | M25: 908 | N25: 898 | O25: 1301 | P25: 1227 | Q25: 1174 | R25: 1068 | S25: 995 | T25: 1121 | U25: 1073 | V25: 920 | W25: 578 | X25: 987 | Y25: 1177 | Z25: 781 | AA25: 933 | AB25: 561 | AC25: 1118 | AD25: 1021 | AE25: 1139 | AF25: 930 | AG25: 942 | AH25: 1028 | AI25: 956 | AJ25: 1105 | AK25: 1000 | AL25: 1039 | AM25: 520 | AN25: 136 | AO25: 832 | AP25: 1689 | AQ25: 1433 | AR25: 1200 | AS25: 1178 | AT25: 1160 | AU25: 836 | AV25: =IFERROR(SUM(I25:AU25)/SUM(I26:AU26),0) -> 0.97788076
H26: ='PANEL DE CONTROL DISTRITAL'!H25 -> Total de credenciales solicitadas | I26: 303 | J26: 1029 | K26: 0 | L26: 0 | M26: 908 | N26: 898 | O26: 1350 | P26: 1227 | Q26: 1174 | R26: 1068 | S26: 999 | T26: 1121 | U26: 1078 | V26: 922 | W26: 1140 | X26: 1163 | Y26: 1177 | Z26: 781 | AA26: 935 | AB26: 561 | AC26: 1118 | AD26: 1021 | AE26: 1139 | AF26: 930 | AG26: 942 | AH26: 1028 | AI26: 956 | AJ26: 1105 | AK26: 1000 | AL26: 1039 | AM26: 520 | AN26: 136 | AO26: 832 | AP26: 1689 | AQ26: 1433 | AR26: 1205 | AS26: 1185 | AT26: 1160 | AU26: 845
B27: *Registre el valor nominal solicitado en la celda, el resultado proporcional esta automatizado.
I29: Semaforización
J30: Valor que requiere atención y justificación en el apartado de observaciones
J31: Valor suficiente
J32: Valor esperado
B34: CUADRO DE OBSERVACIONES
B35: Descripción | H35: No conformidad

Sheet 090851
A1: ='PANEL DE CONTROL DISTRITAL'!A1:Q1 -> INSTITUTO NACIONAL ELECTORAL SISTEMA DE GESTIÓN DE LA CALIDAD CIUDAD DE MÉXICO
D2: Distrito | E2: 8 | F2: Módulo | H2: 90851 | AS2: ='PANEL DE CONTROL DISTRITAL'!M2 -> Fecha de corte 31/08/2023
A4: TABLERO DE CONTROL DE PROCESOS SUSTANTIVOS DEL SISTEMA DE GESTIÓN DE LA CALIDAD
A6: ='PANEL DE CONTROL DISTRITAL'!A6 -> Número | B6: ='PANEL DE CONTROL DISTRITAL'!B6 -> PROCESOS SUSTANTIVOS E INDICADORES | I6: SEMANA OPERATIVA | AV6: % AVANCE REGISTRADO
B7: ='PANEL DE CONTROL DISTRITAL'!B7 -> DESCRIPCIÓN | E7: ='PANEL DE CONTROL DISTRITAL'!E7 -> MEDICIÓN | I7: ='PANEL DE CONTROL DISTRITAL'!A5 -> CAMPAÑA ANUAL PERMANENTE 2022-2023
B9: ='PANEL DE CONTROL DISTRITAL'!B8 -> Proceso | C9: ='PANEL DE CONTROL DISTRITAL'!C8 -> Dueño de Proceso | D9: ='PANEL DE CONTROL DISTRITAL'!D8 -> Indicador | E9: ='PANEL DE CONTROL DISTRITAL'!E8 -> Cálculo | F9: ='PANEL DE CONTROL DISTRITAL'!F8 -> Periodo | G9: ='PANEL DE CONTROL DISTRITAL'!G8 -> Estimado | H9: ='PANEL DE CONTROL DISTRITAL'!H8 -> Nominativo | I9: ='090151'!I9 -> 2022-53 | J9: ='090151'!J9 -> 2022-54 | K9: ='090151'!K9 -> 2022-55 | L9: ='090151'!L9 -> 2023-01 | M9: ='090151'!M9 -> 2023-02 | N9: ='090151'!N9 -> 2023-03 | O9: ='090151'!O9 -> 2023-04 | P9: ='090151'!P9 -> 2023-05 | ... AU9: ='090151'!AU9 -> 2023-36
A10: ='PANEL DE CONTROL DISTRITAL'!A9 -> 1 | B10: ='PANEL DE CONTROL DISTRITAL'!B9 -> ENTREVISTA | C10: ='PANEL DE CONTROL DISTRITAL'!C9 -> Auxiliar de Atención Ciudadana | D10: ='PANEL DE CONTROL DISTRITAL'!D9 -> Efectividad de la entrevista = | E10: ='PANEL DE CONTROL DISTRITAL'!E9 -> (Número de trámites aplicados / (Número de fichas requisitadas - Notificaciones de improcedencia de trámite)) x 100 | F10: ='PANEL DE CONTROL DISTRITAL'!F9 -> Semanal (remesa) | G10: ='PANEL DE CONTROL DISTRITAL'!G9 -> 0.9 | H10: ='PANEL DE CONTROL DISTRITAL'!H9 -> Número de trámites aplicados | I10: 196 | J10: 795 | K10: 0 | L10: 0 | M10: 719 | N10: 999 | O10: 907 | P10: 917 | Q10: 936 | R10: 828 | S10: 830 | T10: 958 | U10: 870 | V10: 935 | W10: 985 | X10: 767 | Y10: 915 | Z10: 597 | AA10: 938 | AB10: 953 | AC10: 946 | AD10: 562 | AE10: 759 | AF10: 943 | AG10: 973 | AH10: 925 | AI10: 921 | AJ10: 955 | AK10: 935 | AL10: 847 | AM10: 884 | AN10: 315 | AO10: 420 | AP10: 84 | AQ10: 0 | AR10: 0 | AS10: 46 | AT10: 381 | AU10: 326 | AV10: =IFERROR(SUM(I10:AU10)/SUM(I11:AU11),0) -> 0.98150362
H11: ='PANEL DE CONTROL DISTRITAL'!H10 -> Número de fichas requisitadas - Notificaciones de improcedencia de trámite | I11: 198 | J11: 797 | K11: 0 | L11: 0 | M11: 721 | N11: 1002 | O11: 909 | P11: 920 | Q11: 939 | R11: 830 | S11: 833 | T11: 959 | U11: 872 | V11: 938 | W11: 991 | X11: 770 | Y11: 953 | Z11: 614 | AA11: 960 | AB11: 975 | AC11: 972 | AD11: 577 | AE11: 828 | AF11: 955 | AG11: 992 | AH11: 948 | AI11: 947 | AJ11: 988 | AK11: 949 | AL11: 869 | AM11: 912 | AN11: 327 | AO11: 445 | AP11: 89 | AQ11: 0 | AR11: 0 | AS11: 47 | AT11: 389 | AU11: 347
A13: ='PANEL DE CONTROL DISTRITAL'!A12 -> 2 | B13: ='PANEL DE CONTROL DISTRITAL'!B12 -> TRÁMITE | C13: ='PANEL DE CONTROL DISTRITAL'!C12 -> Operador de Equipo Tecnológico | D13: ='PANEL DE CONTROL DISTRITAL'!D12 -> Trámites exitosos efectivos= | E13: ='PANEL DE CONTROL DISTRITAL'!E12 -> (Número de trámites exitosos / Número de trámites aplicados) x 100 | F13: ='PANEL DE CONTROL DISTRITAL'!F12 -> Semanal (remesa) | G13: ='PANEL DE CONTROL DISTRITAL'!G12 -> 0.9 | H13: ='PANEL DE CONTROL DISTRITAL'!H12 -> Número de trámites exitosos | I13: 196 | J13: 794 | K13: 0 | L13: 0 | M13: 714 | N13: 995 | O13: 905 | P13: 914 | Q13: 932 | R13: 825 | S13: 827 | T13: 955 | U13: 866 | V13: 930 | W13: 981 | X13: 765 | Y13: 911 | Z13: 595 | AA13: 936 | AB13: 951 | AC13: 941 | AD13: 562 | AE13: 758 | AF13: 941 | AG13: 967 | AH13: 921 | AI13: 914 | AJ13: 950 | AK13: 889 | AL13: 844 | AM13: 876 | AN13: 314 | AO13: 418 | AP13: 84 | AQ13: 0 | AR13: 0 | AS13: 0 | AT13: 0 | AU13: 323 | AV13: =IFERROR(SUM(I13:AU13)/SUM(I14:AU14),0) -> 0.97818556
H14: ='PANEL DE CONTROL DISTRITAL'!H13 -> Número de trámites aplicados | I14: 196 | J14: 795 | K14: 0 | L14: 0 | M14: 719 | N14: 999 | O14: 907 | P14: 917 | Q14: 936 | R14: 828 | S14: 830 | T14: 958 | U14: 870 | V14: 935 | W14: 985 | X14: 767 | Y14: 915 | Z14: 597 | AA14: 938 | AB14: 953 | AC14: 946 | AD14: 562 | AE14: 759 | AF14: 943 | AG14: 973 | AH14: 925 | AI14: 921 | AJ14: 955 | AK14: 935 | AL14: 847 | AM14: 884 | AN14: 315 | AO14: 420 | AP14: 84 | AQ14: 0 | AR14: 0 | AS14: 46 | AT14: 381 | AU14: 326
A16: ='PANEL DE CONTROL DISTRITAL'!A15 -> 3 | B16: ='PANEL DE CONTROL DISTRITAL'!B15 -> TRANSFERENCIA | C16: ='PANEL DE CONTROL DISTRITAL'!C15 -> Responsable de Módulo | D16: ='PANEL DE CONTROL DISTRITAL'!D15 -> Transacciones exitosas = | E16: ='PANEL DE CONTROL DISTRITAL'!E15 -> (Número de Archivos de Transacción aceptados /Total de Archivos de Transacción procesados) x100 | F16: ='PANEL DE CONTROL DISTRITAL'!F15 -> Semanal (remesa) | G16: ='PANEL DE CONTROL DISTRITAL'!G15 -> 0.9 | H16: ='PANEL DE CONTROL DISTRITAL'!H15 -> Número de Archivos de Transacción aceptados | I16: 196 | J16: 795 | K16: 0 | L16: 0 | M16: 719 | N16: 999 | O16: 907 | P16: 917 | Q16: 936 | R16: 828 | S16: 830 | T16: 958 | U16: 870 | V16: 935 | W16: 985 | X16: 767 | Y16: 915 | Z16: 597 | AA16: 938 | AB16: 953 | AC16: 946 | AD16: 562 | AE16: 759 | AF16: 943 | AG16: 973 | AH16: 925 | AI16: 921 | AJ16: 955 | AK16: 935 | AL16: 847 | AM16: 884 | AN16: 315 | AO16: 420 | AP16: 84 | AQ16: 0 | AR16: 0 | AS16: 46 | AT16: 381 | AU16: 4 | AV16: =IFERROR(SUM(I16:AU16)/SUM(I17:AU17),0) -> 1
H17: ='PANEL DE CONTROL DISTRITAL'!H16 -> Total de Archivos de Transacción procesados | I17: 196 | J17: 795 | K17: 0 | L17: 0 | M17: 719 | N17: 999 | O17: 907 | P17: 917 | Q17: 936 | R17: 828 | S17: 830 | T17: 958 | U17: 870 | V17: 935 | W17: 985 | X17: 767 | Y17: 915 | Z17: 597 | AA17: 938 | AB17: 953 | AC17: 946 | AD17: 562 | AE17: 759 | AF17: 943 | AG17: 973 | AH17: 925 | AI17: 921 | AJ17: 955 | AK17: 935 | AL17: 847 | AM17: 884 | AN17: 315 | AO17: 420 | AP17: 84 | AQ17: 0 | AR17: 0 | AS17: 46 | AT17: 381 | AU17: 4
A19: ='PANEL DE CONTROL DISTRITAL'!A18 -> 4 | B19: ='PANEL DE CONTROL DISTRITAL'!B18 -> CONCILIACIÓN | C19: ='PANEL DE CONTROL DISTRITAL'!C18 -> Responsable de Módulo | D19: ='PANEL DE CONTROL DISTRITAL'!D18 -> Credenciales disponibles para entrega = | E19: ='PANEL DE CONTROL DISTRITAL'!E18 -> ((Credenciales recibidas - Credenciales inconsistentes) / Credenciales recibidas) x 100 | F19: ='PANEL DE CONTROL DISTRITAL'!F18 -> Semanal (remesa) | G19: ='PANEL DE CONTROL DISTRITAL'!G18 -> 0.9 | H19: ='PANEL DE CONTROL DISTRITAL'!H18 -> Credenciales Recibidas - Credenciales inconsistentes | I19: 193 | J19: 572 | K19: 0 | L19: 0 | M19: 495 | N19: 979 | O19: 1088 | P19: 1061 | Q19: 663 | R19: 1022 | S19: 878 | T19: 959 | U19: 888 | V19: 160 | W19: 478 | X19: 1917 | Y19: 979 | Z19: 505 | AA19: 638 | AB19: 1306 | AC19: 923 | AD19: 537 | AE19: 813 | AF19: 898 | AG19: 950 | AH19: 957 | AI19: 815 | AJ19: 1203 | AK19: 910 | AL19: 199 | AM19: 0 | AN19: 0 | AO19: 1050 | AP19: 1654 | AQ19: 42 | AR19: 0 | AS19: 0 | AT19: 205 | AU19: 297 | AV19: =IFERROR(SUM(I19:AU19)/SUM(I20:AU20),0) -> 1.0000762
H20: ='PANEL DE CONTROL DISTRITAL'!H19 -> Credenciales recibidas | I20: 193 | J20: 572 | K20: 0 | L20: 0 | M20: 495 | N20: 979 | O20: 1088 | P20: 1061 | Q20: 663 | R20: 1022 | S20: 878 | T20: 959 | U20: 888 | V20: 160 | W20: 478 | X20: 1917 | Y20: 977 | Z20: 505 | AA20: 638 | AB20: 1306 | AC20: 923 | AD20: 537 | AE20: 813 | AF20: 898 | AG20: 950 | AH20: 957 | AI20: 815 | AJ20: 1203 | AK20: 910 | AL20: 199 | AM20: 0 | AN20: 0 | AO20: 1050 | AP20: 1654 | AQ20: 42 | AR20: 0 | AS20: 0 | AT20: 205 | AU20: 297
A22: ='PANEL DE CONTROL DISTRITAL'!A21 -> 5 | B22: ='PANEL DE CONTROL DISTRITAL'!B21 -> CONCILIACIÓN | C22: ='PANEL DE CONTROL DISTRITAL'!C21 -> Responsable de Módulo | D22: ='PANEL DE CONTROL DISTRITAL'!D21 -> Credenciales disponibles para entrega = | E22: ='PANEL DE CONTROL DISTRITAL'!E21 -> (Credenciales en resguardo / Credenciales totales en SIIRFE disponibles para entrega) x 100 | F22: ='PANEL DE CONTROL DISTRITAL'!F21 -> Semanal (remesa) | G22: ='PANEL DE CONTROL DISTRITAL'!G21 -> 1 | H22: ='PANEL DE CONTROL DISTRITAL'!H21 -> Credenciales en resguardo | I22: 1960 | J22: 1514 | K22: 1514 | L22: 1514 | M22: 1378 | N22: 1544 | O22: 1651 | P22: 1734 | Q22: 1494 | R22: 1709 | S22: 1677 | T22: 1761 | U22: 1708 | V22: 1041 | W22: 1097 | X22: 1942 | Y22: 1898 | Z22: 1726 | AA22: 1500 | AB22: 2370 | AC22: 2299 | AD22: 1894 | AE22: 1684 | AF22: 1821 | AG22: 1884 | AH22: 1900 | AI22: 1811 | AJ22: 2011 | AK22: 1949 | AL22: 1244 | AM22: 803 | AN22: 696 | AO22: 1016 | AP22: 1462 | AQ22: 1094 | AR22: 1094 | AS22: 997 | AT22: 998 | AU22: 1095 | AV22: =IFERROR(SUM(I22:AU22)/SUM(I23:AU23),0) -> 1
H23: ='PANEL DE CONTROL DISTRITAL'!H22 -> Credenciales totales en SIIRFE disponibles para entrega | I23: 1960 | J23: 1514 | K23: 1514 | L23: 1514 | M23: 1378 | N23: 1544 | O23: 1651 | P23: 1734 | Q23: 1494 | R23: 1709 | S23: 1677 | T23: 1761 | U23: 1708 | V23: 1041 | W23: 1097 | X23: 1942 | Y23: 1898 | Z23: 1726 | AA23: 1500 | AB23: 2370 | AC23: 2299 | AD23: 1894 | AE23: 1684 | AF23: 1821 | AG23: 1884 | AH23: 1900 | AI23: 1811 | AJ23: 2011 | AK23: 1949 | AL23: 1244 | AM23: 803 | AN23: 696 | AO23: 1016 | AP23: 1462 | AQ23: 1094 | AR23: 1094 | AS23: 997 | AT23: 998 | AU23: 1095
A25: ='PANEL DE CONTROL DISTRITAL'!A24 -> 6 | B25: ='PANEL DE CONTROL DISTRITAL'!B24 -> ENTREGA | C25: ='PANEL DE CONTROL DISTRITAL'!C24 -> Operador de Equipo Tecnológico | D25: ='PANEL DE CONTROL DISTRITAL'!D24 -> Efectividad de entrega de CPV en MAC = | E25: ='PANEL DE CONTROL DISTRITAL'!E24 -> (Total de credenciales entregadas / Total de credenciales solicitadas) x 100 | F25: ='PANEL DE CONTROL DISTRITAL'!F24 -> Semanal (remesa) | G25: ='PANEL DE CONTROL DISTRITAL'!G24 -> 0.9 | H25: ='PANEL DE CONTROL DISTRITAL'!H24 -> Total de credenciales entregadas | I25: 259 | J25: 1018 | K25: 0 | L25: 0 | M25: 631 | N25: 813 | O25: 981 | P25: 978 | Q25: 902 | R25: 807 | S25: 896 | T25: 875 | U25: 914 | V25: 827 | W25: 414 | X25: 1072 | Y25: 1021 | Z25: 674 | AA25: 864 | AB25: 430 | AC25: 994 | AD25: 942 | AE25: 1019 | AF25: 761 | AG25: 887 | AH25: 939 | AI25: 905 | AJ25: 1003 | AK25: 972 | AL25: 904 | AM25: 441 | AN25: 107 | AO25: 730 | AP25: 1194 | AQ25: 410 | AR25: 0 | AS25: 97 | AT25: 0 | AU25: 200 | AV25: =IFERROR(SUM(I25:AU25)/SUM(I26:AU26),0) -> 0.9925781
H26: ='PANEL DE CONTROL DISTRITAL'!H25 -> Total de credenciales solicitadas | I26: 265 | J26: 1022 | K26: 0 | L26: 0 | M26: 635 | N26: 817 | O26: 985 | P26: 980 | Q26: 904 | R26: 810 | S26: 899 | T26: 883 | U26: 930 | V26: 828 | W26: 506 | X26: 1075 | Y26: 1021 | Z26: 674 | AA26: 867 | AB26: 433 | AC26: 996 | AD26: 945 | AE26: 1022 | AF26: 762 | AG26: 891 | AH26: 941 | AI26: 910 | AJ26: 1005 | AK26: 973 | AL26: 909 | AM26: 443 | AN26: 109 | AO26: 735 | AP26: 1199 | AQ26: 411 | AR26: 0 | AS26: 97 | AT26: 0 | AU26: 200
B27: *Registre el valor nominal solicitado en la celda, el resultado proporcional esta automatizado.
I29: Semaforización
J30: Valor que requiere atención y justificación en el apartado de observaciones
J31: Valor suficiente
J32: Valor esperado
B34: CUADRO DE OBSERVACIONES
B35: Descripción | H35: No conformidad
B36: Por los trabajos de la Distritación, la operación fue intermitente en el distrito, debido a que fue cambiado en su nomenclatura a 090859 y a 091253.

Sheet 090951
A1: ='PANEL DE CONTROL DISTRITAL'!A1:Q1 -> INSTITUTO NACIONAL ELECTORAL SISTEMA DE GESTIÓN DE LA CALIDAD CIUDAD DE MÉXICO
D2: Distrito | E2: 9 | F2: Módulo | H2: 90951 | AS2: ='PANEL DE CONTROL DISTRITAL'!M2 -> Fecha de corte 31/08/2023
A4: TABLERO DE CONTROL DE PROCESOS SUSTANTIVOS DEL SISTEMA DE GESTIÓN DE LA CALIDAD
A6: ='PANEL DE CONTROL DISTRITAL'!A6 -> Número | B6: ='PANEL DE CONTROL DISTRITAL'!B6 -> PROCESOS SUSTANTIVOS E INDICADORES | I6: SEMANA OPERATIVA | AV6: % AVANCE REGISTRADO
B7: ='PANEL DE CONTROL DISTRITAL'!B7 -> DESCRIPCIÓN | E7: ='PANEL DE CONTROL DISTRITAL'!E7 -> MEDICIÓN | I7: ='PANEL DE CONTROL DISTRITAL'!A5 -> CAMPAÑA ANUAL PERMANENTE 2022-2023
B9: ='PANEL DE CONTROL DISTRITAL'!B8 -> Proceso | C9: ='PANEL DE CONTROL DISTRITAL'!C8 -> Dueño de Proceso | D9: ='PANEL DE CONTROL DISTRITAL'!D8 -> Indicador | E9: ='PANEL DE CONTROL DISTRITAL'!E8 -> Cálculo | F9: ='PANEL DE CONTROL DISTRITAL'!F8 -> Periodo | G9: ='PANEL DE CONTROL DISTRITAL'!G8 -> Estimado | H9: ='PANEL DE CONTROL DISTRITAL'!H8 -> Nominativo | I9: ='090151'!I9 -> 2022-53 | J9: ='090151'!J9 -> 2022-54 | K9: ='090151'!K9 -> 2022-55 | L9: ='090151'!L9 -> 2023-01 | M9: ='090151'!M9 -> 2023-02 | N9: ='090151'!N9 -> 2023-03 | O9: ='090151'!O9 -> 2023-04 | P9: ='090151'!P9 -> 2023-05 | ... AU9: ='090151'!AU9 -> 2023-36
A10: ='PANEL DE CONTROL DISTRITAL'!A9 -> 1 | B10: ='PANEL DE CONTROL DISTRITAL'!B9 -> ENTREVISTA | C10: ='PANEL DE CONTROL DISTRITAL'!C9 -> Auxiliar de Atención Ciudadana | D10: ='PANEL DE CONTROL DISTRITAL'!D9 -> Efectividad de la entrevista = | E10: ='PANEL DE CONTROL DISTRITAL'!E9 -> (Número de trámites aplicados / (Número de fichas requisitadas - Notificaciones de improcedencia de trámite)) x 100 | F10: ='PANEL DE CONTROL DISTRITAL'!F9 -> Semanal (remesa) | G10: ='PANEL DE CONTROL DISTRITAL'!G9 -> 0.9 | H10: ='PANEL DE CONTROL DISTRITAL'!H9 -> Número de trámites aplicados | I10: 175 | J10: 877 | K10: 0 | L10: 0 | M10: 678 | N10: 940 | O10: 1020 | P10: 974 | Q10: 923 | R10: 717 | S10: 864 | T10: 817 | U10: 848 | V10: 718 | W10: 847 | X10: 736 | Y10: 869 | Z10: 606 | AA10: 882 | AB10: 854 | AC10: 915 | AD10: 560 | AE10: 717 | AF10: 880 | AG10: 883 | AH10: 906 | AI10: 877 | AJ10: 880 | AK10: 896 | AL10: 905 | AM10: 738 | AN10: 959 | AO10: 883 | AP10: 908 | AQ10: 927 | AR10: 957 | AS10: 925 | AT10: 902 | AU10: 750 | AV10: =IFERROR(SUM(I10:AU10)/SUM(I11:AU11),0) -> 0.97489208
H11: ='PANEL DE CONTROL DISTRITAL'!H10 -> Número de fichas requisitadas - Notificaciones de improcedencia de trámite | I11: 175 | J11: 901 | K11: 0 | L11: 0 | M11: 709 | N11: 968 | O11: 1053 | P11: 1014 | Q11: 955 | R11: 736 | S11: 887 | T11: 847 | U11: 875 | V11: 738 | W11: 875 | X11: 752 | Y11: 890 | Z11: 623 | AA11: 905 | AB11: 879 | AC11: 939 | AD11: 570 | AE11: 730 | AF11: 908 | AG11: 905 | AH11: 926 | AI11: 892 | AJ11: 899 | AK11: 915 | AL11: 918 | AM11: 762 | AN11: 987 | AO11: 903 | AP11: 920 | AQ11: 944 | AR11: 971 | AS11: 940 | AT11: 921 | AU11: 772
A13: ='PANEL DE CONTROL DISTRITAL'!A12 -> 2 | B13: ='PANEL DE CONTROL DISTRITAL'!B12 -> TRÁMITE | C13: ='PANEL DE CONTROL DISTRITAL'!C12 -> Operador de Equipo Tecnológico | D13: ='PANEL DE CONTROL DISTRITAL'!D12 -> Trámites exitosos efectivos= | E13: ='PANEL DE CONTROL DISTRITAL'!E12 -> (Número de trámites exitosos / Número de trámites aplicados) x 100 | F13: ='PANEL DE CONTROL DISTRITAL'!F12 -> Semanal (remesa) | G13: ='PANEL DE CONTROL DISTRITAL'!G12 -> 0.9 | H13: ='PANEL DE CONTROL DISTRITAL'!H12 -> Número de trámites exitosos | I13: 174 | J13: 876 | K13: 0 | L13: 0 | M13: 675 | N13: 940 | O13: 1017 | P13: 970 | Q13: 920 | R13: 716 | S13: 861 | T13: 815 | U13: 844 | V13: 717 | W13: 841 | X13: 735 | Y13: 869 | Z13: 606 | AA13: 881 | AB13: 854 | AC13: 913 | AD13: 558 | AE13: 713 | AF13: 876 | AG13: 883 | AH13: 905 | AI13: 873 | AJ13: 879 | AK13: 894 | AL13: 902 | AM13: 737 | AN13: 958 | AO13: 881 | AP13: 906 | AQ13: 924 | AR13: 951 | AS13: 918 | AT13: 896 | AU13: 750 | AV13: =IFERROR(SUM(I13:AU13)/SUM(I14:AU14),0) -> 0.99723244
H14: ='PANEL DE CONTROL DISTRITAL'!H13 -> Número de trámites aplicados | I14: 175 | J14: 877 | K14: 0 | L14: 0 | M14: 678 | N14: 940 | O14: 1020 | P14: 974 | Q14: 923 | R14: 717 | S14: 864 | T14: 817 | U14: 848 | V14: 718 | W14: 847 | X14: 736 | Y14: 869 | Z14: 606 | AA14: 882 | AB14: 854 | AC14: 915 | AD14: 560 | AE14: 717 | AF14: 880 | AG14: 883 | AH14: 906 | AI14: 877 | AJ14: 880 | AK14: 896 | AL14: 905 | AM14: 738 | AN14: 959 | AO14: 883 | AP14: 908 | AQ14: 927 | AR14: 957 | AS14: 925 | AT14: 902 | AU14: 750
A16: ='PANEL DE CONTROL DISTRITAL'!A15 -> 3 | B16: ='PANEL DE CONTROL DISTRITAL'!B15 -> TRANSFERENCIA | C16: ='PANEL DE CONTROL DISTRITAL'!C15 -> Responsable de Módulo | D16: ='PANEL DE CONTROL DISTRITAL'!D15 -> Transacciones exitosas = | E16: ='PANEL DE CONTROL DISTRITAL'!E15 -> (Número de Archivos de Transacción aceptados /Total de Archivos de Transacción procesados) x100 | F16: ='PANEL DE CONTROL DISTRITAL'!F15 -> Semanal (remesa) | G16: ='PANEL DE CONTROL DISTRITAL'!G15 -> 0.9 | H16: ='PANEL DE CONTROL DISTRITAL'!H15 -> Número de Archivos de Transacción aceptados | I16: 175 | J16: 877 | K16: 0 | L16: 0 | M16: 678 | N16: 940 | O16: 1020 | P16: 974 | Q16: 923 | R16: 717 | S16: 864 | T16: 817 | U16: 848 | V16: 718 | W16: 847 | X16: 736 | Y16: 869 | Z16: 606 | AA16: 882 | AB16: 854 | AC16: 915 | AD16: 560 | AE16: 717 | AF16: 880 | AG16: 883 | AH16: 906 | AI16: 877 | AJ16: 880 | AK16: 896 | AL16: 905 | AM16: 738 | AN16: 959 | AO16: 883 | AP16: 908 | AQ16: 927 | AR16: 957 | AS16: 925 | AT16: 902 | AU16: 750 | AV16: =IFERROR(SUM(I16:AU16)/SUM(I17:AU17),0) -> 1
H17: ='PANEL DE CONTROL DISTRITAL'!H16 -> Total de Archivos de Transacción procesados | I17: 175 | J17: 877 | K17: 0 | L17: 0 | M17: 678 | N17: 940 | O17: 1020 | P17: 974 | Q17: 923 | R17: 717 | S17: 864 | T17: 817 | U17: 848 | V17: 718 | W17: 847 | X17: 736 | Y17: 869 | Z17: 606 | AA17: 882 | AB17: 854 | AC17: 915 | AD17: 560 | AE17: 717 | AF17: 880 | AG17: 883 | AH17: 906 | AI17: 877 | AJ17: 880 | AK17: 896 | AL17: 905 | AM17: 738 | AN17: 959 | AO17: 883 | AP17: 908 | AQ17: 927 | AR17: 957 | AS17: 925 | AT17: 902 | AU17: 750
A19: ='PANEL DE CONTROL DISTRITAL'!A18 -> 4 | B19: ='PANEL DE CONTROL DISTRITAL'!B18 -> CONCILIACIÓN | C19: ='PANEL DE CONTROL DISTRITAL'!C18 -> Responsable de Módulo | D19: ='PANEL DE CONTROL DISTRITAL'!D18 -> Credenciales disponibles para entrega = | E19: ='PANEL DE CONTROL DISTRITAL'!E18 -> ((Credenciales recibidas - Credenciales inconsistentes) / Credenciales recibidas) x 100 | F19: ='PANEL DE CONTROL DISTRITAL'!F18 -> Semanal (remesa) | G19: ='PANEL DE CONTROL DISTRITAL'!G18 -> 0.9 | H19: ='PANEL DE CONTROL DISTRITAL'!H18 -> Credenciales Recibidas - Credenciales inconsistentes | I19: 336 | J19: 742 | K19: 0 | L19: 0 | M19: 389 | N19: 928 | O19: 1079 | P19: 1156 | Q19: 761 | R19: 931 | S19: 878 | T19: 827 | U19: 838 | V19: 185 | W19: 410 | X19: 1613 | Y19: 952 | Z19: 490 | AA19: 669 | AB19: 1153 | AC19: 896 | AD19: 576 | AE19: 786 | AF19: 850 | AG19: 906 | AH19: 883 | AI19: 658 | AJ19: 1116 | AK19: 885 | AL19: 176 | AM19: 0 | AN19: 0 | AO19: 1100 | AP19: 2676 | AQ19: 1280 | AR19: 933 | AS19: 992 | AT19: 899 | AU19: 750 | AV19: =IFERROR(SUM(I19:AU19)/SUM(I20:AU20),0) -> 1
H20: ='PANEL DE CONTROL DISTRITAL'!H19 -> Credenciales recibidas | I20: 336 | J20: 742 | K20: 0 | L20: 0 | M20: 389 | N20: 928 | O20: 1079 | P20: 1156 | Q20: 761 | R20: 931 | S20: 878 | T20: 827 | U20: 838 | V20: 185 | W20: 410 | X20: 1613 | Y20: 952 | Z20: 490 | AA20: 669 | AB20: 1153 | AC20: 896 | AD20: 576 | AE20: 786 | AF20: 850 | AG20: 906 | AH20: 883 | AI20: 658 | AJ20: 1116 | AK20: 885 | AL20: 176 | AM20: 0 | AN20: 0 | AO20: 1100 | AP20: 2676 | AQ20: 1280 | AR20: 933 | AS20: 992 | AT20: 899 | AU20: 750
A22: ='PANEL DE CONTROL DISTRITAL'!A21 -> 5 | B22: ='PANEL DE CONTROL DISTRITAL'!B21 -> CONCILIACIÓN | C22: ='PANEL DE CONTROL DISTRITAL'!C21 -> Responsable de Módulo | D22: ='PANEL DE CONTROL DISTRITAL'!D21 -> Credenciales disponibles para entrega = | E22: ='PANEL DE CONTROL DISTRITAL'!E21 -> (Credenciales en resguardo / Credenciales totales en SIIRFE disponibles para entrega) x 100 | F22: ='PANEL DE CONTROL DISTRITAL'!F21 -> Semanal (remesa) | G22: ='PANEL DE CONTROL DISTRITAL'!G21 -> 1 | H22: ='PANEL DE CONTROL DISTRITAL'!H21 -> Credenciales en resguardo | I22: 1478 | J22: 1399 | K22: 1399 | L22: 1399 | M22: 1069 | N22: 1215 | O22: 1402 | P22: 1565 | Q22: 1352 | R22: 1549 | S22: 1511 | T22: 1454 | U22: 1393 | V22: 853 | W22: 852 | X22: 1635 | Y22: 1630 | Z22: 1455 | AA22: 1276 | AB22: 1982 | AC22: 1567 | AD22: 1364 | AE22: 1161 | AF22: 1197 | AG22: 1370 | AH22: 1376 | AI22: 1168 | AJ22: 1430 | AK22: 1522 | AL22: 897 | AM22: 578 | AN22: 473 | AO22: 736 | AP22: 2361 | AQ22: 2104 | AR22: 1996 | AS22: 2031 | AT22: 1823 | AU22: 1821 | AV22: =IFERROR(SUM(I22:AU22)/SUM(I23:AU23),0) -> 1
H23: ='PANEL DE CONTROL DISTRITAL'!H22 -> Credenciales totales en SIIRFE disponibles para entrega | I23: 1478 | J23: 1399 | K23: 1399 | L23: 1399 | M23: 1069 | N23: 1215 | O23: 1402 | P23: 1565 | Q23: 1352 | R23: 1549 | S23: 1511 | T23: 1454 | U23: 1393 | V23: 853 | W23: 852 | X23: 1635 | Y23: 1630 | Z23: 1455 | AA23: 1276 | AB23: 1982 | AC23: 1567 | AD23: 1364 | AE23: 1161 | AF23: 1197 | AG23: 1370 | AH23: 1376 | AI23: 1168 | AJ23: 1430 | AK23: 1522 | AL23: 897 | AM23: 578 | AN23: 473 | AO23: 736 | AP23: 2361 | AQ23: 2104 | AR23: 1996 | AS23: 2031 | AT23: 1823 | AU23: 1821
A25: ='PANEL DE CONTROL DISTRITAL'!A24 -> 6 | B25: ='PANEL DE CONTROL DISTRITAL'!B24 -> ENTREGA | C25: ='PANEL DE CONTROL DISTRITAL'!C24 -> Operador de Equipo Tecnológico | D25: ='PANEL DE CONTROL DISTRITAL'!D24 -> Efectividad de entrega de CPV en MAC = | E25: ='PANEL DE CONTROL DISTRITAL'!E24 -> (Total de credenciales entregadas / Total de credenciales solicitadas) x 100 | F25: ='PANEL DE CONTROL DISTRITAL'!F24 -> Semanal (remesa) | G25: ='PANEL DE CONTROL DISTRITAL'!G24 -> 0.9 | H25: ='PANEL DE CONTROL DISTRITAL'!H24 -> Total de credenciales entregadas | I25: 185 | J25: 821 | K25: 0 | L25: 0 | M25: 719 | N25: 782 | O25: 892 | P25: 993 | Q25: 974 | R25: 734 | S25: 905 | T25: 884 | U25: 867 | V25: 725 | W25: 405 | X25: 830 | Y25: 957 | Z25: 659 | AA25: 848 | AB25: 447 | AC25: 1311 | AD25: 779 | AE25: 985 | AF25: 814 | AG25: 733 | AH25: 877 | AI25: 863 | AJ25: 854 | AK25: 793 | AL25: 801 | AM25: 319 | AN25: 105 | AO25: 837 | AP25: 1042 | AQ25: 1537 | AR25: 1041 | AS25: 990 | AT25: 1107 | AU25: 752 | AV25: =IFERROR(SUM(I25:AU25)/SUM(I26:AU26),0) -> 1
H26: ='PANEL DE CONTROL DISTRITAL'!H25 -> Total de credenciales solicitadas | I26: 185 | J26: 821 | K26: 0 | L26: 0 | M26: 719 | N26: 782 | O26: 892 | P26: 993 | Q26: 974 | R26: 734 | S26: 905 | T26: 884 | U26: 867 | V26: 725 | W26: 405 | X26: 830 | Y26: 957 | Z26: 659 | AA26: 848 | AB26: 447 | AC26: 1311 | AD26: 779 | AE26: 985 | AF26: 814 | AG26: 733 | AH26: 877 | AI26: 863 | AJ26: 854 | AK26: 793 | AL26: 801 | AM26: 319 | AN26: 105 | AO26: 837 | AP26: 1042 | AQ26: 1537 | AR26: 1041 | AS26: 990 | AT26: 1107 | AU26: 752
B27: *Registre el valor nominal solicitado en la celda, el resultado proporcional esta automatizado.
I29: Semaforización
J30: Valor que requiere atención y justificación en el apartado de observaciones
J31: Valor suficiente
J32: Valor esperado
B34: CUADRO DE OBSERVACIONES
B35: Descripción | H35: No conformidad

Sheet 091051
A1: ='PANEL DE CONTROL DISTRITAL'!A1:Q1 -> INSTITUTO NACIONAL ELECTORAL SISTEMA DE GESTIÓN DE LA CALIDAD CIUDAD DE MÉXICO
D2: Distrito | E2: 10 | F2: Módulo | H2: 91051 | AS2: ='PANEL DE CONTROL DISTRITAL'!M2 -> Fecha de corte 31/08/2023
A4: TABLERO DE CONTROL DE PROCESOS SUSTANTIVOS DEL SISTEMA DE GESTIÓN DE LA CALIDAD
A6: ='PANEL DE CONTROL DISTRITAL'!A6 -> Número | B6: ='PANEL DE CONTROL DISTRITAL'!B6 -> PROCESOS SUSTANTIVOS E INDICADORES | I6: SEMANA OPERATIVA | AV6: % AVANCE REGISTRADO
B7: ='PANEL DE CONTROL DISTRITAL'!B7 -> DESCRIPCIÓN | E7: ='PANEL DE CONTROL DISTRITAL'!E7 -> MEDICIÓN | I7: ='PANEL DE CONTROL DISTRITAL'!A5 -> CAMPAÑA ANUAL PERMANENTE 2022-2023
B9: ='PANEL DE CONTROL DISTRITAL'!B8 -> Proceso | C9: ='PANEL DE CONTROL DISTRITAL'!C8 -> Dueño de Proceso | D9: ='PANEL DE CONTROL DISTRITAL'!D8 -> Indicador | E9: ='PANEL DE CONTROL DISTRITAL'!E8 -> Cálculo | F9: ='PANEL DE CONTROL DISTRITAL'!F8 -> Periodo | G9: ='PANEL DE CONTROL DISTRITAL'!G8 -> Estimado | H9: ='PANEL DE CONTROL DISTRITAL'!H8 -> Nominativo | I9: ='090151'!I9 -> 2022-53 | J9: ='090151'!J9 -> 2022-54 | K9: ='090151'!K9 -> 2022-55 | L9: ='090151'!L9 -> 2023-01 | M9: ='090151'!M9 -> 2023-02 | N9: ='090151'!N9 -> 2023-03 | O9: ='090151'!O9 -> 2023-04 | P9: ='090151'!P9 -> 2023-05 | ... AU9: ='090151'!AU9 -> 2023-36
A10: ='PANEL DE CONTROL DISTRITAL'!A9 -> 1 | B10: ='PANEL DE CONTROL DISTRITAL'!B9 -> ENTREVISTA | C10: ='PANEL DE CONTROL DISTRITAL'!C9 -> Auxiliar de Atención Ciudadana | D10: ='PANEL DE CONTROL DISTRITAL'!D9 -> Efectividad de la entrevista = | E10: ='PANEL DE CONTROL DISTRITAL'!E9 -> (Número de trámites aplicados / (Número de fichas requisitadas - Notificaciones de improcedencia de trámite)) x 100 | F10: ='PANEL DE CONTROL DISTRITAL'!F9 -> Semanal (remesa) | G10: ='PANEL DE CONTROL DISTRITAL'!G9 -> 0.9 | H10: ='PANEL DE CONTROL DISTRITAL'!H9 -> Número de trámites aplicados | I10: 179 | J10: 746 | K10: 0 | L10: 0 | M10: 686 | N10: 897 | O10: 892 | P10: 971 | Q10: 850 | R10: 669 | S10: 835 | T10: 852 | U10: 927 | V10: 867 | W10: 946 | X10: 728 | Y10: 926 | Z10: 640 | AA10: 885 | AB10: 856 | AC10: 887 | AD10: 506 | AE10: 740 | AF10: 819 | AG10: 865 | AH10: 835 | AI10: 833 | AJ10: 812 | AK10: 888 | AL10: 793 | AM10: 812 | AN10: 708 | AO10: 871 | AP10: 977 | AQ10: 693 | AR10: 594 | AS10: 903 | AT10: 866 | AU10: 560 | AV10: =IFERROR(SUM(I10:AU10)/SUM(I11:AU11),0) -> 0.99693919
H11: ='PANEL DE CONTROL DISTRITAL'!H10 -> Número de fichas requisitadas - Notificaciones de improcedencia de trámite | I11: 179 | J11: 746 | K11: 0 | L11: 0 | M11: 686 | N11: 987 | O11: 892 | P11: 971 | Q11: 850 | R11: 669 | S11: 835 | T11: 852 | U11: 927 | V11: 867 | W11: 946 | X11: 728 | Y11: 926 | Z11: 640 | AA11: 885 | AB11: 856 | AC11: 887 | AD11: 506 | AE11: 740 | AF11: 819 | AG11: 865 | AH11: 835 | AI11: 833 | AJ11: 812 | AK11: 888 | AL11: 793 | AM11: 812 | AN11: 708 | AO11: 871 | AP11: 977 | AQ11: 693 | AR11: 594 | AS11: 903 | AT11: 866 | AU11: 560
A13: ='PANEL DE CONTROL DISTRITAL'!A12 -> 2 | B13: ='PANEL DE CONTROL DISTRITAL'!B12 -> TRÁMITE | C13: ='PANEL DE CONTROL DISTRITAL'!C12 -> Operador de Equipo Tecnológico | D13: ='PANEL DE CONTROL DISTRITAL'!D12 -> Trámites exitosos efectivos= | E13: ='PANEL DE CONTROL DISTRITAL'!E12 -> (Número de trámites exitosos / Número de trámites aplicados) x 100 | F13: ='PANEL DE CONTROL DISTRITAL'!F12 -> Semanal (remesa) | G13: ='PANEL DE CONTROL DISTRITAL'!G12 -> 0.9 | H13: ='PANEL DE CONTROL DISTRITAL'!H12 -> Número de trámites exitosos | I13: 179 | J13: 745 | K13: 0 | L13: 0 | M13: 684 | N13: 897 | O13: 889 | P13: 971 | Q13: 846 | R13: 668 | S13: 835 | T13: 852 | U13: 924 | V13: 862 | W13: 942 | X13: 725 | Y13: 925 | Z13: 636 | AA13: 881 | AB13: 853 | AC13: 884 | AD13: 503 | AE13: 738 | AF13: 817 | AG13: 865 | AH13: 831 | AI13: 829 | AJ13: 810 | AK13: 885 | AL13: 790 | AM13: 806 | AN13: 706 | AO13: 868 | AP13: 975 | AQ13: 693 | AR13: 591 | AS13: 902 | AT13: 862 | AU13: 331 | AV13: =IFERROR(SUM(I13:AU13)/SUM(I14:AU14),0) -> 0.98928839
H14: ='PANEL DE CONTROL DISTRITAL'!H13 -> Número de trámites aplicados | I14: 179 | J14: 746 | K14: 0 | L14: 0 | M14: 686 | N14: 897 | O14: 892 | P14: 971 | Q14: 850 | R14: 669 | S14: 835 | T14: 852 | U14: 927 | V14: 867 | W14: 946 | X14: 728 | Y14: 926 | Z14: 640 | AA14: 885 | AB14: 856 | AC14: 887 | AD14: 506 | AE14: 740 | AF14: 819 | AG14: 865 | AH14: 835 | AI14: 833 | AJ14: 812 | AK14: 888 | AL14: 793 | AM14: 812 | AN14: 708 | AO14: 871 | AP14: 977 | AQ14: 693 | AR14: 594 | AS14: 903 | AT14: 866 | AU14: 560
A16: ='PANEL DE CONTROL DISTRITAL'!A15 -> 3 | B16: ='PANEL DE CONTROL DISTRITAL'!B15 -> TRANSFERENCIA | C16: ='PANEL DE CONTROL DISTRITAL'!C15 -> Responsable de Módulo | D16: ='PANEL DE CONTROL DISTRITAL'!D15 -> Transacciones exitosas = | E16: ='PANEL DE CONTROL DISTRITAL'!E15 -> (Número de Archivos de Transacción aceptados /Total de Archivos de Transacción procesados) x100 | F16: ='PANEL DE CONTROL DISTRITAL'!F15 -> Semanal (remesa) | G16: ='PANEL DE CONTROL DISTRITAL'!G15 -> 0.9 | H16: ='PANEL DE CONTROL DISTRITAL'!H15 -> Número de Archivos de Transacción aceptados | I16: 179 | J16: 746 | K16: 0 | L16: 0 | M16: 686 | N16: 897 | O16: 892 | P16: 971 | Q16: 850 | R16: 669 | S16: 835 | T16: 852 | U16: 927 | V16: 867 | W16: 946 | X16: 728 | Y16: 926 | Z16: 640 | AA16: 885 | AB16: 856 | AC16: 887 | AD16: 506 | AE16: 740 | AF16: 819 | AG16: 865 | AH16: 835 | AI16: 833 | AJ16: 812 | AK16: 888 | AL16: 793 | AM16: 812 | AN16: 708 | AO16: 871 | AP16: 977 | AQ16: 963 | AR16: 594 | AS16: 903 | AT16: 866 | AU16: 560 | AV16: =IFERROR(SUM(I16:AU16)/SUM(I17:AU17),0) -> 1.0001014
H17: ='PANEL DE CONTROL DISTRITAL'!H16 -> Total de Archivos de Transacción procesados | I17: 179 | J17: 746 | K17: 0 | L17: 0 | M17: 686 | N17: 897 | O17: 892 | P17: 971 | Q17: 850 | R17: 668 | S17: 835 | T17: 852 | U17: 926 | V17: 866 | W17: 946 | X17: 728 | Y17: 926 | Z17: 640 | AA17: 885 | AB17: 856 | AC17: 887 | AD17: 506 | AE17: 740 | AF17: 819 | AG17: 865 | AH17: 835 | AI17: 833 | AJ17: 812 | AK17: 888 | AL17: 793 | AM17: 812 | AN17: 708 | AO17: 871 | AP17: 977 | AQ17: 963 | AR17: 594 | AS17: 903 | AT17: 866 | AU17: 560
A19: ='PANEL DE CONTROL DISTRITAL'!A18 -> 4 | B19: ='PANEL DE CONTROL DISTRITAL'!B18 -> CONCILIACIÓN | C19: ='PANEL DE CONTROL DISTRITAL'!C18 -> Responsable de Módulo | D19: ='PANEL DE CONTROL DISTRITAL'!D18 -> Credenciales disponibles para entrega = | E19: ='PANEL DE CONTROL DISTRITAL'!E18 -> ((Credenciales recibidas - Credenciales inconsistentes) / Credenciales recibidas) x 100 | F19: ='PANEL DE CONTROL DISTRITAL'!F18 -> Semanal (remesa) | G19: ='PANEL DE CONTROL DISTRITAL'!G18 -> 0.9 | H19: ='PANEL DE CONTROL DISTRITAL'!H18 -> Credenciales Recibidas - Credenciales inconsistentes | I19: 171 | J19: 652 | K19: 0 | L19: 0 | M19: 327 | N19: 776 | O19: 1151 | P19: 1133 | Q19: 640 | R19: 866 | S19: 872 | T19: 863 | U19: 891 | V19: 168 | W19: 494 | X19: 1806 | Y19: 947 | Z19: 356 | AA19: 843 | AB19: 1197 | AC19: 845 | AD19: 510 | AE19: 758 | AF19: 804 | AG19: 839 | AH19: 849 | AI19: 738 | AJ19: 1014 | AK19: 868 | AL19: 165 | AM19: 0 | AN19: 0 | AO19: 976 | AP19: 2110 | AQ19: 1712 | AR19: 567 | AS19: 767 | AT19: 904 | AU19: 0 | AV19: =IFERROR(SUM(I19:AU19)/SUM(I20:AU20),0) -> 1
H20: ='PANEL DE CONTROL DISTRITAL'!H19 -> Credenciales recibidas | I20: 171 | J20: 652 | K20: 0 | L20: 0 | M20: 327 | N20: 776 | O20: 1151 | P20: 1133 | Q20: 640 | R20: 866 | S20: 872 | T20: 863 | U20: 891 | V20: 168 | W20: 494 | X20: 1806 | Y20: 947 | Z20: 356 | AA20: 843 | AB20: 1197 | AC20: 845 | AD20: 510 | AE20: 758 | AF20: 804 | AG20: 839 | AH20: 849 | AI20: 738 | AJ20: 1014 | AK20: 868 | AL20: 165 | AM20: 0 | AN20: 0 | AO20: 976 | AP20: 2110 | AQ20: 1712 | AR20: 567 | AS20: 767 | AT20: 904 | AU20: 0
A22: ='PANEL DE CONTROL DISTRITAL'!A21 -> 5 | B22: ='PANEL DE CONTROL DISTRITAL'!B21 -> CONCILIACIÓN | C22: ='PANEL DE CONTROL DISTRITAL'!C21 -> Responsable de Módulo | D22: ='PANEL DE CONTROL DISTRITAL'!D21 -> Credenciales disponibles para entrega = | E22: ='PANEL DE CONTROL DISTRITAL'!E21 -> (Credenciales en resguardo / Credenciales totales en SIIRFE disponibles para entrega) x 100 | F22: ='PANEL DE CONTROL DISTRITAL'!F21 -> Semanal (remesa) | G22: ='PANEL DE CONTROL DISTRITAL'!G21 -> 1 | H22: ='PANEL DE CONTROL DISTRITAL'!H21 -> Credenciales en resguardo | I22: 1730 | J22: 1601 | K22: 1601 | L22: 1601 | M22: 1543 | N22: 1500 | O22: 1669 | P22: 1884 | Q22: 1631 | R22: 1696 | S22: 1744 | T22: 1774 | U22: 1802 | V22: 1149 | W22: 1239 | X22: 2105 | Y22: 2067 | Z22: 1805 | AA22: 1853 | AB22: 2483 | AC22: 2200 | AD22: 1979 | AE22: 1783 | AF22: 1818 | AG22: 1889 | AH22: 1865 | AI22: 1798 | AJ22: 1959 | AK22: 2022 | AL22: 1332 | AM22: 939 | AN22: 797 | AO22: 1200 | AP22: 2445 | AQ22: 3056 | AR22: 2294 | AS22: 2096 | AT22: 2114 | AU22: 2183 | AV22: =IFERROR(SUM(I22:AU22)/SUM(I23:AU23),0) -> 1
H23: ='PANEL DE CONTROL DISTRITAL'!H22 -> Credenciales totales en SIIRFE disponibles para entrega | I23: 1730 | J23: 1601 | K23: 1601 | L23: 1601 | M23: 1543 | N23: 1500 | O23: 1669 | P23: 1884 | Q23: 1631 | R23: 1696 | S23: 1744 | T23: 1774 | U23: 1802 | V23: 1149 | W23: 1239 | X23: 2105 | Y23: 2067 | Z23: 1805 | AA23: 1853 | AB23: 2483 | AC23: 2200 | AD23: 1979 | AE23: 1783 | AF23: 1818 | AG23: 1889 | AH23: 1865 | AI23: 1798 | AJ23: 1959 | AK23: 2022 | AL23: 1332 | AM23: 939 | AN23: 797 | AO23: 1200 | AP23: 2445 | AQ23: 3056 | AR23: 2294 | AS23: 2096 | AT23: 2114 | AU23: 2183
A25: ='PANEL DE CONTROL DISTRITAL'!A24 -> 6 | B25: ='PANEL DE CONTROL DISTRITAL'!B24 -> ENTREGA | C25: ='PANEL DE CONTROL DISTRITAL'!C24 -> Operador de Equipo Tecnológico | D25: ='PANEL DE CONTROL DISTRITAL'!D24 -> Efectividad de entrega de CPV en MAC = | E25: ='PANEL DE CONTROL DISTRITAL'!E24 -> (Total de credenciales entregadas / Total de credenciales solicitadas) x 100 | F25: ='PANEL DE CONTROL DISTRITAL'!F24 -> Semanal (remesa) | G25: ='PANEL DE CONTROL DISTRITAL'!G24 -> 0.9 | H25: ='PANEL DE CONTROL DISTRITAL'!H24 -> Total de credenciales entregadas | I25: 259 | J25: 782 | K25: 0 | L25: 0 | M25: 385 | N25: 819 | O25: 982 | P25: 918 | Q25: 893 | R25: 801 | S25: 814 | T25: 833 | U25: 832 | V25: 821 | W25: 399 | X25: 940 | Y25: 985 | Z25: 613 | AA25: 795 | AB25: 567 | AC25: 1119 | AD25: 731 | AE25: 953 | AF25: 769 | AG25: 768 | AH25: 871 | AI25: 811 | AJ25: 853 | AK25: 805 | AL25: 855 | AM25: 393 | AN25: 142 | AO25: 573 | AP25: 857 | AQ25: 1101 | AR25: 1329 | AS25: 965 | AT25: 886 | AU25: 673 | AV25: =IFERROR(SUM(I25:AU25)/SUM(I26:AU26),0) -> 1
H26: ='PANEL DE CONTROL DISTRITAL'!H25 -> Total de credenciales solicitadas | I26: 259 | J26: 782 | K26: 0 | L26: 0 | M26: 385 | N26: 819 | O26: 982 | P26: 918 | Q26: 893 | R26: 801 | S26: 814 | T26: 833 | U26: 832 | V26: 821 | W26: 399 | X26: 940 | Y26: 985 | Z26: 613 | AA26: 795 | AB26: 567 | AC26: 1119 | AD26: 731 | AE26: 953 | AF26: 769 | AG26: 768 | AH26: 871 | AI26: 811 | AJ26: 853 | AK26: 805 | AL26: 855 | AM26: 393 | AN26: 142 | AO26: 573 | AP26: 857 | AQ26: 1101 | AR26: 1329 | AS26: 965 | AT26: 886 | AU26: 673
B27: *Registre el valor nominal solicitado en la celda, el resultado proporcional esta automatizado.
I29: Semaforización
J30: Valor que requiere atención y justificación en el apartado de observaciones
J31: Valor suficiente
J32: Valor esperado
B34: CUADRO DE OBSERVACIONES
B35: Descripción | N35: No conformidad
B36: En la Semana Operativa 2022-54 el folio 2209105138430 esta cancelado en cecyrd por movimiento posterior, en la Semana Operativa 2023-02 el folio 2309105100414 se encuentra en Gestión de CURP y el folio 2309105100606 no viajo a CECYRD se hizo nuevo trámite y tendría que estar como cancelado en Cecyrd por Movimiento Posterior, en la Semana Operativa 2023-04 los folios 2309105101950 está en validación de causa penal, el folio 2309105101616 y 2309105102318 están rechazados en cecyrd, en la Semana Operativa 2023-05 el folio 2309105102850 se encuentra en Gestión de CURP, en la Semana Operativa 2023-06 los folios 2309105103636, 230910513899, 2309105104162 y 2309105104261 se encuentran en Gestión de CURP, el folio 2309105103981 esta cancelado en MAC por Movimiento Posterior, el folio 2309105104294 se encuentra en validación de causa penal, en la Semana Operativa 2023-07 el folio 2309105104933 se encuentran en Gestión de CURP, el folio 2309105104369, en la Semana Operativa 2023-08 los folios 2309105104977, 2309105105202, 2309105105475, 2309105105635 y 2309105105762 se encuentran detenidos por PEL, los folios 2309105105787 se encuentra enviado a Gestión de CURP, en la Semana Operativa 2023-09 los folios 2309105106091 y 2309105106449 se encuentran en validación de causa penal, y los folios 2309105105807, 2309105105992 y 2309105106348 se encuentran en Gestión de CURP, en la semana operativa 2023-10 el folio 2309105107388 se encuentra enviado a Gestión de CURP, y el folio 2309105106977 se encuentra cancelado en cecyrd por movimiento posterior y el folio 2309105107500 se utilizo para una solicitud de expedición, la cual no resulto favorable para la ciudadana, por lo que no genero credencial , en la Semana Operativa 2023-11 los folios 2309105108111, 2309105108128, y 2309105108417 fueron cancelados por error en cotejo de datos capturados en mac vs datos del documento probatorio, y los folios 2309105108155 y 2309105108418 están cancelado en MAC por Movimiento Posterior, en la semana operativa 2023-12, los folios 2309105108882, 2309105108895, y 2309105109218 están cancelado en MAC por Movimiento Posterior, y el folio 2309105109135 fue cancelado por error en cotejo de datos capturados en mac vs datos del documento probatorio, en la semana operativa 2023-13, los folios 2309105109791, y 2309105109568, se encuentran en Gestión de CURP, y los folios 2309105109735, y 2309105109737, los tramites fueron rechazados, por corroboración de domicilio irregular, en la Semana Operativa 2023-14, el folio 23091051111019, se encuentra en Gestión de CURP, en la Semana Operativa 2023-15, el folio 2309105111400, se encuentra en Gestión de CURP, los folios 2309105108111, 2309105111182, y 2309105111512, fueron cancelados por error en cotejo de datos capturados en mac vs datos del documento probatorio, y el folio 2309105111345 está rechazado en cecyrd, en la Semana Operativa 2023-16, el folio 2309105112496, se encuentra en Gestión de CURP, el folio 2309105108111, fue cancelado por error en cotejo de datos capturados en mac vs datos del documento probatorio, y los folios 2309105111703, y 23091051112166, fueron cancelados en cecyrd por movimiento posterior, en la Semana Operativa 2023-17, los folios 2309105113134, y 2309105113229 se encuentran en Gestión de CURP, y el folio 2309105112644 fue cancelado en cecyrd por movimiento posterior, en la Semana Operativa 2023-18, el folio 2309105113780 el tramite fue rechazado, por corroboración de domicilio irregular, y el folio 2309105114282, fue rezado en Cecyrd, y el folio 2309105114306 está en validación de causa penal, en la Semana Operativa 2023-19, los folios 23091051111019, y 2309105114682 se encuentran en Gestión de CURP, y el folio 2309105114445 fue rechazado por movimiento posterior, en la Semana Operativa 2023-20, el folio 2309105115328, se encuentra en Gestión de CURP, y el folio 2309105115047 fue cancelado por error en cotejo de datos capturados en mac vs datos del documento probatorio, Semana Operativa 2023-21, el folio 2309105115623, se encuentra en Gestión de CURP, y el folio 2309105116310 fue cancelado por error en cotejo de datos capturados en mac vs datos del documento probatorio, en la semana operativa 2023-23, los folios 2309105117503, y 2309105117748, se encuentran en Gestión de CURP, y los folios 2309105117621, y 2309105118004, fueron cancelados en cecyrd por movimiento posterior, en la semana operativa 2023-24, el folio 230910511881 fue cancelado en cecyrd por movimiento posterior, y los folios 2309105118223, 2309105118696, y 2309105118900, fueron cancelados por error en cotejo de datos capturados en mac vs datos del documento probatorio, en la semana operativa 2023-25, el folios 2309105119194, se encuentra en Gestión de CURP, y el folio 2309105119404 fue cancelado por error en cotejo de datos capturados en mac vs datos del documento probatorio, en la Semana Operativa 2023-26, los folios 2309105119854, 2309105150086, 2309105120422, y 2309105120422 se encuentran en Gestión de CURP, y el folio 2309105119926 fue cancelado por error en cotejo de datos capturados en mac vs datos del documento probatorio, en la semana operativa 2023-27, los folios 2309105121279, y 2309105121226, se encuentran en Gestión de CURP, y los folios 2309105120660, y 2309105120667 fueron cancelados por error en cotejo de datos capturados en mac vs datos del documento probatorio, los folios restantes de la semana operativa no han generado credencial debido a la redistritacion.

Sheet 091151
A1: ='PANEL DE CONTROL DISTRITAL'!A1:Q1 -> INSTITUTO NACIONAL ELECTORAL SISTEMA DE GESTIÓN DE LA CALIDAD CIUDAD DE MÉXICO
D2: Distrito | E2: 11 | F2: Módulo | H2: 91151 | AT2: ='PANEL DE CONTROL DISTRITAL'!M2 -> Fecha de corte 31/08/2023
A4: TABLERO DE CONTROL DE PROCESOS SUSTANTIVOS DEL SISTEMA DE GESTIÓN DE LA CALIDAD
A6: ='PANEL DE CONTROL DISTRITAL'!A6 -> Número | B6: ='PANEL DE CONTROL DISTRITAL'!B6 -> PROCESOS SUSTANTIVOS E INDICADORES | I6: SEMANA OPERATIVA | AV6: % AVANCE REGISTRADO
B7: ='PANEL DE CONTROL DISTRITAL'!B7 -> DESCRIPCIÓN | E7: ='PANEL DE CONTROL DISTRITAL'!E7 -> MEDICIÓN | I7: ='PANEL DE CONTROL DISTRITAL'!A5 -> CAMPAÑA ANUAL PERMANENTE 2022-2023
B9: ='PANEL DE CONTROL DISTRITAL'!B8 -> Proceso | C9: ='PANEL DE CONTROL DISTRITAL'!C8 -> Dueño de Proceso | D9: ='PANEL DE CONTROL DISTRITAL'!D8 -> Indicador | E9: ='PANEL DE CONTROL DISTRITAL'!E8 -> Cálculo | F9: ='PANEL DE CONTROL DISTRITAL'!F8 -> Periodo | G9: ='PANEL DE CONTROL DISTRITAL'!G8 -> Estimado | H9: ='PANEL DE CONTROL DISTRITAL'!H8 -> Nominativo | I9: ='090151'!I9 -> 2022-53 | J9: ='090151'!J9 -> 2022-54 | K9: ='090151'!K9 -> 2022-55 | L9: ='090151'!L9 -> 2023-01 | M9: ='090151'!M9 -> 2023-02 | N9: ='090151'!N9 -> 2023-03 | O9: ='090151'!O9 -> 2023-04 | P9: ='090151'!P9 -> 2023-05 | ... AU9: ='090151'!AU9 -> 2023-36
A10: ='PANEL DE CONTROL DISTRITAL'!A9 -> 1 | B10: ='PANEL DE CONTROL DISTRITAL'!B9 -> ENTREVISTA | C10: ='PANEL DE CONTROL DISTRITAL'!C9 -> Auxiliar de Atención Ciudadana | D10: ='PANEL DE CONTROL DISTRITAL'!D9 -> Efectividad de la entrevista = | E10: ='PANEL DE CONTROL DISTRITAL'!E9 -> (Número de trámites aplicados / (Número de fichas requisitadas - Notificaciones de improcedencia de trámite)) x 100 | F10: ='PANEL DE CONTROL DISTRITAL'!F9 -> Semanal (remesa) | G10: ='PANEL DE CONTROL DISTRITAL'!G9 -> 0.9 | H10: ='PANEL DE CONTROL DISTRITAL'!H9 -> Número de trámites aplicados | I10: 269 | J10: 1288 | K10: 0 | L10: 0 | M10: 1127 | N10: 1449 | O10: 1641 | P10: 1628 | Q10: 1538 | R10: 1261 | S10: 1418 | T10: 1461 | U10: 1404 | V10: 1271 | W10: 1362 | X10: 1098 | Y10: 1397 | Z10: 999 | AA10: 1364 | AB10: 1394 | AC10: 1297 | AD10: 783 | AE10: 1136 | AF10: 1382 | AG10: 1416 | AH10: 1336 | AI10: 1398 | AJ10: 1421 | AK10: 1440 | AL10: 1270 | AM10: 1111 | AN10: 1425 | AO10: 1449 | AP10: 1381 | AQ10: 1406 | AR10: 1410 | AS10: 1349 | AT10: 1374 | AU10: 1107 | AV10: =IFERROR(SUM(I10:AU10)/SUM(I11:AU11),0) -> 0.99622236
H11: ='PANEL DE CONTROL DISTRITAL'!H10 -> Número de fichas requisitadas - Notificaciones de improcedencia de trámite | I11: 269 | J11: 1288 | K11: 0 | L11: 0 | M11: 1127 | N11: 1449 | O11: 1641 | P11: 1628 | Q11: 1538 | R11: 1261 | S11: 1418 | T11: 1475 | U11: 1419 | V11: 1283 | W11: 1372 | X11: 1112 | Y11: 1407 | Z11: 994 | AA11: 1367 | AB11: 1394 | AC11: 1302 | AD11: 786 | AE11: 1142 | AF11: 1390 | AG11: 1419 | AH11: 1338 | AI11: 1431 | AJ11: 1425 | AK11: 1441 | AL11: 1277 | AM11: 1118 | AN11: 1430 | AO11: 1454 | AP11: 1391 | AQ11: 1407 | AR11: 1412 | AS11: 1350 | AT11: 1376 | AU11: 1112
A13: ='PANEL DE CONTROL DISTRITAL'!A12 -> 2 | B13: ='PANEL DE CONTROL DISTRITAL'!B12 -> TRÁMITE | C13: ='PANEL DE CONTROL DISTRITAL'!C12 -> Operador de Equipo Tecnológico | D13: ='PANEL DE CONTROL DISTRITAL'!D12 -> Trámites exitosos efectivos= | E13: ='PANEL DE CONTROL DISTRITAL'!E12 -> (Número de trámites exitosos / Número de trámites aplicados) x 100 | F13: ='PANEL DE CONTROL DISTRITAL'!F12 -> Semanal (remesa) | G13: ='PANEL DE CONTROL DISTRITAL'!G12 -> 0.9 | H13: ='PANEL DE CONTROL DISTRITAL'!H12 -> Número de trámites exitosos | I13: 268 | J13: 1287 | K13: 0 | L13: 0 | M13: 1122 | N13: 1445 | O13: 1637 | P13: 1618 | Q13: 1534 | R13: 1257 | S13: 1413 | T13: 1457 | U13: 1397 | V13: 1268 | W13: 1360 | X13: 1097 | Y13: 1396 | Z13: 993 | AA13: 1357 | AB13: 1385 | AC13: 1294 | AD13: 781 | AE13: 1132 | AF13: 1377 | AG13: 1413 | AH13: 1331 | AI13: 1395 | AJ13: 1416 | AK13: 1437 | AL13: 1268 | AM13: 1104 | AN13: 1418 | AO13: 1447 | AP13: 1377 | AQ13: 1393 | AR13: 1402 | AS13: 1338 | AT13: 1365 | AU13: 524 | AV13: =IFERROR(SUM(I13:AU13)/SUM(I14:AU14),0) -> 0.98431413
H14: ='PANEL DE CONTROL DISTRITAL'!H13 -> Número de trámites aplicados | I14: 269 | J14: 1288 | K14: 0 | L14: 0 | M14: 1127 | N14: 1449 | O14: 1641 | P14: 1628 | Q14: 1538 | R14: 1261 | S14: 1418 | T14: 1461 | U14: 1404 | V14: 1271 | W14: 1362 | X14: 1098 | Y14: 1397 | Z14: 999 | AA14: 1364 | AB14: 1394 | AC14: 1297 | AD14: 783 | AE14: 1136 | AF14: 1382 | AG14: 1416 | AH14: 1336 | AI14: 1398 | AJ14: 1421 | AK14: 1440 | AL14: 1270 | AM14: 1111 | AN14: 1425 | AO14: 1449 | AP14: 1381 | AQ14: 1406 | AR14: 1410 | AS14: 1349 | AT14: 1374 | AU14: 1107
A16: ='PANEL DE CONTROL DISTRITAL'!A15 -> 3 | B16: ='PANEL DE CONTROL DISTRITAL'!B15 -> TRANSFERENCIA | C16: ='PANEL DE CONTROL DISTRITAL'!C15 -> Responsable de Módulo | D16: ='PANEL DE CONTROL DISTRITAL'!D15 -> Transacciones exitosas = | E16: ='PANEL DE CONTROL DISTRITAL'!E15 -> (Número de Archivos de Transacción aceptados /Total de Archivos de Transacción procesados) x100 | F16: ='PANEL DE CONTROL DISTRITAL'!F15 -> Semanal (remesa) | G16: ='PANEL DE CONTROL DISTRITAL'!G15 -> 0.9 | H16: ='PANEL DE CONTROL DISTRITAL'!H15 -> Número de Archivos de Transacción aceptados | I16: 269 | J16: 1288 | K16: 0 | L16: 0 | M16: 1127 | N16: 1449 | O16: 1641 | P16: 1628 | Q16: 1538 | R16: 1261 | S16: 1413 | T16: 1461 | U16: 1404 | V16: 1271 | W16: 1362 | X16: 1098 | Y16: 1397 | Z16: 999 | AA16: 1364 | AB16: 1394 | AC16: 1297 | AD16: 783 | AE16: 1136 | AF16: 1382 | AG16: 1416 | AH16: 1336 | AI16: 1398 | AJ16: 1421 | AK16: 1440 | AL16: 1270 | AM16: 1111 | AN16: 1425 | AO16: 1449 | AP16: 1381 | AQ16: 1406 | AR16: 1410 | AS16: 1349 | AT16: 1374 | AU16: 1107 | AV16: =IFERROR(SUM(I16:AU16)/SUM(I17:AU17),0) -> 0.99989639
H17: ='PANEL DE CONTROL DISTRITAL'!H16 -> Total de Archivos de Transacción procesados | I17: 269 | J17: 1288 | K17: 0 | L17: 0 | M17: 1127 | N17: 1449 | O17: 1641 | P17: 1628 | Q17: 1538 | R17: 1261 | S17: 1418 | T17: 1461 | U17: 1404 | V17: 1271 | W17: 1362 | X17: 1098 | Y17: 1397 | Z17: 999 | AA17: 1364 | AB17: 1394 | AC17: 1297 | AD17: 783 | AE17: 1136 | AF17: 1382 | AG17: 1416 | AH17: 1336 | AI17: 1398 | AJ17: 1421 | AK17: 1440 | AL17: 1270 | AM17: 1111 | AN17: 1425 | AO17: 1449 | AP17: 1381 | AQ17: 1406 | AR17: 1410 | AS17: 1349 | AT17: 1374 | AU17: 1107
A19: ='PANEL DE CONTROL DISTRITAL'!A18 -> 4 | B19: ='PANEL DE CONTROL DISTRITAL'!B18 -> CONCILIACIÓN | C19: ='PANEL DE CONTROL DISTRITAL'!C18 -> Responsable de Módulo | D19: ='PANEL DE CONTROL DISTRITAL'!D18 -> Credenciales disponibles para entrega = | E19: ='PANEL DE CONTROL DISTRITAL'!E18 -> ((Credenciales recibidas - Credenciales inconsistentes) / Credenciales recibidas) x 100 | F19: ='PANEL DE CONTROL DISTRITAL'!F18 -> Semanal (remesa) | G19: ='PANEL DE CONTROL DISTRITAL'!G18 -> 0.9 | H19: ='PANEL DE CONTROL DISTRITAL'!H18 -> Credenciales Recibidas - Credenciales inconsistentes | I19: 609 | J19: 1111 | K19: 0 | L19: 0 | M19: 618 | N19: 1329 | O19: 1808 | P19: 1944 | Q19: 1184 | R19: 1608 | S19: 1532 | T19: 1420 | U19: 1413 | V19: 268 | W19: 715 | X19: 2621 | Y19: 1490 | Z19: 542 | AA19: 1264 | AB19: 1888 | AC19: 1344 | AD19: 740 | AE19: 1199 | AF19: 1334 | AG19: 1380 | AH19: 1335 | AI19: 1163 | AJ19: 1788 | AK19: 1460 | AL19: 263 | AM19: 0 | AN19: 0 | AO19: 1584 | AP19: 3361 | AQ19: 2681 | AR19: 1391 | AS19: 1453 | AT19: 1391 | AU19: 1092 | AV19: =IFERROR(SUM(I19:AU19)/SUM(I20:AU20),0) -> 0.99985516
H20: ='PANEL DE CONTROL DISTRITAL'!H19 -> Credenciales recibidas | I20: 609 | J20: 1111 | K20: 0 | L20: 0 | M20: 618 | N20: 1330 | O20: 1808 | P20: 1944 | Q20: 1184 | R20: 1613 | S20: 1533 | T20: 1420 | U20: 1413 | V20: 268 | W20: 715 | X20: 2621 | Y20: 1490 | Z20: 542 | AA20: 1264 | AB20: 1888 | AC20: 1344 | AD20: 740 | AE20: 1199 | AF20: 1334 | AG20: 1380 | AH20: 1335 | AI20: 1163 | AJ20: 1788 | AK20: 1460 | AL20: 263 | AM20: 0 | AN20: 0 | AO20: 1584 | AP20: 3361 | AQ20: 2681 | AR20: 1391 | AS20: 1453 | AT20: 1391 | AU20: 1092
A22: ='PANEL DE CONTROL DISTRITAL'!A21 -> 5 | B22: ='PANEL DE CONTROL DISTRITAL'!B21 -> CONCILIACIÓN | C22: ='PANEL DE CONTROL DISTRITAL'!C21 -> Responsable de Módulo | D22: ='PANEL DE CONTROL DISTRITAL'!D21 -> Credenciales disponibles para entrega = | E22: ='PANEL DE CONTROL DISTRITAL'!E21 -> (Credenciales en resguardo / Credenciales totales en SIIRFE disponibles para entrega) x 100 | F22: ='PANEL DE CONTROL DISTRITAL'!F21 -> Semanal (remesa) | G22: ='PANEL DE CONTROL DISTRITAL'!G21 -> 1 | H22: ='PANEL DE CONTROL DISTRITAL'!H21 -> Credenciales en resguardo | I22: 3258 | J22: 2792 | K22: 2792 | L22: 2792 | M22: 2388 | N22: 2574 | O22: 2836 | P22: 3201 | Q22: 2798 | R22: 2904 | S22: 3056 | T22: 2971 | U22: 2908 | V22: 1799 | W22: 1867 | X22: 3165 | Y22: 3194 | Z22: 2696 | AA22: 2574 | AB22: 3744 | AC22: 3414 | AD22: 3038 | AE22: 2767 | AF22: 2966 | AG22: 3033 | AH22: 3016 | AI22: 2844 | AJ22: 3227 | AK22: 3238 | AL22: 2107 | AM22: 1457 | AN22: 1210 | AO22: 2026 | AP22: 3708 | AQ22: 4341 | AR22: 3511 | AS22: 3414 | AT22: 3284 | AU22: 3341 | AV22: =IFERROR(SUM(I22:AU22)/SUM(I23:AU23),0) -> 1
H23: ='PANEL DE CONTROL DISTRITAL'!H22 -> Credenciales totales en SIIRFE disponibles para entrega | I23: 3258 | J23: 2792 | K23: 2792 | L23: 2792 | M23: 2388 | N23: 2574 | O23: 2836 | P23: 3201 | Q23: 2798 | R23: 2904 | S23: 3056 | T23: 2971 | U23: 2908 | V23: 1799 | W23: 1867 | X23: 3165 | Y23: 3194 | Z23: 2696 | AA23: 2574 | AB23: 3744 | AC23: 3414 | AD23: 3038 | AE23: 2767 | AF23: 2966 | AG23: 3033 | AH23: 3016 | AI23: 2844 | AJ23: 3227 | AK23: 3238 | AL23: 2107 | AM23: 1457 | AN23: 1210 | AO23: 2026 | AP23: 3708 | AQ23: 4341 | AR23: 3511 | AS23: 3414 | AT23: 3284 | AU23: 3341
A25: ='PANEL DE CONTROL DISTRITAL'!A24 -> 6 | B25: ='PANEL DE CONTROL DISTRITAL'!B24 -> ENTREGA | C25: ='PANEL DE CONTROL DISTRITAL'!C24 -> Operador de Equipo Tecnológico | D25: ='PANEL DE CONTROL DISTRITAL'!D24 -> Efectividad de entrega de CPV en MAC = | E25: ='PANEL DE CONTROL DISTRITAL'!E24 -> (Total de credenciales entregadas / Total de credenciales solicitadas) x 100 | F25: ='PANEL DE CONTROL DISTRITAL'!F24 -> Semanal (remesa) | G25: ='PANEL DE CONTROL DISTRITAL'!G24 -> 0.9 | H25: ='PANEL DE CONTROL DISTRITAL'!H24 -> Total de credenciales entregadas | I25: 405 | J25: 1577 | K25: 0 | L25: 0 | M25: 1022 | N25: 1143 | O25: 1546 | P25: 1579 | Q25: 1587 | R25: 1502 | S25: 1360 | T25: 1505 | U25: 1432 | V25: 1377 | W25: 630 | X25: 1323 | Y25: 1461 | Z25: 1025 | AA25: 1386 | AB25: 707 | AC25: 1674 | AD25: 1116 | AE25: 1463 | AF25: 1135 | AG25: 1313 | AH25: 1340 | AI25: 1345 | AJ25: 1405 | AK25: 1449 | AL25: 1394 | AM25: 650 | AN25: 247 | AO25: 768 | AP25: 1663 | AQ25: 2048 | AR25: 2221 | AS25: 1550 | AT25: 1521 | AU25: 1031 | AV25: =IFERROR(SUM(I25:AU25)/SUM(I26:AU26),0) -> 1
H26: ='PANEL DE CONTROL DISTRITAL'!H25 -> Total de credenciales solicitadas | I26: 405 | J26: 1577 | K26: 0 | L26: 0 | M26: 1022 | N26: 1143 | O26: 1546 | P26: 1579 | Q26: 1587 | R26: 1502 | S26: 1360 | T26: 1505 | U26: 1432 | V26: 1377 | W26: 630 | X26: 1323 | Y26: 1461 | Z26: 1025 | AA26: 1386 | AB26: 707 | AC26: 1674 | AD26: 1116 | AE26: 1463 | AF26: 1135 | AG26: 1313 | AH26: 1340 | AI26: 1345 | AJ26: 1405 | AK26: 1449 | AL26: 1394 | AM26: 650 | AN26: 247 | AO26: 768 | AP26: 1663 | AQ26: 2048 | AR26: 2221 | AS26: 1550 | AT26: 1521 | AU26: 1031
B27: *Registre el valor nominal solicitado en la celda, el resultado proporcional esta automatizado.
I29: Semaforización
J30: Valor que requiere atención y justificación en el apartado de observaciones
J31: Valor suficiente
J32: Valor esperado
B34: CUADRO DE OBSERVACIONES
B35: Descripción | H35: No conformidad

Sheet 091251
A1: ='PANEL DE CONTROL DISTRITAL'!A1:Q1 -> INSTITUTO NACIONAL ELECTORAL SISTEMA DE GESTIÓN DE LA CALIDAD CIUDAD DE MÉXICO
D2: Distrito | E2: 12 | F2: Módulo | H2: 91251 | AS2: ='PANEL DE CONTROL DISTRITAL'!M2 -> Fecha de corte 31/08/2023
A4: TABLERO DE CONTROL DE PROCESOS SUSTANTIVOS DEL SISTEMA DE GESTIÓN DE LA CALIDAD
A6: ='PANEL DE CONTROL DISTRITAL'!A6 -> Número | B6: ='PANEL DE CONTROL DISTRITAL'!B6 -> PROCESOS SUSTANTIVOS E INDICADORES | I6: SEMANA OPERATIVA | AV6: % AVANCE REGISTRADO
B7: ='PANEL DE CONTROL DISTRITAL'!B7 -> DESCRIPCIÓN | E7: ='PANEL DE CONTROL DISTRITAL'!E7 -> MEDICIÓN | I7: ='PANEL DE CONTROL DISTRITAL'!A5 -> CAMPAÑA ANUAL PERMANENTE 2022-2023
B9: ='PANEL DE CONTROL DISTRITAL'!B8 -> Proceso | C9: ='PANEL DE CONTROL DISTRITAL'!C8 -> Dueño de Proceso | D9: ='PANEL DE CONTROL DISTRITAL'!D8 -> Indicador | E9: ='PANEL DE CONTROL DISTRITAL'!E8 -> Cálculo | F9: ='PANEL DE CONTROL DISTRITAL'!F8 -> Periodo | G9: ='PANEL DE CONTROL DISTRITAL'!G8 -> Estimado | H9: ='PANEL DE CONTROL DISTRITAL'!H8 -> Nominativo | I9: ='090151'!I9 -> 2022-53 | J9: ='090151'!J9 -> 2022-54 | K9: ='090151'!K9 -> 2022-55 | L9: ='090151'!L9 -> 2023-01 | M9: ='090151'!M9 -> 2023-02 | N9: ='090151'!N9 -> 2023-03 | O9: ='090151'!O9 -> 2023-04 | P9: ='090151'!P9 -> 2023-05 | ... AU9: ='090151'!AU9 -> 2023-36
A10: ='PANEL DE CONTROL DISTRITAL'!A9 -> 1 | B10: ='PANEL DE CONTROL DISTRITAL'!B9 -> ENTREVISTA | C10: ='PANEL DE CONTROL DISTRITAL'!C9 -> Auxiliar de Atención Ciudadana | D10: ='PANEL DE CONTROL DISTRITAL'!D9 -> Efectividad de la entrevista = | E10: ='PANEL DE CONTROL DISTRITAL'!E9 -> (Número de trámites aplicados / (Número de fichas requisitadas - Notificaciones de improcedencia de trámite)) x 100 | F10: ='PANEL DE CONTROL DISTRITAL'!F9 -> Semanal (remesa) | G10: ='PANEL DE CONTROL DISTRITAL'!G9 -> 0.9 | H10: ='PANEL DE CONTROL DISTRITAL'!H9 -> Número de trámites aplicados | I10: 215 | J10: 979 | K10: 0 | L10: 0 | M10: 931 | N10: 1325 | O10: 1166 | P10: 1051 | Q10: 1058 | R10: 913 | S10: 1137 | T10: 1106 | U10: 1062 | V10: 915 | W10: 1070 | X10: 809 | Y10: 997 | Z10: 648 | AA10: 1011 | AB10: 980 | AC10: 1009 | AD10: 601 | AE10: 825 | AF10: 976 | AG10: 957 | AH10: 968 | AI10: 1009 | AJ10: 1016 | AK10: 975 | AL10: 864 | AM10: 883 | AN10: 771 | AO10: 966 | AP10: 948 | AQ10: 925 | AR10: 961 | AS10: 937 | AT10: 960 | AU10: 784 | AV10: =IFERROR(SUM(I10:AU10)/SUM(I11:AU11),0) -> 0.95950018
H11: ='PANEL DE CONTROL DISTRITAL'!H10 -> Número de fichas requisitadas - Notificaciones de improcedencia de trámite | I11: 225 | J11: 983 | K11: 0 | L11: 0 | M11: 946 | N11: 1335 | O11: 1186 | P11: 1073 | Q11: 1075 | R11: 920 | S11: 1150 | T11: 1110 | U11: 1080 | V11: 950 | W11: 1077 | X11: 837 | Y11: 1001 | Z11: 663 | AA11: 1048 | AB11: 1005 | AC11: 1034 | AD11: 631 | AE11: 868 | AF11: 1065 | AG11: 1035 | AH11: 1051 | AI11: 1085 | AJ11: 1100 | AK11: 1030 | AL11: 957 | AM11: 956 | AN11: 811 | AO11: 1003 | AP11: 980 | AQ11: 1089 | AR11: 1004 | AS11: 981 | AT11: 1005 | AU11: 824
A13: ='PANEL DE CONTROL DISTRITAL'!A12 -> 2 | B13: ='PANEL DE CONTROL DISTRITAL'!B12 -> TRÁMITE | C13: ='PANEL DE CONTROL DISTRITAL'!C12 -> Operador de Equipo Tecnológico | D13: ='PANEL DE CONTROL DISTRITAL'!D12 -> Trámites exitosos efectivos= | E13: ='PANEL DE CONTROL DISTRITAL'!E12 -> (Número de trámites exitosos / Número de trámites aplicados) x 100 | F13: ='PANEL DE CONTROL DISTRITAL'!F12 -> Semanal (remesa) | G13: ='PANEL DE CONTROL DISTRITAL'!G12 -> 0.9 | H13: ='PANEL DE CONTROL DISTRITAL'!H12 -> Número de trámites exitosos | I13: 215 | J13: 976 | K13: 0 | L13: 0 | M13: 927 | N13: 1322 | O13: 1162 | P13: 1049 | Q13: 1055 | R13: 908 | S13: 1136 | T13: 1101 | U13: 1057 | V13: 910 | W13: 1066 | X13: 808 | Y13: 994 | Z13: 646 | AA13: 1009 | AB13: 970 | AC13: 1006 | AD13: 599 | AE13: 825 | AF13: 975 | AG13: 955 | AH13: 967 | AI13: 1004 | AJ13: 1013 | AK13: 971 | AL13: 859 | AM13: 882 | AN13: 770 | AO13: 964 | AP13: 944 | AQ13: 921 | AR13: 953 | AS13: 926 | AT13: 953 | AU13: 779 | AV13: =IFERROR(SUM(I13:AU13)/SUM(I14:AU14),0) -> 0.99622565
H14: ='PANEL DE CONTROL DISTRITAL'!H13 -> Número de trámites aplicados | I14: 215 | J14: 979 | K14: 0 | L14: 0 | M14: 931 | N14: 1325 | O14: 1166 | P14: 1051 | Q14: 1058 | R14: 913 | S14: 1137 | T14: 1106 | U14: 1062 | V14: 915 | W14: 1070 | X14: 809 | Y14: 997 | Z14: 648 | AA14: 1011 | AB14: 980 | AC14: 1009 | AD14: 601 | AE14: 825 | AF14: 976 | AG14: 957 | AH14: 968 | AI14: 1009 | AJ14: 1016 | AK14: 975 | AL14: 864 | AM14: 883 | AN14: 771 | AO14: 966 | AP14: 948 | AQ14: 925 | AR14: 961 | AS14: 937 | AT14: 960 | AU14: 784
A16: ='PANEL DE CONTROL DISTRITAL'!A15 -> 3 | B16: ='PANEL DE CONTROL DISTRITAL'!B15 -> TRANSFERENCIA | C16: ='PANEL DE CONTROL DISTRITAL'!C15 -> Responsable de Módulo | D16: ='PANEL DE CONTROL DISTRITAL'!D15 -> Transacciones exitosas = | E16: ='PANEL DE CONTROL DISTRITAL'!E15 -> (Número de Archivos de Transacción aceptados /Total de Archivos de Transacción procesados) x100 | F16: ='PANEL DE CONTROL DISTRITAL'!F15 -> Semanal (remesa) | G16: ='PANEL DE CONTROL DISTRITAL'!G15 -> 0.9 | H16: ='PANEL DE CONTROL DISTRITAL'!H15 -> Número de Archivos de Transacción aceptados | I16: 215 | J16: 979 | K16: 0 | L16: 0 | M16: 931 | N16: 1325 | O16: 1166 | P16: 1051 | Q16: 1058 | R16: 913 | S16: 1137 | T16: 1106 | U16: 1062 | V16: 915 | W16: 1070 | X16: 809 | Y16: 997 | Z16: 648 | AA16: 1011 | AB16: 980 | AC16: 1009 | AD16: 601 | AE16: 825 | AF16: 976 | AG16: 957 | AH16: 968 | AI16: 1009 | AJ16: 1016 | AK16: 975 | AL16: 864 | AM16: 883 | AN16: 771 | AO16: 966 | AP16: 948 | AQ16: 925 | AR16: 961 | AS16: 937 | AT16: 960 | AU16: 784 | AV16: =IFERROR(SUM(I16:AU16)/SUM(I17:AU17),0) -> 1
H17: ='PANEL DE CONTROL DISTRITAL'!H16 -> Total de Archivos de Transacción procesados | I17: 215 | J17: 979 | K17: 0 | L17: 0 | M17: 931 | N17: 1325 | O17: 1166 | P17: 1051 | Q17: 1058 | R17: 913 | S17: 1137 | T17: 1106 | U17: 1062 | V17: 915 | W17: 1070 | X17: 809 | Y17: 997 | Z17: 648 | AA17: 1011 | AB17: 980 | AC17: 1009 | AD17: 601 | AE17: 825 | AF17: 976 | AG17: 957 | AH17: 968 | AI17: 1009 | AJ17: 1016 | AK17: 975 | AL17: 864 | AM17: 883 | AN17: 771 | AO17: 966 | AP17: 948 | AQ17: 925 | AR17: 961 | AS17: 937 | AT17: 960 | AU17: 784
A19: ='PANEL DE CONTROL DISTRITAL'!A18 -> 4 | B19: ='PANEL DE CONTROL DISTRITAL'!B18 -> CONCILIACIÓN | C19: ='PANEL DE CONTROL DISTRITAL'!C18 -> Responsable de Módulo | D19: ='PANEL DE CONTROL DISTRITAL'!D18 -> Credenciales disponibles para entrega = | E19: ='PANEL DE CONTROL DISTRITAL'!E18 -> ((Credenciales recibidas - Credenciales inconsistentes) / Credenciales recibidas) x 100 | F19: ='PANEL DE CONTROL DISTRITAL'!F18 -> Semanal (remesa) | G19: ='PANEL DE CONTROL DISTRITAL'!G18 -> 0.9 | H19: ='PANEL DE CONTROL DISTRITAL'!H18 -> Credenciales Recibidas - Credenciales inconsistentes | I19: 495 | J19: 858 | K19: 0 | L19: 0 | M19: 461 | N19: 1113 | O19: 1519 | P19: 1361 | Q19: 775 | R19: 1076 | S19: 1204 | T19: 1091 | U19: 1130 | V19: 210 | W19: 548 | X19: 1925 | Y19: 1067 | Z19: 392 | AA19: 862 | AB19: 1324 | AC19: 1042 | AD19: 580 | AE19: 894 | AF19: 963 | AG19: 912 | AH19: 952 | AI19: 833 | AJ19: 1112 | AK19: 1163 | AL19: 202 | AM19: 0 | AN19: 0 | AO19: 1063 | AP19: 2725 | AQ19: 1295 | AR19: 964 | AS19: 977 | AT19: 964 | AU19: 788 | AV19: =IFERROR(SUM(I19:AU19)/SUM(I20:AU20),0) -> 1
H20: ='PANEL DE CONTROL DISTRITAL'!H19 -> Credenciales recibidas | I20: 495 | J20: 858 | K20: 0 | L20: 0 | M20: 461 | N20: 1113 | O20: 1519 | P20: 1361 | Q20: 775 | R20: 1076 | S20: 1204 | T20: 1091 | U20: 1130 | V20: 210 | W20: 548 | X20: 1925 | Y20: 1067 | Z20: 392 | AA20: 862 | AB20: 1324 | AC20: 1042 | AD20: 580 | AE20: 894 | AF20: 963 | AG20: 912 | AH20: 952 | AI20: 833 | AJ20: 1112 | AK20: 1163 | AL20: 202 | AM20: 0 | AN20: 0 | AO20: 1063 | AP20: 2725 | AQ20: 1295 | AR20: 964 | AS20: 977 | AT20: 964 | AU20: 788
A22: ='PANEL DE CONTROL DISTRITAL'!A21 -> 5 | B22: ='PANEL DE CONTROL DISTRITAL'!B21 -> CONCILIACIÓN | C22: ='PANEL DE CONTROL DISTRITAL'!C21 -> Responsable de Módulo | D22: ='PANEL DE CONTROL DISTRITAL'!D21 -> Credenciales disponibles para entrega = | E22: ='PANEL DE CONTROL DISTRITAL'!E21 -> (Credenciales en resguardo / Credenciales totales en SIIRFE disponibles para entrega) x 100 | F22: ='PANEL DE CONTROL DISTRITAL'!F21 -> Semanal (remesa) | G22: ='PANEL DE CONTROL DISTRITAL'!G21 -> 1 | H22: ='PANEL DE CONTROL DISTRITAL'!H21 -> Credenciales en resguardo | I22: 2625 | J22: 2212 | K22: 2212 | L22: 2212 | M22: 1974 | N22: 2102 | O22: 2342 | P22: 2423 | Q22: 2058 | R22: 2290 | S22: 2359 | T22: 2286 | U22: 2243 | V22: 1440 | W22: 1409 | X22: 2495 | Y22: 2522 | Z22: 2001 | AA22: 2218 | AB22: 2913 | AC22: 2999 | AD22: 2546 | AE22: 2153 | AF22: 2142 | AG22: 2105 | AH22: 2103 | AI22: 2023 | AJ22: 2076 | AK22: 2176 | AL22: 1441 | AM22: 996 | AN22: 857 | AO22: 1568 | AP22: 3258 | AQ22: 3081 | AR22: 3094 | AS22: 3130 | AT22: 2777 | AU22: 2454 | AV22: =IFERROR(SUM(I22:AU22)/SUM(I23:AU23),0) -> 1
H23: ='PANEL DE CONTROL DISTRITAL'!H22 -> Credenciales totales en SIIRFE disponibles para entrega | I23: 2625 | J23: 2212 | K23: 2212 | L23: 2212 | M23: 1974 | N23: 2102 | O23: 2342 | P23: 2423 | Q23: 2058 | R23: 2290 | S23: 2359 | T23: 2286 | U23: 2243 | V23: 1440 | W23: 1409 | X23: 2495 | Y23: 2522 | Z23: 2001 | AA23: 2218 | AB23: 2913 | AC23: 2999 | AD23: 2546 | AE23: 2153 | AF23: 2142 | AG23: 2105 | AH23: 2103 | AI23: 2023 | AJ23: 2076 | AK23: 2176 | AL23: 1441 | AM23: 996 | AN23: 857 | AO23: 1568 | AP23: 3258 | AQ23: 3081 | AR23: 3094 | AS23: 3130 | AT23: 2777 | AU23: 2454
A25: ='PANEL DE CONTROL DISTRITAL'!A24 -> 6 | B25: ='PANEL DE CONTROL DISTRITAL'!B24 -> ENTREGA | C25: ='PANEL DE CONTROL DISTRITAL'!C24 -> Operador de Equipo Tecnológico | D25: ='PANEL DE CONTROL DISTRITAL'!D24 -> Efectividad de entrega de CPV en MAC = | E25: ='PANEL DE CONTROL DISTRITAL'!E24 -> (Total de credenciales entregadas / Total de credenciales solicitadas) x 100 | F25: ='PANEL DE CONTROL DISTRITAL'!F24 -> Semanal (remesa) | G25: ='PANEL DE CONTROL DISTRITAL'!G24 -> 0.9 | H25: ='PANEL DE CONTROL DISTRITAL'!H24 -> Total de credenciales entregadas | I25: 352 | J25: 1271 | K25: 0 | L25: 0 | M25: 699 | N25: 985 | O25: 1279 | P25: 1280 | Q25: 1140 | R25: 844 | S25: 1090 | T25: 1164 | U25: 1140 | V25: 1013 | W25: 545 | X25: 839 | Y25: 1040 | Z25: 894 | AA25: 646 | AB25: 618 | AC25: 956 | AD25: 1033 | AE25: 1276 | AF25: 974 | AG25: 949 | AH25: 948 | AI25: 913 | AJ25: 1059 | AK25: 1063 | AL25: 937 | AM25: 445 | AN25: 139 | AO25: 352 | AP25: 1014 | AQ25: 1472 | AR25: 951 | AS25: 941 | AT25: 1317 | AU25: 1104 | AV25: =IFERROR(SUM(I25:AU25)/SUM(I26:AU26),0) -> 1
H26: ='PANEL DE CONTROL DISTRITAL'!H25 -> Total de credenciales solicitadas | I26: 352 | J26: 1271 | K26: 0 | L26: 0 | M26: 699 | N26: 985 | O26: 1279 | P26: 1280 | Q26: 1140 | R26: 844 | S26: 1090 | T26: 1164 | U26: 1140 | V26: 1013 | W26: 545 | X26: 839 | Y26: 1040 | Z26: 894 | AA26: 646 | AB26: 618 | AC26: 956 | AD26: 1033 | AE26: 1276 | AF26: 974 | AG26: 949 | AH26: 948 | AI26: 913 | AJ26: 1059 | AK26: 1063 | AL26: 937 | AM26: 445 | AN26: 139 | AO26: 352 | AP26: 1014 | AQ26: 1472 | AR26: 951 | AS26: 941 | AT26: 1317 | AU26: 1104
B27: *Registre el valor nominal solicitado en la celda, el resultado proporcional esta automatizado.
I29: Semaforización
J30: Valor que requiere atención y justificación en el apartado de observaciones
J31: Valor suficiente
J32: Valor esperado
B34: CUADRO DE OBSERVACIONES
B35: Descripción | H35: No conformidad

Sheet 091252
A1: ='PANEL DE CONTROL DISTRITAL'!A1:Q1 -> INSTITUTO NACIONAL ELECTORAL SISTEMA DE GESTIÓN DE LA CALIDAD CIUDAD DE MÉXICO
D2: Distrito | E2: 12 | F2: Módulo | H2: 91252 | AS2: ='PANEL DE CONTROL DISTRITAL'!M2 -> Fecha de corte 31/08/2023
A4: TABLERO DE CONTROL DE PROCESOS SUSTANTIVOS DEL SISTEMA DE GESTIÓN DE LA CALIDAD
A6: ='PANEL DE CONTROL DISTRITAL'!A6 -> Número | B6: ='PANEL DE CONTROL DISTRITAL'!B6 -> PROCESOS SUSTANTIVOS E INDICADORES | I6: SEMANA OPERATIVA | AV6: % AVANCE REGISTRADO
B7: ='PANEL DE CONTROL DISTRITAL'!B7 -> DESCRIPCIÓN | E7: ='PANEL DE CONTROL DISTRITAL'!E7 -> MEDICIÓN | I7: ='PANEL DE CONTROL DISTRITAL'!A5 -> CAMPAÑA ANUAL PERMANENTE 2022-2023
B9: ='PANEL DE CONTROL DISTRITAL'!B8 -> Proceso | C9: ='PANEL DE CONTROL DISTRITAL'!C8 -> Dueño de Proceso | D9: ='PANEL DE CONTROL DISTRITAL'!D8 -> Indicador | E9: ='PANEL DE CONTROL DISTRITAL'!E8 -> Cálculo | F9: ='PANEL DE CONTROL DISTRITAL'!F8 -> Periodo | G9: ='PANEL DE CONTROL DISTRITAL'!G8 -> Estimado | H9: ='PANEL DE CONTROL DISTRITAL'!H8 -> Nominativo | I9: ='090151'!I9 -> 2022-53 | J9: ='090151'!J9 -> 2022-54 | K9: ='090151'!K9 -> 2022-55 | L9: ='090151'!L9 -> 2023-01 | M9: ='090151'!M9 -> 2023-02 | N9: ='090151'!N9 -> 2023-03 | O9: ='090151'!O9 -> 2023-04 | P9: ='090151'!P9 -> 2023-05 | ... AU9: ='090151'!AU9 -> 2023-36
A10: ='PANEL DE CONTROL DISTRITAL'!A9 -> 1 | B10: ='PANEL DE CONTROL DISTRITAL'!B9 -> ENTREVISTA | C10: ='PANEL DE CONTROL DISTRITAL'!C9 -> Auxiliar de Atención Ciudadana | D10: ='PANEL DE CONTROL DISTRITAL'!D9 -> Efectividad de la entrevista = | E10: ='PANEL DE CONTROL DISTRITAL'!E9 -> (Número de trámites aplicados / (Número de fichas requisitadas - Notificaciones de improcedencia de trámite)) x 100 | F10: ='PANEL DE CONTROL DISTRITAL'!F9 -> Semanal (remesa) | G10: ='PANEL DE CONTROL DISTRITAL'!G9 -> 0.9 | H10: ='PANEL DE CONTROL DISTRITAL'!H9 -> Número de trámites aplicados | I10: 165 | J10: 805 | K10: 0 | L10: 0 | M10: 737 | N10: 919 | O10: 939 | P10: 797 | Q10: 971 | R10: 742 | S10: 904 | T10: 882 | U10: 838 | V10: 660 | W10: 862 | X10: 639 | Y10: 790 | Z10: 567 | AA10: 795 | AB10: 794 | AC10: 776 | AD10: 423 | AE10: 657 | AF10: 774 | AG10: 789 | AH10: 741 | AI10: 806 | AJ10: 712 | AK10: 702 | AL10: 684 | AM10: 742 | AN10: 642 | AO10: 745 | AP10: 686 | AQ10: 887 | AR10: 842 | AS10: 644 | AT10: 854 | AU10: 621 | AV10: =IFERROR(SUM(I10:AU10)/SUM(I11:AU11),0) -> 0.98038029
H11: ='PANEL DE CONTROL DISTRITAL'!H10 -> Número de fichas requisitadas - Notificaciones de improcedencia de trámite | I11: 165 | J11: 805 | K11: 0 | L11: 0 | M11: 737 | N11: 919 | O11: 939 | P11: 797 | Q11: 971 | R11: 742 | S11: 904 | T11: 882 | U11: 838 | V11: 660 | W11: 862 | X11: 649 | Y11: 803 | Z11: 594 | AA11: 819 | AB11: 825 | AC11: 807 | AD11: 434 | AE11: 682 | AF11: 804 | AG11: 825 | AH11: 764 | AI11: 834 | AJ11: 741 | AK11: 726 | AL11: 707 | AM11: 775 | AN11: 660 | AO11: 765 | AP11: 701 | AQ11: 909 | AR11: 857 | AS11: 667 | AT11: 873 | AU11: 642
A13: ='PANEL DE CONTROL DISTRITAL'!A12 -> 2 | B13: ='PANEL DE CONTROL DISTRITAL'!B12 -> TRÁMITE | C13: ='PANEL DE CONTROL DISTRITAL'!C12 -> Operador de Equipo Tecnológico | D13: ='PANEL DE CONTROL DISTRITAL'!D12 -> Trámites exitosos efectivos= | E13: ='PANEL DE CONTROL DISTRITAL'!E12 -> (Número de trámites exitosos / Número de trámites aplicados) x 100 | F13: ='PANEL DE CONTROL DISTRITAL'!F12 -> Semanal (remesa) | G13: ='PANEL DE CONTROL DISTRITAL'!G12 -> 0.9 | H13: ='PANEL DE CONTROL DISTRITAL'!H12 -> Número de trámites exitosos | I13: 164 | J13: 802 | K13: 0 | L13: 0 | M13: 732 | N13: 916 | O13: 938 | P13: 794 | Q13: 968 | R13: 735 | S13: 897 | T13: 875 | U13: 834 | V13: 658 | W13: 859 | X13: 636 | Y13: 790 | Z13: 564 | AA13: 790 | AB13: 789 | AC13: 771 | AD13: 420 | AE13: 655 | AF13: 770 | AG13: 785 | AH13: 739 | AI13: 803 | AJ13: 712 | AK13: 701 | AL13: 680 | AM13: 739 | AN13: 640 | AO13: 743 | AP13: 683 | AQ13: 881 | AR13: 839 | AS13: 641 | AT13: 849 | AU13: 615 | AV13: =IFERROR(SUM(I13:AU13)/SUM(I14:AU14),0) -> 0.99542367
H14: ='PANEL DE CONTROL DISTRITAL'!H13 -> Número de trámites aplicados | I14: 165 | J14: 805 | K14: 0 | L14: 0 | M14: 737 | N14: 919 | O14: 939 | P14: 797 | Q14: 971 | R14: 742 | S14: 904 | T14: 882 | U14: 838 | V14: 660 | W14: 862 | X14: 639 | Y14: 790 | Z14: 567 | AA14: 795 | AB14: 794 | AC14: 776 | AD14: 423 | AE14: 657 | AF14: 774 | AG14: 789 | AH14: 741 | AI14: 806 | AJ14: 712 | AK14: 702 | AL14: 684 | AM14: 742 | AN14: 642 | AO14: 745 | AP14: 686 | AQ14: 887 | AR14: 842 | AS14: 644 | AT14: 854 | AU14: 621
A16: ='PANEL DE CONTROL DISTRITAL'!A15 -> 3 | B16: ='PANEL DE CONTROL DISTRITAL'!B15 -> TRANSFERENCIA | C16: ='PANEL DE CONTROL DISTRITAL'!C15 -> Responsable de Módulo | D16: ='PANEL DE CONTROL DISTRITAL'!D15 -> Transacciones exitosas = | E16: ='PANEL DE CONTROL DISTRITAL'!E15 -> (Número de Archivos de Transacción aceptados /Total de Archivos de Transacción procesados) x100 | F16: ='PANEL DE CONTROL DISTRITAL'!F15 -> Semanal (remesa) | G16: ='PANEL DE CONTROL DISTRITAL'!G15 -> 0.9 | H16: ='PANEL DE CONTROL DISTRITAL'!H15 -> Número de Archivos de Transacción aceptados | I16: 165 | J16: 805 | K16: 0 | L16: 0 | M16: 737 | N16: 919 | O16: 939 | P16: 797 | Q16: 971 | R16: 742 | S16: 904 | T16: 882 | U16: 838 | V16: 660 | W16: 862 | X16: 639 | Y16: 790 | Z16: 567 | AA16: 795 | AB16: 794 | AC16: 776 | AD16: 423 | AE16: 657 | AF16: 774 | AG16: 789 | AH16: 741 | AI16: 806 | AJ16: 712 | AK16: 701 | AL16: 684 | AM16: 742 | AN16: 642 | AO16: 765 | AP16: 686 | AQ16: 887 | AR16: 842 | AS16: 644 | AT16: 854 | AU16: 621 | AV16: =IFERROR(SUM(I16:AU16)/SUM(I17:AU17),0) -> 1
H17: ='PANEL DE CONTROL DISTRITAL'!H16 -> Total de Archivos de Transacción procesados | I17: 165 | J17: 805 | K17: 0 | L17: 0 | M17: 737 | N17: 919 | O17: 939 | P17: 797 | Q17: 971 | R17: 742 | S17: 904 | T17: 882 | U17: 838 | V17: 660 | W17: 862 | X17: 639 | Y17: 790 | Z17: 567 | AA17: 795 | AB17: 794 | AC17: 776 | AD17: 423 | AE17: 657 | AF17: 774 | AG17: 789 | AH17: 741 | AI17: 806 | AJ17: 712 | AK17: 701 | AL17: 684 | AM17: 742 | AN17: 642 | AO17: 765 | AP17: 686 | AQ17: 887 | AR17: 842 | AS17: 644 | AT17: 854 | AU17: 621
A19: ='PANEL DE CONTROL DISTRITAL'!A18 -> 4 | B19: ='PANEL DE CONTROL DISTRITAL'!B18 -> CONCILIACIÓN | C19: ='PANEL DE CONTROL DISTRITAL'!C18 -> Responsable de Módulo | D19: ='PANEL DE CONTROL DISTRITAL'!D18 -> Credenciales disponibles para entrega = | E19: ='PANEL DE CONTROL DISTRITAL'!E18 -> ((Credenciales recibidas - Credenciales inconsistentes) / Credenciales recibidas) x 100 | F19: ='PANEL DE CONTROL DISTRITAL'!F18 -> Semanal (remesa) | G19: ='PANEL DE CONTROL DISTRITAL'!G18 -> 0.9 | H19: ='PANEL DE CONTROL DISTRITAL'!H18 -> Credenciales Recibidas - Credenciales inconsistentes | I19: 430 | J19: 789 | K19: 0 | L19: 0 | M19: 297 | N19: 810 | O19: 1201 | P19: 1076 | Q19: 562 | R19: 1101 | S19: 852 | T19: 888 | U19: 825 | V19: 170 | W19: 476 | X19: 1462 | Y19: 833 | Z19: 293 | AA19: 718 | AB19: 1062 | AC19: 790 | AD19: 444 | AE19: 633 | AF19: 707 | AG19: 747 | AH19: 759 | AI19: 826 | AJ19: 929 | AK19: 705 | AL19: 135 | AM19: 0 | AN19: 0 | AO19: 825 | AP19: 2230 | AQ19: 1100 | AR19: 830 | AS19: 757 | AT19: 741 | AU19: 674 | AV19: =IFERROR(SUM(I19:AU19)/SUM(I20:AU20),0) -> 1
H20: ='PANEL DE CONTROL DISTRITAL'!H19 -> Credenciales recibidas | I20: 430 | J20: 789 | K20: 0 | L20: 0 | M20: 297 | N20: 810 | O20: 1201 | P20: 1076 | Q20: 562 | R20: 1101 | S20: 852 | T20: 888 | U20: 825 | V20: 170 | W20: 476 | X20: 1462 | Y20: 833 | Z20: 293 | AA20: 718 | AB20: 1062 | AC20: 790 | AD20: 444 | AE20: 633 | AF20: 707 | AG20: 747 | AH20: 759 | AI20: 826 | AJ20: 929 | AK20: 705 | AL20: 135 | AM20: 0 | AN20: 0 | AO20: 825 | AP20: 2230 | AQ20: 1100 | AR20: 830 | AS20: 757 | AT20: 741 | AU20: 674
A22: ='PANEL DE CONTROL DISTRITAL'!A21 -> 5 | B22: ='PANEL DE CONTROL DISTRITAL'!B21 -> CONCILIACIÓN | C22: ='PANEL DE CONTROL DISTRITAL'!C21 -> Responsable de Módulo | D22: ='PANEL DE CONTROL DISTRITAL'!D21 -> Credenciales disponibles para entrega = | E22: ='PANEL DE CONTROL DISTRITAL'!E21 -> (Credenciales en resguardo / Credenciales totales en SIIRFE disponibles para entrega) x 100 | F22: ='PANEL DE CONTROL DISTRITAL'!F21 -> Semanal (remesa) | G22: ='PANEL DE CONTROL DISTRITAL'!G21 -> 1 | H22: ='PANEL DE CONTROL DISTRITAL'!H21 -> Credenciales en resguardo | I22: 2515 | J22: 2141 | K22: 2141 | L22: 2141 | M22: 1792 | N22: 1927 | O22: 2132 | P22: 2261 | Q22: 1938 | R22: 2328 | S22: 2162 | T22: 2155 | U22: 1999 | V22: 1527 | W22: 1419 | X22: 2070 | Y22: 2035 | Z22: 1681 | AA22: 1661 | AB22: 2333 | AC22: 2371 | AD22: 2143 | AE22: 1797 | AF22: 1730 | AG22: 1792 | AH22: 1773 | AI22: 1901 | AJ22: 1993 | AK22: 1909 | AL22: 1326 | AM22: 935 | AN22: 810 | AO22: 1063 | AP22: 2430 | AQ22: 2457 | AR22: 2222 | AS22: 2064 | AT22: 1995 | AU22: 2099 | AV22: =IFERROR(SUM(I22:AU22)/SUM(I23:AU23),0) -> 1
H23: ='PANEL DE CONTROL DISTRITAL'!H22 -> Credenciales totales en SIIRFE disponibles para entrega | I23: 2515 | J23: 2141 | K23: 2141 | L23: 2141 | M23: 1792 | N23: 1927 | O23: 2132 | P23: 2261 | Q23: 1938 | R23: 2328 | S23: 2162 | T23: 2155 | U23: 1999 | V23: 1527 | W23: 1419 | X23: 2070 | Y23: 2035 | Z23: 1681 | AA23: 1661 | AB23: 2333 | AC23: 2371 | AD23: 2143 | AE23: 1797 | AF23: 1730 | AG23: 1792 | AH23: 1773 | AI23: 1901 | AJ23: 1993 | AK23: 1909 | AL23: 1326 | AM23: 935 | AN23: 810 | AO23: 1063 | AP23: 2430 | AQ23: 2457 | AR23: 2222 | AS23: 2064 | AT23: 1995 | AU23: 2099
A25: ='PANEL DE CONTROL DISTRITAL'!A24 -> 6 | B25: ='PANEL DE CONTROL DISTRITAL'!B24 -> ENTREGA | C25: ='PANEL DE CONTROL DISTRITAL'!C24 -> Operador de Equipo Tecnológico | D25: ='PANEL DE CONTROL DISTRITAL'!D24 -> Efectividad de entrega de CPV en MAC = | E25: ='PANEL DE CONTROL DISTRITAL'!E24 -> (Total de credenciales entregadas / Total de credenciales solicitadas) x 100 | F25: ='PANEL DE CONTROL DISTRITAL'!F24 -> Semanal (remesa) | G25: ='PANEL DE CONTROL DISTRITAL'!G24 -> 0.9 | H25: ='PANEL DE CONTROL DISTRITAL'!H24 -> Total de credenciales entregadas | I25: 255 | J25: 1163 | K25: 0 | L25: 0 | M25: 646 | N25: 675 | O25: 996 | P25: 947 | Q25: 885 | R25: 711 | S25: 995 | T25: 895 | U25: 931 | V25: 642 | W25: 576 | X25: 811 | Y25: 868 | Z25: 634 | AA25: 738 | AB25: 390 | AC25: 735 | AD25: 672 | AE25: 974 | AF25: 774 | AG25: 685 | AH25: 765 | AI25: 721 | AJ25: 837 | AK25: 789 | AL25: 718 | AM25: 391 | AN25: 125 | AO25: 572 | AP25: 851 | AQ25: 1073 | AR25: 1065 | AS25: 915 | AT25: 810 | AU25: 570 | AV25: =IFERROR(SUM(I25:AU25)/SUM(I26:AU26),0) -> 1
H26: ='PANEL DE CONTROL DISTRITAL'!H25 -> Total de credenciales solicitadas | I26: 255 | J26: 1163 | K26: 0 | L26: 0 | M26: 646 | N26: 675 | O26: 996 | P26: 947 | Q26: 885 | R26: 711 | S26: 995 | T26: 895 | U26: 931 | V26: 642 | W26: 576 | X26: 811 | Y26: 868 | Z26: 634 | AA26: 738 | AB26: 390 | AC26: 735 | AD26: 672 | AE26: 974 | AF26: 774 | AG26: 685 | AH26: 765 | AI26: 721 | AJ26: 837 | AK26: 789 | AL26: 718 | AM26: 391 | AN26: 125 | AO26: 572 | AP26: 851 | AQ26: 1073 | AR26: 1065 | AS26: 915 | AT26: 810 | AU26: 570
B27: *Registre el valor nominal solicitado en la celda, el resultado proporcional esta automatizado.
I29: Semaforización
J30: Valor que requiere atención y justificación en el apartado de observaciones
J31: Valor suficiente
J32: Valor esperado
B34: CUADRO DE OBSERVACIONES
B35: Descripción | H35: No conformidad
B36: SE REPORTA QUE LAS FICHAS QUE GENERARON UNA NOTIFICACIÓN EN EL AREA DE CAPTURA DE LAS SEMANAS OPERATIVAS: 2023-14 (3 FICHAS), 2023-15 (14 FICHAS), 2023-16 (12 FICHAS), 2023-17 (24 FICHAS), 2023-18 (24 FICHAS), 2023-19 (11 FICHAS); 2023-20 (21 FICHAS), 2023-21(28 FICHAS); 2023-22 (34 FICHAS), 2023-23 (16 FICHAS) 2023-24 (13 FICHAS) SE DEBIO A QUE, SOLO EN EL AREA DE CAPTURA SE PUEDE HACER LA VERIFICACIÓN DE CIERTA INFORMACIÓN COMO: DOMICILIO CONSISTENTE EN SOGEC CONFORME AL COMPROBANTE DE DOMICILIO PRESENTADO, CAMBIO DE TIPO DE TRÁMITE, EL ESTATUS DEL REGISTRO DE LOS TESTIGOS EN LA BASE DE DATOS, VERIFICACIÓN DEL MEDIO DE IDENTIDAD EN LA PAGINA DEL REGISTRO CIVIL, INTERMITENCIA EN LA BUSQUEDA NACIONAL, ETC.

Sheet 091351
A1: ='PANEL DE CONTROL DISTRITAL'!A1:Q1 -> INSTITUTO NACIONAL ELECTORAL SISTEMA DE GESTIÓN DE LA CALIDAD CIUDAD DE MÉXICO
D2: Distrito | E2: 13 | F2: Módulo | H2: 91351 | AS2: ='PANEL DE CONTROL DISTRITAL'!M2 -> Fecha de corte 31/08/2023
A4: TABLERO DE CONTROL DE PROCESOS SUSTANTIVOS DEL SISTEMA DE GESTIÓN DE LA CALIDAD
A6: ='PANEL DE CONTROL DISTRITAL'!A6 -> Número | B6: ='PANEL DE CONTROL DISTRITAL'!B6 -> PROCESOS SUSTANTIVOS E INDICADORES | I6: SEMANA OPERATIVA | AV6: % AVANCE REGISTRADO
B7: ='PANEL DE CONTROL DISTRITAL'!B7 -> DESCRIPCIÓN | E7: ='PANEL DE CONTROL DISTRITAL'!E7 -> MEDICIÓN | I7: ='PANEL DE CONTROL DISTRITAL'!A5 -> CAMPAÑA ANUAL PERMANENTE 2022-2023
B9: ='PANEL DE CONTROL DISTRITAL'!B8 -> Proceso | C9: ='PANEL DE CONTROL DISTRITAL'!C8 -> Dueño de Proceso | D9: ='PANEL DE CONTROL DISTRITAL'!D8 -> Indicador | E9: ='PANEL DE CONTROL DISTRITAL'!E8 -> Cálculo | F9: ='PANEL DE CONTROL DISTRITAL'!F8 -> Periodo | G9: ='PANEL DE CONTROL DISTRITAL'!G8 -> Estimado | H9: ='PANEL DE CONTROL DISTRITAL'!H8 -> Nominativo | I9: ='090151'!I9 -> 2022-53 | J9: ='090151'!J9 -> 2022-54 | K9: ='090151'!K9 -> 2022-55 | L9: ='090151'!L9 -> 2023-01 | M9: ='090151'!M9 -> 2023-02 | N9: ='090151'!N9 -> 2023-03 | O9: ='090151'!O9 -> 2023-04 | P9: ='090151'!P9 -> 2023-05 | ... AU9: ='090151'!AU9 -> 2023-36
A10: ='PANEL DE CONTROL DISTRITAL'!A9 -> 1 | B10: ='PANEL DE CONTROL DISTRITAL'!B9 -> ENTREVISTA | C10: ='PANEL DE CONTROL DISTRITAL'!C9 -> Auxiliar de Atención Ciudadana | D10: ='PANEL DE CONTROL DISTRITAL'!D9 -> Efectividad de la entrevista = | E10: ='PANEL DE CONTROL DISTRITAL'!E9 -> (Número de trámites aplicados / (Número de fichas requisitadas - Notificaciones de improcedencia de trámite)) x 100 | F10: ='PANEL DE CONTROL DISTRITAL'!F9 -> Semanal (remesa) | G10: ='PANEL DE CONTROL DISTRITAL'!G9 -> 0.9 | H10: ='PANEL DE CONTROL DISTRITAL'!H9 -> Número de trámites aplicados | I10: 191 | J10: 853 | K10: 0 | L10: 0 | M10: 770 | N10: 1059 | O10: 1018 | P10: 1028 | Q10: 931 | R10: 849 | S10: 988 | T10: 960 | U10: 1014 | V10: 1021 | W10: 931 | X10: 768 | Y10: 1015 | Z10: 656 | AA10: 944 | AB10: 893 | AC10: 923 | AD10: 548 | AE10: 841 | AF10: 946 | AG10: 981 | AH10: 971 | AI10: 938 | AJ10: 885 | AK10: 911 | AL10: 916 | AM10: 874 | AN10: 857 | AO10: 911 | AP10: 906 | AQ10: 904 | AR10: 984 | AS10: 917 | AT10: 870 | AU10: 706 | AV10: =IFERROR(SUM(I10:AU10)/SUM(I11:AU11),0) -> 0.98279699
H11: ='PANEL DE CONTROL DISTRITAL'!H10 -> Número de fichas requisitadas - Notificaciones de improcedencia de trámite | I11: 191 | J11: 853 | K11: 0 | L11: 0 | M11: 816 | N11: 1117 | O11: 1087 | P11: 1078 | Q11: 952 | R11: 889 | S11: 1046 | T11: 985 | U11: 1043 | V11: 1057 | W11: 952 | X11: 778 | Y11: 1021 | Z11: 661 | AA11: 947 | AB11: 897 | AC11: 926 | AD11: 550 | AE11: 841 | AF11: 951 | AG11: 986 | AH11: 975 | AI11: 942 | AJ11: 889 | AK11: 914 | AL11: 934 | AM11: 875 | AN11: 861 | AO11: 915 | AP11: 919 | AQ11: 907 | AR11: 992 | AS11: 918 | AT11: 873 | AU11: 712
A12: 0
A13: ='PANEL DE CONTROL DISTRITAL'!A12 -> 2 | B13: ='PANEL DE CONTROL DISTRITAL'!B12 -> TRÁMITE | C13: ='PANEL DE CONTROL DISTRITAL'!C12 -> Operador de Equipo Tecnológico | D13: ='PANEL DE CONTROL DISTRITAL'!D12 -> Trámites exitosos efectivos= | E13: ='PANEL DE CONTROL DISTRITAL'!E12 -> (Número de trámites exitosos / Número de trámites aplicados) x 100 | F13: ='PANEL DE CONTROL DISTRITAL'!F12 -> Semanal (remesa) | G13: ='PANEL DE CONTROL DISTRITAL'!G12 -> 0.9 | H13: ='PANEL DE CONTROL DISTRITAL'!H12 -> Número de trámites exitosos | I13: 190 | J13: 852 | K13: 0 | L13: 0 | M13: 766 | N13: 1057 | O13: 1017 | P13: 1028 | Q13: 931 | R13: 842 | S13: 984 | T13: 957 | U13: 1011 | V13: 1016 | W13: 927 | X13: 765 | Y13: 1014 | Z13: 653 | AA13: 941 | AB13: 889 | AC13: 919 | AD13: 548 | AE13: 839 | AF13: 944 | AG13: 980 | AH13: 967 | AI13: 934 | AJ13: 884 | AK13: 909 | AL13: 913 | AM13: 874 | AN13: 853 | AO13: 908 | AP13: 906 | AQ13: 899 | AR13: 982 | AS13: 910 | AT13: 865 | AU13: 346 | AV13: =IFERROR(SUM(I13:AU13)/SUM(I14:AU14),0) -> 0.98598445
H14: ='PANEL DE CONTROL DISTRITAL'!H13 -> Número de trámites aplicados | I14: 191 | J14: 853 | K14: 0 | L14: 0 | M14: 770 | N14: 1059 | O14: 1018 | P14: 1028 | Q14: 931 | R14: 849 | S14: 988 | T14: 960 | U14: 1014 | V14: 1021 | W14: 931 | X14: 768 | Y14: 1015 | Z14: 656 | AA14: 944 | AB14: 893 | AC14: 923 | AD14: 548 | AE14: 841 | AF14: 946 | AG14: 981 | AH14: 971 | AI14: 938 | AJ14: 885 | AK14: 911 | AL14: 916 | AM14: 874 | AN14: 857 | AO14: 911 | AP14: 906 | AQ14: 904 | AR14: 984 | AS14: 917 | AT14: 870 | AU14: 706
A16: ='PANEL DE CONTROL DISTRITAL'!A15 -> 3 | B16: ='PANEL DE CONTROL DISTRITAL'!B15 -> TRANSFERENCIA | C16: ='PANEL DE CONTROL DISTRITAL'!C15 -> Responsable de Módulo | D16: ='PANEL DE CONTROL DISTRITAL'!D15 -> Transacciones exitosas = | E16: ='PANEL DE CONTROL DISTRITAL'!E15 -> (Número de Archivos de Transacción aceptados /Total de Archivos de Transacción procesados) x100 | F16: ='PANEL DE CONTROL DISTRITAL'!F15 -> Semanal (remesa) | G16: ='PANEL DE CONTROL DISTRITAL'!G15 -> 0.9 | H16: ='PANEL DE CONTROL DISTRITAL'!H15 -> Número de Archivos de Transacción aceptados | I16: 191 | J16: 853 | K16: 0 | L16: 0 | M16: 770 | N16: 1059 | O16: 1018 | P16: 1028 | Q16: 931 | R16: 849 | S16: 988 | T16: 960 | U16: 1014 | V16: 1021 | W16: 931 | X16: 768 | Y16: 1015 | Z16: 656 | AA16: 944 | AB16: 893 | AC16: 923 | AD16: 548 | AE16: 841 | AF16: 946 | AG16: 981 | AH16: 971 | AI16: 938 | AJ16: 885 | AK16: 911 | AL16: 916 | AM16: 874 | AN16: 857 | AO16: 911 | AP16: 906 | AQ16: 904 | AR16: 984 | AS16: 917 | AT16: 870 | AU16: 706 | AV16: =IFERROR(SUM(I16:AU16)/SUM(I17:AU17),0) -> 1
H17: ='PANEL DE CONTROL DISTRITAL'!H16 -> Total de Archivos de Transacción procesados | I17: 191 | J17: 853 | K17: 0 | L17: 0 | M17: 770 | N17: 1059 | O17: 1018 | P17: 1028 | Q17: 931 | R17: 849 | S17: 988 | T17: 960 | U17: 1014 | V17: 1021 | W17: 931 | X17: 768 | Y17: 1015 | Z17: 656 | AA17: 944 | AB17: 893 | AC17: 923 | AD17: 548 | AE17: 841 | AF17: 946 | AG17: 981 | AH17: 971 | AI17: 938 | AJ17: 885 | AK17: 911 | AL17: 916 | AM17: 874 | AN17: 857 | AO17: 911 | AP17: 906 | AQ17: 904 | AR17: 984 | AS17: 917 | AT17: 870 | AU17: 706
A19: ='PANEL DE CONTROL DISTRITAL'!A18 -> 4 | B19: ='PANEL DE CONTROL DISTRITAL'!B18 -> CONCILIACIÓN | C19: ='PANEL DE CONTROL DISTRITAL'!C18 -> Responsable de Módulo | D19: ='PANEL DE CONTROL DISTRITAL'!D18 -> Credenciales disponibles para entrega = | E19: ='PANEL DE CONTROL DISTRITAL'!E18 -> ((Credenciales recibidas - Credenciales inconsistentes) / Credenciales recibidas) x 100 | F19: ='PANEL DE CONTROL DISTRITAL'!F18 -> Semanal (remesa) | G19: ='PANEL DE CONTROL DISTRITAL'!G18 -> 0.9 | H19: ='PANEL DE CONTROL DISTRITAL'!H18 -> Credenciales Recibidas - Credenciales inconsistentes | I19: 379 | J19: 749 | K19: 0 | L19: 0 | M19: 370 | N19: 896 | O19: 1320 | P19: 1158 | Q19: 714 | R19: 1052 | S19: 1051 | T19: 933 | U19: 1036 | V19: 202 | W19: 456 | X19: 1979 | Y19: 1062 | Z19: 560 | AA19: 686 | AB19: 1252 | AC19: 923 | AD19: 537 | AE19: 891 | AF19: 904 | AG19: 978 | AH19: 964 | AI19: 747 | AJ19: 1158 | AK19: 899 | AL19: 180 | AM19: 0 | AN19: 0 | AO19: 1125 | AP19: 2469 | AQ19: 1512 | AR19: 993 | AS19: 974 | AT19: 902 | AU19: 689 | AV19: =IFERROR(SUM(I19:AU19)/SUM(I20:AU20),0) -> 1
H20: ='PANEL DE CONTROL DISTRITAL'!H19 -> Credenciales recibidas | I20: 379 | J20: 749 | K20: 0 | L20: 0 | M20: 370 | N20: 896 | O20: 1320 | P20: 1158 | Q20: 714 | R20: 1052 | S20: 1051 | T20: 933 | U20: 1036 | V20: 202 | W20: 456 | X20: 1979 | Y20: 1062 | Z20: 560 | AA20: 686 | AB20: 1252 | AC20: 923 | AD20: 537 | AE20: 891 | AF20: 904 | AG20: 978 | AH20: 964 | AI20: 747 | AJ20: 1158 | AK20: 899 | AL20: 180 | AM20: 0 | AN20: 0 | AO20: 1125 | AP20: 2469 | AQ20: 1512 | AR20: 993 | AS20: 974 | AT20: 902 | AU20: 689
A22: ='PANEL DE CONTROL DISTRITAL'!A21 -> 5 | B22: ='PANEL DE CONTROL DISTRITAL'!B21 -> CONCILIACIÓN | C22: ='PANEL DE CONTROL DISTRITAL'!C21 -> Responsable de Módulo | D22: ='PANEL DE CONTROL DISTRITAL'!D21 -> Credenciales disponibles para entrega = | E22: ='PANEL DE CONTROL DISTRITAL'!E21 -> (Credenciales en resguardo / Credenciales totales en SIIRFE disponibles para entrega) x 100 | F22: ='PANEL DE CONTROL DISTRITAL'!F21 -> Semanal (remesa) | G22: ='PANEL DE CONTROL DISTRITAL'!G21 -> 1 | H22: ='PANEL DE CONTROL DISTRITAL'!H21 -> Credenciales en resguardo | I22: 1950 | J22: 1669 | K22: 1669 | L22: 1669 | M22: 1338 | N22: 1534 | O22: 1757 | P22: 1870 | Q22: 1622 | R22: 1751 | S22: 1911 | T22: 1827 | U22: 1883 | V22: 1111 | W22: 1147 | X22: 2050 | Y22: 2068 | Z22: 1851 | AA22: 1553 | AB22: 2288 | AC22: 2391 | AD22: 2058 | AE22: 1847 | AF22: 1904 | AG22: 2013 | AH22: 1999 | AI22: 1813 | AJ22: 1992 | AK22: 2004 | AL22: 1309 | AM22: 852 | AN22: 722 | AO22: 1299 | AP22: 2553 | AQ22: 2275 | AR22: 2194 | AS22: 2129 | AT22: 2055 | AU22: 2029 | AV22: =IFERROR(SUM(I22:AU22)/SUM(I23:AU23),0) -> 1
H23: ='PANEL DE CONTROL DISTRITAL'!H22 -> Credenciales totales en SIIRFE disponibles para entrega | I23: 1950 | J23: 1669 | K23: 1669 | L23: 1669 | M23: 1338 | N23: 1534 | O23: 1757 | P23: 1870 | Q23: 1622 | R23: 1751 | S23: 1911 | T23: 1827 | U23: 1883 | V23: 1111 | W23: 1147 | X23: 2050 | Y23: 2068 | Z23: 1851 | AA23: 1553 | AB23: 2288 | AC23: 2391 | AD23: 2058 | AE23: 1847 | AF23: 1904 | AG23: 2013 | AH23: 1999 | AI23: 1813 | AJ23: 1992 | AK23: 2004 | AL23: 1309 | AM23: 852 | AN23: 722 | AO23: 1299 | AP23: 2553 | AQ23: 2275 | AR23: 2194 | AS23: 2129 | AT23: 2055 | AU23: 2029
A25: ='PANEL DE CONTROL DISTRITAL'!A24 -> 6 | B25: ='PANEL DE CONTROL DISTRITAL'!B24 -> ENTREGA | C25: ='PANEL DE CONTROL DISTRITAL'!C24 -> Operador de Equipo Tecnológico | D25: ='PANEL DE CONTROL DISTRITAL'!D24 -> Efectividad de entrega de CPV en MAC = | E25: ='PANEL DE CONTROL DISTRITAL'!E24 -> (Total de credenciales entregadas / Total de credenciales solicitadas) x 100 | F25: ='PANEL DE CONTROL DISTRITAL'!F24 -> Semanal (remesa) | G25: ='PANEL DE CONTROL DISTRITAL'!G24 -> 0.9 | H25: ='PANEL DE CONTROL DISTRITAL'!H24 -> Total de credenciales entregadas | I25: 313 | J25: 1030 | K25: 0 | L25: 0 | M25: 701 | N25: 700 | O25: 1097 | P25: 1045 | Q25: 962 | R25: 923 | S25: 877 | T25: 1017 | U25: 941 | V25: 974 | W25: 418 | X25: 1076 | Y25: 1044 | Z25: 773 | AA25: 984 | AB25: 511 | AC25: 820 | AD25: 870 | AE25: 1096 | AF25: 847 | AG25: 869 | AH25: 977 | AI25: 937 | AJ25: 979 | AK25: 887 | AL25: 875 | AM25: 457 | AN25: 130 | AO25: 548 | AP25: 1202 | AQ25: 1790 | AR25: 1074 | AS25: 1039 | AT25: 976 | AU25: 715 | AV25: =IFERROR(SUM(I25:AU25)/SUM(I26:AU26),0) -> 1
H26: ='PANEL DE CONTROL DISTRITAL'!H25 -> Total de credenciales solicitadas | I26: 313 | J26: 1030 | K26: 0 | L26: 0 | M26: 701 | N26: 700 | O26: 1097 | P26: 1045 | Q26: 962 | R26: 923 | S26: 877 | T26: 1017 | U26: 941 | V26: 974 | W26: 418 | X26: 1076 | Y26: 1044 | Z26: 773 | AA26: 984 | AB26: 511 | AC26: 820 | AD26: 870 | AE26: 1096 | AF26: 847 | AG26: 869 | AH26: 977 | AI26: 937 | AJ26: 979 | AK26: 887 | AL26: 875 | AM26: 457 | AN26: 130 | AO26: 548 | AP26: 1202 | AQ26: 1790 | AR26: 1074 | AS26: 1039 | AT26: 976 | AU26: 715
B27: *Registre el valor nominal solicitado en la celda, el resultado proporcional esta automatizado.
I29: Semaforización
J30: Valor que requiere atención y justificación en el apartado de observaciones
J31: Valor suficiente
J32: Valor esperado
B34: CUADRO DE OBSERVACIONES
B35: Descripción | H35: No conformidad

Sheet 091451
A1: ='PANEL DE CONTROL DISTRITAL'!A1:Q1 -> INSTITUTO NACIONAL ELECTORAL SISTEMA DE GESTIÓN DE LA CALIDAD CIUDAD DE MÉXICO
D2: Distrito | E2: 14 | F2: Módulo | H2: 91452 | AS2: ='PANEL DE CONTROL DISTRITAL'!M2 -> Fecha de corte 31/08/2023
A4: TABLERO DE CONTROL DE PROCESOS SUSTANTIVOS DEL SISTEMA DE GESTIÓN DE LA CALIDAD
A6: ='PANEL DE CONTROL DISTRITAL'!A6 -> Número | B6: ='PANEL DE CONTROL DISTRITAL'!B6 -> PROCESOS SUSTANTIVOS E INDICADORES | I6: SEMANA OPERATIVA | AV6: % AVANCE REGISTRADO
B7: ='PANEL DE CONTROL DISTRITAL'!B7 -> DESCRIPCIÓN | E7: ='PANEL DE CONTROL DISTRITAL'!E7 -> MEDICIÓN | I7: ='PANEL DE CONTROL DISTRITAL'!A5 -> CAMPAÑA ANUAL PERMANENTE 2022-2023
B9: ='PANEL DE CONTROL DISTRITAL'!B8 -> Proceso | C9: ='PANEL DE CONTROL DISTRITAL'!C8 -> Dueño de Proceso | D9: ='PANEL DE CONTROL DISTRITAL'!D8 -> Indicador | E9: ='PANEL DE CONTROL DISTRITAL'!E8 -> Cálculo | F9: ='PANEL DE CONTROL DISTRITAL'!F8 -> Periodo | G9: ='PANEL DE CONTROL DISTRITAL'!G8 -> Estimado | H9: ='PANEL DE CONTROL DISTRITAL'!H8 -> Nominativo | I9: ='090151'!I9 -> 2022-53 | J9: ='090151'!J9 -> 2022-54 | K9: ='090151'!K9 -> 2022-55 | L9: ='090151'!L9 -> 2023-01 | M9: ='090151'!M9 -> 2023-02 | N9: ='090151'!N9 -> 2023-03 | O9: ='090151'!O9 -> 2023-04 | P9: ='090151'!P9 -> 2023-05 | ... AU9: ='090151'!AU9 -> 2023-36
A10: ='PANEL DE CONTROL DISTRITAL'!A9 -> 1 | B10: ='PANEL DE CONTROL DISTRITAL'!B9 -> ENTREVISTA | C10: ='PANEL DE CONTROL DISTRITAL'!C9 -> Auxiliar de Atención Ciudadana | D10: ='PANEL DE CONTROL DISTRITAL'!D9 -> Efectividad de la entrevista = | E10: ='PANEL DE CONTROL DISTRITAL'!E9 -> (Número de trámites aplicados / (Número de fichas requisitadas - Notificaciones de improcedencia de trámite)) x 100 | F10: ='PANEL DE CONTROL DISTRITAL'!F9 -> Semanal (remesa) | G10: ='PANEL DE CONTROL DISTRITAL'!G9 -> 0.9 | H10: ='PANEL DE CONTROL DISTRITAL'!H9 -> Número de trámites aplicados | I10: 148 | J10: 639 | K10: 0 | L10: 0 | M10: 619 | N10: 782 | O10: 744 | P10: 802 | Q10: 797 | R10: 661 | S10: 783 | T10: 810 | U10: 738 | V10: 740 | W10: 759 | X10: 568 | Y10: 741 | Z10: 472 | AA10: 746 | AB10: 738 | AC10: 679 | AD10: 426 | AE10: 603 | AF10: 692 | AG10: 707 | AH10: 729 | AI10: 700 | AJ10: 713 | AK10: 712 | AL10: 696 | AM10: 762 | AN10: 624 | AO10: 661 | AP10: 635 | AQ10: 677 | AR10: 746 | AS10: 715 | AT10: 718 | AU10: 549 | AV10: =IFERROR(SUM(I10:AU10)/SUM(I11:AU11),0) -> 0.9887423
H11: ='PANEL DE CONTROL DISTRITAL'!H10 -> Número de fichas requisitadas - Notificaciones de improcedencia de trámite | I11: 150 | J11: 651 | K11: 0 | L11: 0 | M11: 631 | N11: 793 | O11: 756 | P11: 812 | Q11: 808 | R11: 667 | S11: 794 | T11: 824 | U11: 756 | V11: 751 | W11: 771 | X11: 568 | Y11: 752 | Z11: 481 | AA11: 749 | AB11: 743 | AC11: 686 | AD11: 429 | AE11: 606 | AF11: 702 | AG11: 711 | AH11: 737 | AI11: 707 | AJ11: 721 | AK11: 718 | AL11: 698 | AM11: 766 | AN11: 625 | AO11: 669 | AP11: 639 | AQ11: 695 | AR11: 754 | AS11: 718 | AT11: 724 | AU11: 554
A13: ='PANEL DE CONTROL DISTRITAL'!A12 -> 2 | B13: ='PANEL DE CONTROL DISTRITAL'!B12 -> TRÁMITE | C13: ='PANEL DE CONTROL DISTRITAL'!C12 -> Operador de Equipo Tecnológico | D13: ='PANEL DE CONTROL DISTRITAL'!D12 -> Trámites exitosos efectivos= | E13: ='PANEL DE CONTROL DISTRITAL'!E12 -> (Número de trámites exitosos / Número de trámites aplicados) x 100 | F13: ='PANEL DE CONTROL DISTRITAL'!F12 -> Semanal (remesa) | G13: ='PANEL DE CONTROL DISTRITAL'!G12 -> 0.9 | H13: ='PANEL DE CONTROL DISTRITAL'!H12 -> Número de trámites exitosos | I13: 147 | J13: 639 | K13: 0 | L13: 0 | M13: 619 | N13: 782 | O13: 744 | P13: 802 | Q13: 796 | R13: 661 | S13: 783 | T13: 808 | U13: 737 | V13: 738 | W13: 758 | X13: 567 | Y13: 739 | Z13: 472 | AA13: 744 | AB13: 735 | AC13: 679 | AD13: 426 | AE13: 601 | AF13: 689 | AG13: 706 | AH13: 727 | AI13: 699 | AJ13: 710 | AK13: 708 | AL13: 693 | AM13: 761 | AN13: 623 | AO13: 660 | AP13: 634 | AQ13: 674 | AR13: 743 | AS13: 712 | AT13: 718 | AU13: 547 | AV13: =IFERROR(SUM(I13:AU13)/SUM(I14:AU14),0) -> 0.99808222
H14: ='PANEL DE CONTROL DISTRITAL'!H13 -> Número de trámites aplicados | I14: 148 | J14: 639 | K14: 0 | L14: 0 | M14: 619 | N14: 782 | O14: 744 | P14: 802 | Q14: 797 | R14: 661 | S14: 783 | T14: 810 | U14: 738 | V14: 740 | W14: 759 | X14: 568 | Y14: 741 | Z14: 472 | AA14: 746 | AB14: 736 | AC14: 679 | AD14: 426 | AE14: 603 | AF14: 692 | AG14: 707 | AH14: 729 | AI14: 700 | AJ14: 713 | AK14: 712 | AL14: 696 | AM14: 762 | AN14: 624 | AO14: 661 | AP14: 635 | AQ14: 677 | AR14: 746 | AS14: 715 | AT14: 718 | AU14: 549
A16: ='PANEL DE CONTROL DISTRITAL'!A15 -> 3 | B16: ='PANEL DE CONTROL DISTRITAL'!B15 -> TRANSFERENCIA | C16: ='PANEL DE CONTROL DISTRITAL'!C15 -> Responsable de Módulo | D16: ='PANEL DE CONTROL DISTRITAL'!D15 -> Transacciones exitosas = | E16: ='PANEL DE CONTROL DISTRITAL'!E15 -> (Número de Archivos de Transacción aceptados /Total de Archivos de Transacción procesados) x100 | F16: ='PANEL DE CONTROL DISTRITAL'!F15 -> Semanal (remesa) | G16: ='PANEL DE CONTROL DISTRITAL'!G15 -> 0.9 | H16: ='PANEL DE CONTROL DISTRITAL'!H15 -> Número de Archivos de Transacción aceptados | I16: 147 | J16: 639 | K16: 0 | L16: 0 | M16: 619 | N16: 782 | O16: 744 | P16: 802 | Q16: 796 | R16: 661 | S16: 783 | T16: 808 | U16: 737 | V16: 738 | W16: 758 | X16: 567 | Y16: 739 | Z16: 472 | AA16: 744 | AB16: 735 | AC16: 679 | AD16: 426 | AE16: 601 | AF16: 689 | AG16: 706 | AH16: 727 | AI16: 699 | AJ16: 710 | AK16: 708 | AL16: 693 | AM16: 761 | AN16: 623 | AO16: 660 | AP16: 634 | AQ16: 674 | AR16: 743 | AS16: 712 | AT16: 718 | AU16: 547 | AV16: =IFERROR(SUM(I16:AU16)/SUM(I17:AU17),0) -> 0.99808222
H17: ='PANEL DE CONTROL DISTRITAL'!H16 -> Total de Archivos de Transacción procesados | I17: 148 | J17: 639 | K17: 0 | L17: 0 | M17: 619 | N17: 782 | O17: 744 | P17: 802 | Q17: 797 | R17: 661 | S17: 783 | T17: 810 | U17: 738 | V17: 740 | W17: 759 | X17: 568 | Y17: 741 | Z17: 472 | AA17: 746 | AB17: 736 | AC17: 679 | AD17: 426 | AE17: 603 | AF17: 692 | AG17: 707 | AH17: 729 | AI17: 700 | AJ17: 713 | AK17: 712 | AL17: 696 | AM17: 762 | AN17: 624 | AO17: 661 | AP17: 635 | AQ17: 677 | AR17: 746 | AS17: 715 | AT17: 718 | AU17: 549
A19: ='PANEL DE CONTROL DISTRITAL'!A18 -> 4 | B19: ='PANEL DE CONTROL DISTRITAL'!B18 -> CONCILIACIÓN | C19: ='PANEL DE CONTROL DISTRITAL'!C18 -> Responsable de Módulo | D19: ='PANEL DE CONTROL DISTRITAL'!D18 -> Credenciales disponibles para entrega = | E19: ='PANEL DE CONTROL DISTRITAL'!E18 -> ((Credenciales recibidas - Credenciales inconsistentes) / Credenciales recibidas) x 100 | F19: ='PANEL DE CONTROL DISTRITAL'!F18 -> Semanal (remesa) | G19: ='PANEL DE CONTROL DISTRITAL'!G18 -> 0.9 | H19: ='PANEL DE CONTROL DISTRITAL'!H18 -> Credenciales Recibidas - Credenciales inconsistentes | I19: 327 | J19: 591 | K19: 0 | L19: 0 | M19: 226 | N19: 857 | O19: 864 | P19: 922 | Q19: 540 | R19: 928 | S19: 799 | T19: 767 | U19: 795 | V19: 149 | W19: 388 | X19: 1493 | Y19: 778 | Z19: 416 | AA19: 495 | AB19: 1008 | AC19: 721 | AD19: 401 | AE19: 637 | AF19: 692 | AG19: 681 | AH19: 719 | AI19: 428 | AJ19: 1002 | AK19: 699 | AL19: 151 | AM19: 0 | AN19: 1 | AO19: 839 | AP19: 1789 | AQ19: 1254 | AR19: 735 | AS19: 745 | AT19: 703 | AU19: 604 | AV19: =IFERROR(SUM(I19:AU19)/SUM(I20:AU20),0) -> 1
H20: ='PANEL DE CONTROL DISTRITAL'!H19 -> Credenciales recibidas | I20: 327 | J20: 591 | K20: 0 | L20: 0 | M20: 226 | N20: 857 | O20: 864 | P20: 922 | Q20: 540 | R20: 928 | S20: 799 | T20: 767 | U20: 795 | V20: 149 | W20: 388 | X20: 1493 | Y20: 778 | Z20: 416 | AA20: 495 | AB20: 1008 | AC20: 721 | AD20: 401 | AE20: 637 | AF20: 692 | AG20: 681 | AH20: 719 | AI20: 428 | AJ20: 1002 | AK20: 699 | AL20: 151 | AM20: 0 | AN20: 1 | AO20: 839 | AP20: 1789 | AQ20: 1254 | AR20: 735 | AS20: 745 | AT20: 703 | AU20: 604
A22: ='PANEL DE CONTROL DISTRITAL'!A21 -> 5 | B22: ='PANEL DE CONTROL DISTRITAL'!B21 -> CONCILIACIÓN | C22: ='PANEL DE CONTROL DISTRITAL'!C21 -> Responsable de Módulo | D22: ='PANEL DE CONTROL DISTRITAL'!D21 -> Credenciales disponibles para entrega = | E22: ='PANEL DE CONTROL DISTRITAL'!E21 -> (Credenciales en resguardo / Credenciales totales en SIIRFE disponibles para entrega) x 100 | F22: ='PANEL DE CONTROL DISTRITAL'!F21 -> Semanal (remesa) | G22: ='PANEL DE CONTROL DISTRITAL'!G21 -> 1 | H22: ='PANEL DE CONTROL DISTRITAL'!H21 -> Credenciales en resguardo | I22: 1327 | J22: 1217 | K22: 1217 | L22: 1217 | M22: 1005 | N22: 1114 | O22: 1168 | P22: 1335 | Q22: 1119 | R22: 1289 | S22: 1361 | T22: 1345 | U22: 1333 | V22: 691 | W22: 815 | X22: 1492 | Y22: 1445 | Z22: 1270 | AA22: 1076 | AB22: 1666 | AC22: 1405 | AD22: 1233 | AE22: 1118 | AF22: 1209 | AG22: 1240 | AH22: 1294 | AI22: 1001 | AJ22: 1303 | AK22: 1306 | AL22: 746 | AM22: 474 | AN22: 407 | AO22: 743 | AP22: 1769 | AQ22: 1759 | AR22: 1601 | AS22: 1515 | AT22: 1412 | AU22: 1542 | AV22: =IFERROR(SUM(I22:AU22)/SUM(I23:AU23),0) -> 1
H23: ='PANEL DE CONTROL DISTRITAL'!H22 -> Credenciales totales en SIIRFE disponibles para entrega | I23: 1327 | J23: 1217 | K23: 1217 | L23: 1217 | M23: 1005 | N23: 1114 | O23: 1168 | P23: 1335 | Q23: 1119 | R23: 1289 | S23: 1361 | T23: 1345 | U23: 1333 | V23: 691 | W23: 815 | X23: 1492 | Y23: 1445 | Z23: 1270 | AA23: 1076 | AB23: 1666 | AC23: 1405 | AD23: 1233 | AE23: 1118 | AF23: 1209 | AG23: 1240 | AH23: 1294 | AI23: 1001 | AJ23: 1303 | AK23: 1306 | AL23: 746 | AM23: 474 | AN23: 407 | AO23: 743 | AP23: 1769 | AQ23: 1759 | AR23: 1601 | AS23: 1515 | AT23: 1412 | AU23: 1542
A25: ='PANEL DE CONTROL DISTRITAL'!A24 -> 6 | B25: ='PANEL DE CONTROL DISTRITAL'!B24 -> ENTREGA | C25: ='PANEL DE CONTROL DISTRITAL'!C24 -> Operador de Equipo Tecnológico | D25: ='PANEL DE CONTROL DISTRITAL'!D24 -> Efectividad de entrega de CPV en MAC = | E25: ='PANEL DE CONTROL DISTRITAL'!E24 -> (Total de credenciales entregadas / Total de credenciales solicitadas) x 100 | F25: ='PANEL DE CONTROL DISTRITAL'!F24 -> Semanal (remesa) | G25: ='PANEL DE CONTROL DISTRITAL'!G24 -> 0.9 | H25: ='PANEL DE CONTROL DISTRITAL'!H24 -> Total de credenciales entregadas | I25: 246 | J25: 701 | K25: 0 | L25: 0 | M25: 438 | N25: 748 | O25: 810 | P25: 755 | Q25: 756 | R25: 758 | S25: 721 | T25: 783 | U25: 792 | V25: 791 | W25: 259 | X25: 816 | Y25: 825 | Z25: 587 | AA25: 687 | AB25: 418 | AC25: 982 | AD25: 573 | AE25: 747 | AF25: 600 | AG25: 650 | AH25: 665 | AI25: 720 | AJ25: 700 | AK25: 696 | AL25: 711 | AM25: 272 | AN25: 68 | AO25: 503 | AP25: 757 | AQ25: 1264 | AR25: 893 | AS25: 831 | AT25: 804 | AU25: 474 | AV25: =IFERROR(SUM(I25:AU25)/SUM(I26:AU26),0) -> 1
H26: ='PANEL DE CONTROL DISTRITAL'!H25 -> Total de credenciales solicitadas | I26: 246 | J26: 701 | K26: 0 | L26: 0 | M26: 438 | N26: 748 | O26: 810 | P26: 755 | Q26: 756 | R26: 758 | S26: 721 | T26: 783 | U26: 792 | V26: 791 | W26: 259 | X26: 816 | Y26: 825 | Z26: 587 | AA26: 687 | AB26: 418 | AC26: 982 | AD26: 573 | AE26: 747 | AF26: 600 | AG26: 650 | AH26: 665 | AI26: 720 | AJ26: 700 | AK26: 696 | AL26: 711 | AM26: 272 | AN26: 68 | AO26: 503 | AP26: 757 | AQ26: 1264 | AR26: 893 | AS26: 831 | AT26: 804 | AU26: 474
B27: *Registre el valor nominal solicitado en la celda, el resultado proporcional esta automatizado.
I29: Semaforización
J30: Valor que requiere atención y justificación en el apartado de observaciones
J31: Valor suficiente
J32: Valor esperado
B34: CUADRO DE OBSERVACIONES
B35: Descripción | H35: No conformidad

Sheet 091551
A1: ='PANEL DE CONTROL DISTRITAL'!A1:Q1 -> INSTITUTO NACIONAL ELECTORAL SISTEMA DE GESTIÓN DE LA CALIDAD CIUDAD DE MÉXICO
D2: Distrito | E2: 15 | F2: Módulo | H2: 91551 | AS2: ='PANEL DE CONTROL DISTRITAL'!M2 -> Fecha de corte 31/08/2023
A4: TABLERO DE CONTROL DE PROCESOS SUSTANTIVOS DEL SISTEMA DE GESTIÓN DE LA CALIDAD
A6: ='PANEL DE CONTROL DISTRITAL'!A6 -> Número | B6: ='PANEL DE CONTROL DISTRITAL'!B6 -> PROCESOS SUSTANTIVOS E INDICADORES | I6: SEMANA OPERATIVA | AV6: % AVANCE REGISTRADO
B7: ='PANEL DE CONTROL DISTRITAL'!B7 -> DESCRIPCIÓN | E7: ='PANEL DE CONTROL DISTRITAL'!E7 -> MEDICIÓN | I7: ='PANEL DE CONTROL DISTRITAL'!A5 -> CAMPAÑA ANUAL PERMANENTE 2022-2023
B9: ='PANEL DE CONTROL DISTRITAL'!B8 -> Proceso | C9: ='PANEL DE CONTROL DISTRITAL'!C8 -> Dueño de Proceso | D9: ='PANEL DE CONTROL DISTRITAL'!D8 -> Indicador | E9: ='PANEL DE CONTROL DISTRITAL'!E8 -> Cálculo | F9: ='PANEL DE CONTROL DISTRITAL'!F8 -> Periodo | G9: ='PANEL DE CONTROL DISTRITAL'!G8 -> Estimado | H9: ='PANEL DE CONTROL DISTRITAL'!H8 -> Nominativo | I9: ='090151'!I9 -> 2022-53 | J9: ='090151'!J9 -> 2022-54 | K9: ='090151'!K9 -> 2022-55 | L9: ='090151'!L9 -> 2023-01 | M9: ='090151'!M9 -> 2023-02 | N9: ='090151'!N9 -> 2023-03 | O9: ='090151'!O9 -> 2023-04 | P9: ='090151'!P9 -> 2023-05 | ... AU9: ='090151'!AU9 -> 2023-36
A10: ='PANEL DE CONTROL DISTRITAL'!A9 -> 1 | B10: ='PANEL DE CONTROL DISTRITAL'!B9 -> ENTREVISTA | C10: ='PANEL DE CONTROL DISTRITAL'!C9 -> Auxiliar de Atención Ciudadana | D10: ='PANEL DE CONTROL DISTRITAL'!D9 -> Efectividad de la entrevista = | E10: ='PANEL DE CONTROL DISTRITAL'!E9 -> (Número de trámites aplicados / (Número de fichas requisitadas - Notificaciones de improcedencia de trámite)) x 100 | F10: ='PANEL DE CONTROL DISTRITAL'!F9 -> Semanal (remesa) | G10: ='PANEL DE CONTROL DISTRITAL'!G9 -> 0.9 | H10: ='PANEL DE CONTROL DISTRITAL'!H9 -> Número de trámites aplicados | I10: 247 | J10: 1150 | K10: 0 | L10: 0 | M10: 1018 | N10: 1205 | O10: 1282 | P10: 1352 | Q10: 1285 | R10: 981 | S10: 1242 | T10: 1243 | U10: 1274 | V10: 1177 | W10: 1203 | X10: 926 | Y10: 1154 | Z10: 848 | AA10: 1183 | AB10: 1169 | AC10: 1101 | AD10: 650 | AE10: 932 | AF10: 1101 | AG10: 1094 | AH10: 1121 | AI10: 1100 | AJ10: 1072 | AK10: 1096 | AL10: 1065 | AM10: 961 | AN10: 1167 | AO10: 1122 | AP10: 1089 | AQ10: 1123 | AR10: 1157 | AS10: 1072 | AT10: 1075 | AU10: 834 | AV10: =IFERROR(SUM(I10:AU10)/SUM(I11:AU11),0) -> 0.99391749
H11: ='PANEL DE CONTROL DISTRITAL'!H10 -> Número de fichas requisitadas - Notificaciones de improcedencia de trámite | I11: 247 | J11: 1150 | K11: 0 | L11: 0 | M11: 1018 | N11: 1217 | O11: 1290 | P11: 1365 | Q11: 1298 | R11: 987 | S11: 1248 | T11: 1252 | U11: 1290 | V11: 1188 | W11: 1209 | X11: 934 | Y11: 1162 | Z11: 859 | AA11: 1194 | AB11: 1182 | AC11: 1107 | AD11: 660 | AE11: 940 | AF11: 1108 | AG11: 1094 | AH11: 1131 | AI11: 1107 | AJ11: 1075 | AK11: 1099 | AL11: 1071 | AM11: 965 | AN11: 1170 | AO11: 1122 | AP11: 1091 | AQ11: 1126 | AR11: 1158 | AS11: 1078 | AT11: 1082 | AU11: 841
A13: ='PANEL DE CONTROL DISTRITAL'!A12 -> 2 | B13: ='PANEL DE CONTROL DISTRITAL'!B12 -> TRÁMITE | C13: ='PANEL DE CONTROL DISTRITAL'!C12 -> Operador de Equipo Tecnológico | D13: ='PANEL DE CONTROL DISTRITAL'!D12 -> Trámites exitosos efectivos= | E13: ='PANEL DE CONTROL DISTRITAL'!E12 -> (Número de trámites exitosos / Número de trámites aplicados) x 100 | F13: ='PANEL DE CONTROL DISTRITAL'!F12 -> Semanal (remesa) | G13: ='PANEL DE CONTROL DISTRITAL'!G12 -> 0.9 | H13: ='PANEL DE CONTROL DISTRITAL'!H12 -> Número de trámites exitosos | I13: 247 | J13: 1148 | K13: 0 | L13: 0 | M13: 1015 | N13: 1201 | O13: 1281 | P13: 1351 | Q13: 1284 | R13: 980 | S13: 1239 | T13: 1242 | U13: 1273 | V13: 1176 | W13: 1201 | X13: 926 | Y13: 1154 | Z13: 848 | AA13: 1183 | AB13: 1167 | AC13: 1099 | AD13: 650 | AE13: 929 | AF13: 1098 | AG13: 1090 | AH13: 1121 | AI13: 1097 | AJ13: 1070 | AK13: 1098 | AL13: 1071 | AM13: 962 | AN13: 1169 | AO13: 1121 | AP13: 1090 | AQ13: 1125 | AR13: 1157 | AS13: 1074 | AT13: 1082 | AU13: 838 | AV13: =IFERROR(SUM(I13:AU13)/SUM(I14:AU14),0) -> 0.99862197
H14: ='PANEL DE CONTROL DISTRITAL'!H13 -> Número de trámites aplicados | I14: 247 | J14: 1150 | K14: 0 | L14: 0 | M14: 1018 | N14: 1205 | O14: 1282 | P14: 1352 | Q14: 1285 | R14: 981 | S14: 1242 | T14: 1243 | U14: 1274 | V14: 1177 | W14: 1203 | X14: 926 | Y14: 1154 | Z14: 848 | AA14: 1183 | AB14: 1169 | AC14: 1101 | AD14: 650 | AE14: 932 | AF14: 1101 | AG14: 1094 | AH14: 1121 | AI14: 1100 | AJ14: 1072 | AK14: 1099 | AL14: 1071 | AM14: 965 | AN14: 1170 | AO14: 1122 | AP14: 1091 | AQ14: 1126 | AR14: 1158 | AS14: 1077 | AT14: 1082 | AU14: 841
A16: ='PANEL DE CONTROL DISTRITAL'!A15 -> 3 | B16: ='PANEL DE CONTROL DISTRITAL'!B15 -> TRANSFERENCIA | C16: ='PANEL DE CONTROL DISTRITAL'!C15 -> Responsable de Módulo | D16: ='PANEL DE CONTROL DISTRITAL'!D15 -> Transacciones exitosas = | E16: ='PANEL DE CONTROL DISTRITAL'!E15 -> (Número de Archivos de Transacción aceptados /Total de Archivos de Transacción procesados) x100 | F16: ='PANEL DE CONTROL DISTRITAL'!F15 -> Semanal (remesa) | G16: ='PANEL DE CONTROL DISTRITAL'!G15 -> 0.9 | H16: ='PANEL DE CONTROL DISTRITAL'!H15 -> Número de Archivos de Transacción aceptados | I16: 247 | J16: 1150 | K16: 0 | L16: 0 | M16: 1018 | N16: 1205 | O16: 1282 | P16: 1352 | Q16: 1285 | R16: 981 | S16: 1242 | T16: 1243 | U16: 1274 | V16: 1177 | W16: 1203 | X16: 926 | Y16: 1154 | Z16: 848 | AA16: 1183 | AB16: 1169 | AC16: 1101 | AD16: 650 | AE16: 932 | AF16: 1101 | AG16: 1094 | AH16: 1121 | AI16: 1100 | AJ16: 1072 | AK16: 1099 | AL16: 1071 | AM16: 965 | AN16: 1170 | AO16: 1122 | AP16: 1091 | AQ16: 1126 | AR16: 1158 | AS16: 1077 | AT16: 1082 | AU16: 841 | AV16: =IFERROR(SUM(I16:AU16)/SUM(I17:AU17),0) -> 1
H17: ='PANEL DE CONTROL DISTRITAL'!H16 -> Total de Archivos de Transacción procesados | I17: 247 | J17: 1150 | K17: 0 | L17: 0 | M17: 1018 | N17: 1205 | O17: 1282 | P17: 1352 | Q17: 1285 | R17: 981 | S17: 1242 | T17: 1243 | U17: 1274 | V17: 1177 | W17: 1203 | X17: 926 | Y17: 1154 | Z17: 848 | AA17: 1183 | AB17: 1169 | AC17: 1101 | AD17: 650 | AE17: 932 | AF17: 1101 | AG17: 1094 | AH17: 1121 | AI17: 1100 | AJ17: 1072 | AK17: 1099 | AL17: 1071 | AM17: 965 | AN17: 1170 | AO17: 1122 | AP17: 1091 | AQ17: 1126 | AR17: 1158 | AS17: 1077 | AT17: 1082 | AU17: 841
A19: ='PANEL DE CONTROL DISTRITAL'!A18 -> 4 | B19: ='PANEL DE CONTROL DISTRITAL'!B18 -> CONCILIACIÓN | C19: ='PANEL DE CONTROL DISTRITAL'!C18 -> Responsable de Módulo | D19: ='PANEL DE CONTROL DISTRITAL'!D18 -> Credenciales disponibles para entrega = | E19: ='PANEL DE CONTROL DISTRITAL'!E18 -> ((Credenciales recibidas - Credenciales inconsistentes) / Credenciales recibidas) x 100 | F19: ='PANEL DE CONTROL DISTRITAL'!F18 -> Semanal (remesa) | G19: ='PANEL DE CONTROL DISTRITAL'!G18 -> 0.9 | H19: ='PANEL DE CONTROL DISTRITAL'!H18 -> Credenciales Recibidas - Credenciales inconsistentes | I19: 312 | J19: 1025 | K19: 0 | L19: 0 | M19: 563 | N19: 1285 | O19: 1383 | P19: 1524 | Q19: 1002 | R19: 1350 | S19: 1254 | T19: 1170 | U19: 1273 | V19: 238 | W19: 619 | X19: 2401 | Y19: 1247 | Z19: 440 | AA19: 1144 | AB19: 1628 | AC19: 1092 | AD19: 662 | AE19: 1006 | AF19: 1053 | AG19: 1048 | AH19: 1136 | AI19: 915 | AJ19: 1396 | AK19: 1098 | AL19: 218 | AM19: 0 | AN19: 1 | AO19: 1284 | AP19: 1776 | AQ19: 3106 | AR19: 1187 | AS19: 1176 | AT19: 1092 | AU19: 841 | AV19: =IFERROR(SUM(I19:AU19)/SUM(I20:AU20),0) -> 1
H20: ='PANEL DE CONTROL DISTRITAL'!H19 -> Credenciales recibidas | I20: 312 | J20: 1025 | K20: 0 | L20: 0 | M20: 563 | N20: 1285 | O20: 1383 | P20: 1524 | Q20: 1002 | R20: 1350 | S20: 1254 | T20: 1170 | U20: 1273 | V20: 238 | W20: 619 | X20: 2401 | Y20: 1247 | Z20: 440 | AA20: 1144 | AB20: 1628 | AC20: 1092 | AD20: 662 | AE20: 1006 | AF20: 1053 | AG20: 1048 | AH20: 1136 | AI20: 915 | AJ20: 1396 | AK20: 1098 | AL20: 218 | AM20: 0 | AN20: 1 | AO20: 1284 | AP20: 1776 | AQ20: 3106 | AR20: 1187 | AS20: 1176 | AT20: 1092 | AU20: 841
A22: ='PANEL DE CONTROL DISTRITAL'!A21 -> 5 | B22: ='PANEL DE CONTROL DISTRITAL'!B21 -> CONCILIACIÓN | C22: ='PANEL DE CONTROL DISTRITAL'!C21 -> Responsable de Módulo | D22: ='PANEL DE CONTROL DISTRITAL'!D21 -> Credenciales disponibles para entrega = | E22: ='PANEL DE CONTROL DISTRITAL'!E21 -> (Credenciales en resguardo / Credenciales totales en SIIRFE disponibles para entrega) x 100 | F22: ='PANEL DE CONTROL DISTRITAL'!F21 -> Semanal (remesa) | G22: ='PANEL DE CONTROL DISTRITAL'!G21 -> 1 | H22: ='PANEL DE CONTROL DISTRITAL'!H21 -> Credenciales en resguardo | I22: 3203 | J22: 2744 | K22: 2744 | L22: 2744 | M22: 2275 | N22: 2754 | O22: 3176 | P22: 3012 | Q22: 2836 | R22: 2892 | S22: 2886 | T22: 2784 | U22: 2752 | V22: 1792 | W22: 1743 | X22: 3029 | Y22: 2930 | Z22: 2536 | AA22: 2616 | AB22: 3477 | AC22: 3195 | AD22: 2867 | AE22: 2570 | AF22: 2602 | AG22: 2666 | AH22: 2687 | AI22: 2548 | AJ22: 2801 | AK22: 2785 | AL22: 1902 | AM22: 1369 | AN22: 1151 | AO22: 1612 | AP22: 2272 | AQ22: 3889 | AR22: 3791 | AS22: 3220 | AT22: 3216 | AU22: 3047 | AV22: =IFERROR(SUM(I22:AU22)/SUM(I23:AU23),0) -> 1
H23: ='PANEL DE CONTROL DISTRITAL'!H22 -> Credenciales totales en SIIRFE disponibles para entrega | I23: 3203 | J23: 2744 | K23: 2744 | L23: 2744 | M23: 2275 | N23: 2754 | O23: 3176 | P23: 3012 | Q23: 2836 | R23: 2892 | S23: 2886 | T23: 2784 | U23: 2752 | V23: 1792 | W23: 1743 | X23: 3029 | Y23: 2930 | Z23: 2536 | AA23: 2616 | AB23: 3477 | AC23: 3195 | AD23: 2867 | AE23: 2570 | AF23: 2602 | AG23: 2666 | AH23: 2687 | AI23: 2548 | AJ23: 2801 | AK23: 2785 | AL23: 1902 | AM23: 1369 | AN23: 1151 | AO23: 1612 | AP23: 2272 | AQ23: 3889 | AR23: 3791 | AS23: 3220 | AT23: 3216 | AU23: 3047
