Workbook

Sheet PANEL DE CONTROL DISTRITAL
A1: INSTITUTO NACIONAL ELECTORAL SISTEMA DE GESTIÓN DE LA CALIDAD CIUDAD DE MÉXICO
M2: Fecha de corte 31/08/2023 | Q2: Version 0
A4: TABLERO DE CONTROL DISTRITAL DE PROCESOS SUSTANTIVOS DEL SISTEMA DE GESTIÓN DE LA CALIDAD
A5: CAMPAÑA ANUAL PERMANENTE 2022-2023
A6: Número | B6: PROCESOS SUSTANTIVOS E INDICADORES | I6: % AVANCE REGISTRADO | K6: % AVANCE REGISTRADO | M6: % AVANCE REGISTRADO | O6: % AVANCE REGISTRADO | Q6: % AVANCE REGISTRADO | S6: % AVANCE REGISTRADO | U6: % AVANCE REGISTRADO | W6: % AVANCE REGISTRADO | Y6: % AVANCE REGISTRADO | AA6: % AVANCE REGISTRADO | AC6: % AVANCE REGISTRADO | AE6: % AVANCE REGISTRADO | AG6: % AVANCE REGISTRADO | AI6: % AVANCE REGISTRADO | AK6: % AVANCE REGISTRADO | AM6: % AVANCE REGISTRADO | AO6: % AVANCE REGISTRADO | AQ6: % AVANCE REGISTRADO | AS6: % AVANCE REGISTRADO | AU6: % AVANCE REGISTRADO | AW6: % AVANCE REGISTRADO | AY6: % AVANCE REGISTRADO | BA6: % AVANCE REGISTRADO | BC6: % AVANCE REGISTRADO | BE6: % AVANCE REGISTRADO
B7: DESCRIPCIÓN | E7: MEDICIÓN
B8: Proceso | C8: Dueño de Proceso | D8: Indicador | E8: Cálculo | F8: Periodo | G8: Estimado | H8: Nominativo | I8: Distrito 01 | K8: Distrito 02 | M8: Distrito 03 | O8: Distrito 04 | Q8: Distrito 05 | S8: Distrito 06 | U8: Distrito 07 | W8: Distrito 08 | Y8: Distrito 09 | AA8: Distrito 10 | AC8: Distrito 11 | AE8: Distrito 12 | AG8: Distrito 13 | AI8: Distrito 14 | AK8: Distrito 15 | AM8: Distrito 16 | AO8: Distrito 17 | AQ8: Distrito 18 | AS8: Distrito 19 | AU8: Distrito 20 | AW8: Distrito 21 | AY8: Distrito 22 | BA8: Distrito 23 | BC8: Distrito 24 | BE8: Estatal
A9: 1 | B9: ENTREVISTA | C9: Auxiliar de Atención Ciudadana | D9: Efectividad de la entrevista = | E9: (Número de trámites aplicados / (Número de fichas requisitadas - Notificaciones de improcedencia de trámite)) x 100 | F9: Semanal (remesa) | G9: 0.9 | H9: Número de trámites aplicados | I9: =AVERAGE('090151'!AV10:AV11) -> 0.99670194 | K9: =AVERAGE('090251'!AV10:AV11) -> 0.9990982 | M9: =AVERAGE('090351'!AV10:AV11) -> 0.95121413 | O9: =AVERAGE('090451'!AV10:AV11) -> 0.95603146 | Q9: =AVERAGE('090551'!AV10:AV11) -> 0.99569057 | S9: =AVERAGE('090651'!AV10:AV11) -> 0.98149583 | U9: =AVERAGE('090751'!AV10:AV11) -> 0.97906263 | W9: =AVERAGE('090851'!AV10:AV11) -> 0.98150362 | Y9: =AVERAGE('090951'!AV10:AV11) -> 0.97489208 | AA9: =AVERAGE('091051'!AV10:AV11) -> 0.99693919 | AC9: =AVERAGE('091151'!AV10:AV11) -> 0.99622236 | AE9: =AVERAGE('091251'!AV10:AV11,'091252'!AV10:AV11) -> 0.96994023 | AG9: =AVERAGE('091351'!AV10:AV11) -> 0.98279699 | AI9: =AVERAGE('091451'!AV10:AV11) -> 0.9887423 | AK9: =AVERAGE('091551'!AV10:AV11,'091552'!AV10:AV11) -> 0.99140745 | AM9: =AVERAGE('091651'!AV10:AV11) -> 0.99946607 | AO9: =AVERAGE('091751'!AV10:AV11) -> 0.96317865 | AQ9: =AVERAGE('091851'!AV10:AV11,'091852'!AV10:AV11) -> 0.99064302 | AS9: =AVERAGE('091951'!AV10:AV11) -> 0.97143065 | AU9: =AVERAGE('092051'!AV10:AV11) -> 0.97885835 | AW9: =AVERAGE('092151'!AV10:AV11) -> 0.99981536 | AY9: =AVERAGE('092251'!AV10:AV11) -> 0.95278399 | BA9: =AVERAGE('092351'!AV10:AV11) -> 0.98112216 | BC9: =AVERAGE('092451'!AV10:AV11,'092452'!AV10:AV11) -> 0.96666351 | BE9: =AVERAGE(I9,K9,M9,O9,Q9,S9,U9,W9,Y9,AA9,AC9,AE9,AG9,AI9,AK9,AM9,AO9,AQ9,AS9,AU9,AW9,AY9,BA9,BC9) -> 0.98107086
H10: Número de fichas requisitadas - Notificaciones de improcedencia de trámite
A12: 2 | B12: TRÁMITE | C12: Operador de Equipo Tecnológico | D12: Trámites exitosos efectivos= | E12: (Número de trámites exitosos / Número de trámites aplicados) x 100 | F12: Semanal (remesa) | G12: 0.9 | H12: Número de trámites exitosos | I12: =AVERAGE('090151'!AV13:AV14) -> 0.98478862 | K12: =AVERAGE('090251'!AV13:AV14) -> 0.98789891 | M12: =AVERAGE('090351'!AV13:AV14) -> 0.99704442 | O12: =AVERAGE('090451'!AV13:AV14) -> 0.99841973 | Q12: =AVERAGE('090551'!AV13:AV14) -> 0.99826267 | S12: =AVERAGE('090651'!AV13:AV14) -> 0.99756523 | U12: =AVERAGE('090751'!AV13:AV14) -> 0.99345353 | W12: =AVERAGE('090851'!AV13:AV14) -> 0.97818556 | Y12: =AVERAGE('090951'!AV13:AV14) -> 0.99723244 | AA12: =AVERAGE('091051'!AV13:AV14) -> 0.98928839 | AC12: =AVERAGE('091151'!AV13:AV14) -> 0.98431413 | AE12: =AVERAGE('091251'!AV13:AV14,'091252'!AV13:AV14) -> 0.99582466 | AG12: =AVERAGE('091351'!AV13:AV14) -> 0.98598445 | AI12: =AVERAGE('091451'!AV13:AV14) -> 0.99808222 | AK12: =AVERAGE('091551'!AV13:AV14,'091552'!AV13:AV14) -> 0.99864343 | AM12: =AVERAGE('091651'!AV13:AV14) -> 0.98496107 | AO12: =AVERAGE('091751'!AV13:AV14) -> 0.9938007 | AQ12: =AVERAGE('091851'!AV13:AV14,'091852'!AV13:AV14) -> 0.98385564 | AS12: =AVERAGE('091951'!AV13:AV14) -> 0.99715654 | AU12: =AVERAGE('092051'!AV13:AV14) -> 0.98340343 | AW12: =AVERAGE('092151'!AV13:AV14) -> 0.9955677 | AY12: =AVERAGE('092251'!AV13:AV14) -> 1.0063769 | BA12: =AVERAGE('092351'!AV13:AV14) -> 0.99045253 | BC12: =AVERAGE('092451'!AV13:AV14,'092452'!AV13:AV14) -> 0.99562166 | BE12: =AVERAGE(I12,K12,M12,O12,Q12,S12,U12,W12,Y12,AA12,AC12,AE12,AG12,AI12,AK12,AM12,AO12,AQ12,AS12,AU12,AW12,AY12,BA12,BC12) -> 0.99234102
H13: Número de trámites aplicados
A15: 3 | B15: TRANSFERENCIA | C15: Responsable de Módulo | D15: Transacciones exitosas = | E15: (Número de Archivos de Transacción aceptados /Total de Archivos de Transacción procesados) x100 | F15: Semanal (remesa) | G15: 0.9 | H15: Número de Archivos de Transacción aceptados | I15: =AVERAGE('090151'!AV16:AV17) -> 1 | K15: =AVERAGE('090251'!AV16:AV17) -> 1 | M15: =AVERAGE('090351'!AV16:AV17) -> 1 | O15: =AVERAGE('090451'!AV16:AV17) -> 1 | Q15: =AVERAGE('090551'!AV16:AV17) -> 1 | S15: =AVERAGE('090651'!AV16:AV17) -> 1 | U15: =AVERAGE('090751'!AV16:AV17) -> 1 | W15: =AVERAGE('090851'!AV16:AV17) -> 1 | Y15: =AVERAGE('090951'!AV16:AV17) -> 1 | AA15: =AVERAGE('091051'!AV16:AV17) -> 1.0001014 | AC15: =AVERAGE('091151'!AV16:AV17) -> 0.99989639 | AE15: =AVERAGE('091251'!AV16:AV17,'091252'!AV16:AV17) -> 1 | AG15: =AVERAGE('091351'!AV16:AV17) -> 1 | AI15: =AVERAGE('091451'!AV16:AV17) -> 0.99808222 | AK15: =AVERAGE('091551'!AV16:AV17,'091552'!AV16:AV17) -> 0.99992239 | AM15: =AVERAGE('091651'!AV16:AV17) -> 1 | AO15: =AVERAGE('091751'!AV16:AV17) -> 1 | AQ15: =AVERAGE('091851'!AV16:AV17,'091852'!AV16:AV17) -> 1 | AS15: =AVERAGE('091951'!AV16:AV17) -> 1 | AU15: =AVERAGE('092051'!AV16:AV17) -> 1 | AW15: =AVERAGE('092151'!AV16:AV17) -> 0.99996306 | AY15: =AVERAGE('092251'!AV16:AV17) -> 1 | BA15: =AVERAGE('092351'!AV16:AV17) -> 1 | BC15: =AVERAGE('092451'!AV16:AV17,'092452'!AV16:AV17) -> 0.99998869 | BE15: =AVERAGE(I15,K15,M15,O15,Q15,S15,U15,W15,Y15,AA15,AC15,AE15,AG15,AI15,AK15,AM15,AO15,AQ15,AS15,AU15,AW15,AY15,BA15,BC15) -> 0.99991476
H16: Total de Archivos de Transacción procesados
A18: 4 | B18: CONCILIACIÓN | C18: Responsable de Módulo | D18: Credenciales disponibles para entrega = | E18: ((Credenciales recibidas - Credenciales inconsistentes) / Credenciales recibidas) x 100 | F18: Semanal (remesa) | G18: 0.9 | H18: Credenciales Recibidas - Credenciales inconsistentes | I18: =AVERAGE('090151'!AV19:AV20) -> 1 | K18: =AVERAGE('090251'!AV19:AV20) -> 0.99995418 | M18: =AVERAGE('090351'!AV19:AV20) -> 0.99991289 | O18: =AVERAGE('090451'!AV19:AV20) -> 0.99886403 | Q18: =AVERAGE('090551'!AV19:AV20) -> 1 | S18: =AVERAGE('090651'!AV19:AV20) -> 0.99996683 | U18: =AVERAGE('090751'!AV19:AV20) -> 1 | W18: =AVERAGE('090851'!AV19:AV20) -> 1.0000762 | Y18: =AVERAGE('090951'!AV19:AV20) -> 1 | AA18: =AVERAGE('091051'!AV19:AV20) -> 1 | AC18: =AVERAGE('091151'!AV19:AV20) -> 0.99985516 | AE18: =AVERAGE('091251'!AV19:AV20,'091252'!AV19:AV20) -> 1 | AG18: =AVERAGE('091351'!AV19:AV20) -> 1 | AI18: =AVERAGE('091451'!AV19:AV20) -> 1 | AK18: =AVERAGE('091551'!AV19:AV20,'091552'!AV19:AV20) -> 1 | AM18: =AVERAGE('091651'!AV19:AV20) -> 1 | AO18: =AVERAGE('091751'!AV19:AV20) -> 0.99996204 | AQ18: =AVERAGE('091851'!AV19:AV20,'091852'!AV19:AV20) -> 1 | AS18: =AVERAGE('091951'!AV19:AV20) -> 1 | AU18: =AVERAGE('092051'!AV19:AV20) -> 1 | AW18: =AVERAGE('092151'!AV19:AV20) -> 1 | AY18: =AVERAGE('092251'!AV19:AV20) -> 0.99996876 | BA18: =AVERAGE('092351'!AV19:AV20) -> 0.99995139 | BC18: =AVERAGE('092451'!AV19:AV20,'092452'!AV19:AV20) -> 1 | BE18: =AVERAGE(I18,K18,M18,O18,Q18,S18,U18,W18,Y18,AA18,AC18,AE18,AG18,AI18,AK18,AM18,AO18,AQ18,AS18,AU18,AW18,AY18,BA18,BC18) -> 0.99993798
H19: Credenciales recibidas
A21: 5 | B21: CONCILIACIÓN | C21: Responsable de Módulo | D21: Credenciales disponibles para entrega = | E21: (Credenciales en resguardo / Credenciales totales en SIIRFE disponibles para entrega) x 100 | F21: Semanal (remesa) | G21: 1 | H21: Credenciales en resguardo | I21: =AVERAGE('090151'!AV22:AV23) -> 1 | K21: =AVERAGE('090251'!AV22:AV23) -> 1 | M21: =AVERAGE('090351'!AV22:AV23) -> 1 | O21: =AVERAGE('090451'!AV22:AV23) -> 1 | Q21: =AVERAGE('090551'!AV22:AV23) -> 1 | S21: =AVERAGE('090651'!AV22:AV23) -> 1 | U21: =AVERAGE('090751'!AV22:AV23) -> 1 | W21: =AVERAGE('090851'!AV22:AV23) -> 1 | Y21: =AVERAGE('090951'!AV22:AV23) -> 1 | AA21: =AVERAGE('091051'!AV22:AV23) -> 1 | AC21: =AVERAGE('091151'!AV22:AV23) -> 1 | AE21: =AVERAGE('091251'!AV22:AV23,'091252'!AV22:AV23) -> 1 | AG21: =AVERAGE('091351'!AV22:AV23) -> 1 | AI21: =AVERAGE('091451'!AV22:AV23) -> 1 | AK21: =AVERAGE('091551'!AV22:AV23,'091552'!AV22:AV23) -> 1.0001567 | AM21: =AVERAGE('091651'!AV22:AV23) -> 1 | AO21: =AVERAGE('091751'!AV22:AV23) -> 1 | AQ21: =AVERAGE('091851'!AV22:AV23,'091852'!AV22:AV23) -> 1 | AS21: =AVERAGE('091951'!AV22:AV23) -> 1 | AU21: =AVERAGE('092051'!AV22:AV23) -> 1 | AW21: =AVERAGE('092151'!AV22:AV23) -> 1 | AY21: =AVERAGE('092251'!AV22:AV23) -> 1 | BA21: =AVERAGE('092351'!AV22:AV23) -> 1 | BC21: =AVERAGE('092451'!AV22:AV23,'092452'!AV22:AV23) -> 1 | BE21: =AVERAGE(I21,K21,M21,O21,Q21,S21,U21,W21,Y21,AA21,AC21,AE21,AG21,AI21,AK21,AM21,AO21,AQ21,AS21,AU21,AW21,AY21,BA21,BC21) -> 1.0000065
H22: Credenciales totales en SIIRFE disponibles para entrega
A24: 6 | B24: ENTREGA | C24: Operador de Equipo Tecnológico | D24: Efectividad de entrega de CPV en MAC = | E24: (Total de credenciales entregadas / Total de credenciales solicitadas) x 100 | F24: Semanal (remesa) | G24: 0.9 | H24: Total de credenciales entregadas | I24: =AVERAGE('090151'!AV25:AV26) -> 0.98470588 | K24: =AVERAGE('090251'!AV25:AV26) -> 0.99984541 | M24: =AVERAGE('090351'!AV25:AV26) -> 1 | O24: =AVERAGE('090451'!AV25:AV26) -> 1 | Q24: =AVERAGE('090551'!AV25:AV26) -> 1 | S24: =AVERAGE('090651'!AV25:AV26) -> 0.99996691 | U24: =AVERAGE('090751'!AV25:AV26) -> 0.97788076 | W24: =AVERAGE('090851'!AV25:AV26) -> 0.9925781 | Y24: =AVERAGE('090951'!AV25:AV26) -> 1 | AA24: =AVERAGE('091051'!AV25:AV26) -> 1 | AC24: =AVERAGE('091151'!AV25:AV26) -> 1 | AE24: =AVERAGE('091251'!AV25:AV26,'091252'!AV25:AV26) -> 1 | AG24: =AVERAGE('091351'!AV25:AV26) -> 1 | AI24: =AVERAGE('091451'!AV25:AV26) -> 1 | AK24: =AVERAGE('091551'!AV25:AV26,'091552'!AV25:AV26) -> 1.0000256 | AM24: =AVERAGE('091651'!AV25:AV26) -> 1 | AO24: =AVERAGE('091751'!AV25:AV26) -> 1 | AQ24: =AVERAGE('091851'!AV25:AV26,'091852'!AV25:AV26) -> 0.99747486 | AS24: =AVERAGE('091951'!AV25:AV26) -> 0.98501443 | AU24: =AVERAGE('092051'!AV25:AV26) -> 1 | AW24: =AVERAGE('092151'!AV25:AV26) -> 0.99992546 | AY24: =AVERAGE('092251'!AV25:AV26) -> 0.95373513 | BA24: =AVERAGE('092351'!AV25:AV26) -> 0.99246951 | BC24: =AVERAGE('092451'!AV25:AV26,'092452'!AV25:AV26) -> 0.99996617 | BE24: =AVERAGE(I24,K24,M24,O24,Q24,S24,U24,W24,Y24,AA24,AC24,AE24,AG24,AI24,AK24,AM24,AO24,AQ24,AS24,AU24,AW24,AY24,BA24,BC24) -> 0.99514951
H25: Total de credenciales solicitadas

Sheet 090151
A1: ='PANEL DE CONTROL DISTRITAL'!A1:Q1 -> INSTITUTO NACIONAL ELECTORAL SISTEMA DE GESTIÓN DE LA CALIDAD CIUDAD DE MÉXICO
D2: Distrito | E2: 1 | F2: Módulo | H2: 90151 | AU2: ='PANEL DE CONTROL DISTRITAL'!M2 -> Fecha de corte 31/08/2023
A4: TABLERO DE CONTROL DE PROCESOS SUSTANTIVOS DEL SISTEMA DE GESTIÓN DE LA CALIDAD
A6: ='PANEL DE CONTROL DISTRITAL'!A6 -> Número | B6: ='PANEL DE CONTROL DISTRITAL'!B6 -> PROCESOS SUSTANTIVOS E INDICADORES | I6: SEMANA OPERATIVA | AV6: % AVANCE REGISTRADO
B7: ='PANEL DE CONTROL DISTRITAL'!B7 -> DESCRIPCIÓN | E7: ='PANEL DE CONTROL DISTRITAL'!E7 -> MEDICIÓN | I7: ='PANEL DE CONTROL DISTRITAL'!A5 -> CAMPAÑA ANUAL PERMANENTE 2022-2023
B9: ='PANEL DE CONTROL DISTRITAL'!B8 -> Proceso | C9: ='PANEL DE CONTROL DISTRITAL'!C8 -> Dueño de Proceso | D9: ='PANEL DE CONTROL DISTRITAL'!D8 -> Indicador | E9: ='PANEL DE CONTROL DISTRITAL'!E8 -> Cálculo | F9: ='PANEL DE CONTROL DISTRITAL'!F8 -> Periodo | G9: ='PANEL DE CONTROL DISTRITAL'!G8 -> Estimado | H9: ='PANEL DE CONTROL DISTRITAL'!H8 -> Nominativo | I9: 2022-53 | J9: 2022-54 | K9: 2022-55 | L9: 2023-01 | M9: 2023-02 | N9: 2023-03 | O9: 2023-04 | P9: 2023-05 | Q9: 2023-06 | R9: 2023-07 | S9: 2023-08 | T9: 2023-09 | U9: 2023-10 | V9: 2023-11 | W9: 2023-12 | X9: 2023-13 | Y9: 2023-14 | Z9: 2023-15 | AA9: 2023-16 | AB9: 2023-17 | AC9: 2023-18 | AD9: 2023-19 | AE9: 2023-20 | AF9: 2023-21 | AG9: 2023-22 | AH9: 2023-23 | AI9: 2023-24 | AJ9: 2023-25 | AK9: 2023-26 | AL9: 2023-27 | AM9: 2023-28 | AN9: 2023-29 | AO9: 2023-30 | AP9: 2023-31 | AQ9: 2023-32 | AR9: 2023-33 | AS9: 2023-34 | AT9: 2023-35 | AU9: 2023-36
A10: ='PANEL DE CONTROL DISTRITAL'!A9 -> 1 | B10: ='PANEL DE CONTROL DISTRITAL'!B9 -> ENTREVISTA | C10: ='PANEL DE CONTROL DISTRITAL'!C9 -> Auxiliar de Atención Ciudadana | D10: ='PANEL DE CONTROL DISTRITAL'!D9 -> Efectividad de la entrevista = | E10: ='PANEL DE CONTROL DISTRITAL'!E9 -> (Número de trámites aplicados / (Número de fichas requisitadas - Notificaciones de improcedencia de trámite)) x 100 | F10: ='PANEL DE CONTROL DISTRITAL'!F9 -> Semanal (remesa) | G10: ='PANEL DE CONTROL DISTRITAL'!G9 -> 0.9 | H10: ='PANEL DE CONTROL DISTRITAL'!H9 -> Número de trámites aplicados | I10: 110 | J10: 481 | K10: 0 | L10: 0 | M10: 435 | N10: 597 | O10: 604 | P10: 567 | Q10: 592 | R10: 464 | S10: 629 | T10: 651 | U10: 592 | V10: 591 | W10: 658 | X10: 476 | Y10: 588 | Z10: 424 | AA10: 581 | AB10: 595 | AC10: 562 | AD10: 324 | AE10: 523 | AF10: 577 | AG10: 605 | AH10: 551 | AI10: 552 | AJ10: 593 | AK10: 579 | AL10: 554 | AM10: 579 | AN10: 536 | AO10: 630 | AP10: 605 | AQ10: 587 | AR10: 603 | AS10: 567 | AT10: 601 | AU10: 485 | AV10: =IFERROR(SUM(I10:AU10)/SUM(I11:AU11),0) -> 0.99670194
H11: ='PANEL DE CONTROL DISTRITAL'!H10 -> Número de fichas requisitadas - Notificaciones de improcedencia de trámite | I11: 110 | J11: 481 | K11: 0 | L11: 0 | M11: 435 | N11: 597 | O11: 608 | P11: 567 | Q11: 592 | R11: 465 | S11: 630 | T11: 651 | U11: 592 | V11: 591 | W11: 660 | X11: 476 | Y11: 590 | Z11: 426 | AA11: 583 | AB11: 602 | AC11: 566 | AD11: 327 | AE11: 525 | AF11: 579 | AG11: 607 | AH11: 556 | AI11: 554 | AJ11: 597 | AK11: 583 | AL11: 554 | AM11: 582 | AN11: 539 | AO11: 631 | AP11: 605 | AQ11: 592 | AR11: 605 | AS11: 568 | AT11: 603 | AU11: 486
A13: ='PANEL DE CONTROL DISTRITAL'!A12 -> 2 | B13: ='PANEL DE CONTROL DISTRITAL'!B12 -> TRÁMITE | C13: ='PANEL DE CONTROL DISTRITAL'!C12 -> Operador de Equipo Tecnológico | D13: ='PANEL DE CONTROL DISTRITAL'!D12 -> Trámites exitosos efectivos= | E13: ='PANEL DE CONTROL DISTRITAL'!E12 -> (Número de trámites exitosos / Número de trámites aplicados) x 100 | F13: ='PANEL DE CONTROL DISTRITAL'!F12 -> Semanal (remesa) | G13: ='PANEL DE CONTROL DISTRITAL'!G12 -> 0.9 | H13: ='PANEL DE CONTROL DISTRITAL'!H12 -> Número de trámites exitosos | I13: 110 | J13: 481 | K13: 0 | L13: 0 | M13: 433 | N13: 595 | O13: 603 | P13: 564 | Q13: 592 | R13: 462 | S13: 628 | T13: 647 | U13: 590 | V13: 591 | W13: 656 | X13: 476 | Y13: 586 | Z13: 424 | AA13: 580 | AB13: 595 | AC13: 560 | AD13: 324 | AE13: 522 | AF13: 577 | AG13: 605 | AH13: 551 | AI13: 551 | AJ13: 591 | AK13: 577 | AL13: 552 | AM13: 579 | AN13: 535 | AO13: 627 | AP13: 603 | AQ13: 583 | AR13: 600 | AS13: 563 | AT13: 598 | AU13: 229 | AV13: =IFERROR(SUM(I13:AU13)/SUM(I14:AU14),0) -> 0.98478862
H14: ='PANEL DE CONTROL DISTRITAL'!H13 -> Número de trámites aplicados | I14: 110 | J14: 481 | K14: 0 | L14: 0 | M14: 435 | N14: 597 | O14: 604 | P14: 567 | Q14: 592 | R14: 464 | S14: 629 | T14: 651 | U14: 592 | V14: 591 | W14: 658 | X14: 476 | Y14: 588 | Z14: 424 | AA14: 581 | AB14: 595 | AC14: 562 | AD14: 324 | AE14: 523 | AF14: 577 | AG14: 605 | AH14: 551 | AI14: 552 | AJ14: 593 | AK14: 579 | AL14: 554 | AM14: 579 | AN14: 536 | AO14: 630 | AP14: 605 | AQ14: 587 | AR14: 603 | AS14: 567 | AT14: 601 | AU14: 485
A16: ='PANEL DE CONTROL DISTRITAL'!A15 -> 3 | B16: ='PANEL DE CONTROL DISTRITAL'!B15 -> TRANSFERENCIA | C16: ='PANEL DE CONTROL DISTRITAL'!C15 -> Responsable de Módulo | D16: ='PANEL DE CONTROL DISTRITAL'!D15 -> Transacciones exitosas = | E16: ='PANEL DE CONTROL DISTRITAL'!E15 -> (Número de Archivos de Transacción aceptados /Total de Archivos de Transacción procesados) x100 | F16: ='PANEL DE CONTROL DISTRITAL'!F15 -> Semanal (remesa) | G16: ='PANEL DE CONTROL DISTRITAL'!G15 -> 0.9 | H16: ='PANEL DE CONTROL DISTRITAL'!H15 -> Número de Archivos de Transacción aceptados | I16: 110 | J16: 481 | K16: 0 | L16: 0 | M16: 435 | N16: 597 | O16: 604 | P16: 567 | Q16: 592 | R16: 464 | S16: 629 | T16: 651 | U16: 592 | V16: 591 | W16: 658 | X16: 476 | Y16: 588 | Z16: 424 | AA16: 581 | AB16: 595 | AC16: 562 | AD16: 324 | AE16: 523 | AF16: 577 | AG16: 605 | AH16: 551 | AI16: 552 | AJ16: 593 | AK16: 579 | AL16: 554 | AM16: 579 | AN16: 536 | AO16: 630 | AP16: 605 | AQ16: 587 | AR16: 603 | AS16: 567 | AT16: 601 | AU16: 485 | AV16: =IFERROR(SUM(I16:AU16)/SUM(I17:AU17),0) -> 1
H17: ='PANEL DE CONTROL DISTRITAL'!H16 -> Total de Archivos de Transacción procesados | I17: 110 | J17: 481 | K17: 0 | L17: 0 | M17: 435 | N17: 597 | O17: 604 | P17: 567 | Q17: 592 | R17: 464 | S17: 629 | T17: 651 | U17: 592 | V17: 591 | W17: 658 | X17: 476 | Y17: 588 | Z17: 424 | AA17: 581 | AB17: 595 | AC17: 562 | AD17: 324 | AE17: 523 | AF17: 577 | AG17: 605 | AH17: 551 | AI17: 552 | AJ17: 593 | AK17: 579 | AL17: 554 | AM17: 579 | AN17: 536 | AO17: 630 | AP17: 605 | AQ17: 587 | AR17: 603 | AS17: 567 | AT17: 601 | AU17: 485
A19: ='PANEL DE CONTROL DISTRITAL'!A18 -> 4 | B19: ='PANEL DE CONTROL DISTRITAL'!B18 -> CONCILIACIÓN | C19: ='PANEL DE CONTROL DISTRITAL'!C18 -> Responsable de Módulo | D19: ='PANEL DE CONTROL DISTRITAL'!D18 -> Credenciales disponibles para entrega = | E19: ='PANEL DE CONTROL DISTRITAL'!E18 -> ((Credenciales recibidas - Credenciales inconsistentes) / Credenciales recibidas) x 100 | F19: ='PANEL DE CONTROL DISTRITAL'!F18 -> Semanal (remesa) | G19: ='PANEL DE CONTROL DISTRITAL'!G18 -> 0.9 | H19: ='PANEL DE CONTROL DISTRITAL'!H18 -> Credenciales Recibidas - Credenciales inconsistentes | I19: 252 | J19: 445 | K19: 0 | L19: 0 | M19: 178 | N19: 615 | O19: 686 | P19: 665 | Q19: 417 | R19: 660 | S19: 597 | T19: 641 | U19: 614 | V19: 124 | W19: 337 | X19: 1226 | Y19: 607 | Z19: 340 | AA19: 459 | AB19: 782 | AC19: 467 | AD19: 436 | AE19: 513 | AF19: 582 | AG19: 453 | AH19: 366 | AI19: 814 | AJ19: 705 | AK19: 461 | AL19: 227 | AM19: 0 | AN19: 0 | AO19: 1910 | AP19: 606 | AQ19: 615 | AR19: 826 | AS19: 570 | AT19: 628 | AU19: 452 | AV19: =IFERROR(SUM(I19:AU19)/SUM(I20:AU20),0) -> 1
H20: ='PANEL DE CONTROL DISTRITAL'!H19 -> Credenciales recibidas | I20: 252 | J20: 445 | K20: 0 | L20: 0 | M20: 178 | N20: 615 | O20: 686 | P20: 665 | Q20: 417 | R20: 660 | S20: 597 | T20: 641 | U20: 614 | V20: 124 | W20: 337 | X20: 1226 | Y20: 607 | Z20: 340 | AA20: 459 | AB20: 782 | AC20: 467 | AD20: 436 | AE20: 513 | AF20: 582 | AG20: 453 | AH20: 366 | AI20: 814 | AJ20: 705 | AK20: 461 | AL20: 227 | AM20: 0 | AN20: 0 | AO20: 1910 | AP20: 606 | AQ20: 615 | AR20: 826 | AS20: 570 | AT20: 628 | AU20: 452
A22: ='PANEL DE CONTROL DISTRITAL'!A21 -> 5 | B22: ='PANEL DE CONTROL DISTRITAL'!B21 -> CONCILIACIÓN | C22: ='PANEL DE CONTROL DISTRITAL'!C21 -> Responsable de Módulo | D22: ='PANEL DE CONTROL DISTRITAL'!D21 -> Credenciales disponibles para entrega = | E22: ='PANEL DE CONTROL DISTRITAL'!E21 -> (Credenciales en resguardo / Credenciales totales en SIIRFE disponibles para entrega) x 100 | F22: ='PANEL DE CONTROL DISTRITAL'!F21 -> Semanal (remesa) | G22: ='PANEL DE CONTROL DISTRITAL'!G21 -> 1 | H22: ='PANEL DE CONTROL DISTRITAL'!H21 -> Credenciales en resguardo | I22: 1052 | J22: 896 | K22: 896 | L22: 896 | M22: 684 | N22: 829 | O22: 957 | P22: 1019 | Q22: 930 | R22: 1015 | S22: 1088 | T22: 1113 | U22: 1123 | V22: 625 | W22: 673 | X22: 1243 | Y22: 1138 | Z22: 1057 | AA22: 947 | AB22: 1343 | AC22: 1044 | AD22: 1050 | AE22: 952 | AF22: 1058 | AG22: 969 | AH22: 759 | AI22: 1021 | AJ22: 1154 | AK22: 1027 | AL22: 666 | AM22: 414 | AN22: 356 | AO22: 1648 | AP22: 1110 | AQ22: 983 | AR22: 1193 | AS22: 1147 | AT22: 1167 | AU22: 1152 | AV22: =IFERROR(SUM(I22:AU22)/SUM(I23:AU23),0) -> 1
H23: ='PANEL DE CONTROL DISTRITAL'!H22 -> Credenciales totales en SIIRFE disponibles para entrega | I23: 1052 | J23: 896 | K23: 896 | L23: 896 | M23: 684 | N23: 829 | O23: 957 | P23: 1019 | Q23: 930 | R23: 1015 | S23: 1088 | T23: 1113 | U23: 1123 | V23: 625 | W23: 673 | X23: 1243 | Y23: 1138 | Z23: 1057 | AA23: 947 | AB23: 1343 | AC23: 1044 | AD23: 1050 | AE23: 952 | AF23: 1058 | AG23: 969 | AH23: 759 | AI23: 1021 | AJ23: 1154 | AK23: 1027 | AL23: 666 | AM23: 414 | AN23: 356 | AO23: 1648 | AP23: 1110 | AQ23: 983 | AR23: 1193 | AS23: 1147 | AT23: 1167 | AU23: 1152
A25: ='PANEL DE CONTROL DISTRITAL'!A24 -> 6 | B25: ='PANEL DE CONTROL DISTRITAL'!B24 -> ENTREGA | C25: ='PANEL DE CONTROL DISTRITAL'!C24 -> Operador de Equipo Tecnológico | D25: ='PANEL DE CONTROL DISTRITAL'!D24 -> Efectividad de entrega de CPV en MAC = | E25: ='PANEL DE CONTROL DISTRITAL'!E24 -> (Total de credenciales entregadas / Total de credenciales solicitadas) x 100 | F25: ='PANEL DE CONTROL DISTRITAL'!F24 -> Semanal (remesa) | G25: ='PANEL DE CONTROL DISTRITAL'!G24 -> 0.9 | H25: ='PANEL DE CONTROL DISTRITAL'!H24 -> Total de credenciales entregadas | I25: 204 | J25: 601 | K25: 0 | L25: 0 | M25: 390 | N25: 470 | O25: 558 | P25: 603 | Q25: 506 | R25: 572 | S25: 516 | T25: 616 | U25: 594 | V25: 622 | W25: 284 | X25: 656 | Y25: 712 | Z25: 418 | AA25: 569 | AB25: 385 | AC25: 766 | AD25: 430 | AE25: 609 | AF25: 476 | AG25: 542 | AH25: 576 | AI25: 552 | AJ25: 572 | AK25: 588 | AL25: 588 | AM25: 252 | AN25: 58 | AO25: 618 | AP25: 1136 | AQ25: 742 | AR25: 616 | AS25: 616 | AT25: 608 | AU25: 467 | AV25: =IFERROR(SUM(I25:AU25)/SUM(I26:AU26),0) -> 0.98470588
H26: ='PANEL DE CONTROL DISTRITAL'!H25 -> Total de credenciales solicitadas | I26: 204 | J26: 601 | K26: 0 | L26: 0 | M26: 390 | N26: 470 | O26: 558 | P26: 603 | Q26: 506 | R26: 572 | S26: 516 | T26: 616 | U26: 594 | V26: 622 | W26: 596 | X26: 656 | Y26: 712 | Z26: 418 | AA26: 569 | AB26: 385 | AC26: 766 | AD26: 430 | AE26: 609 | AF26: 476 | AG26: 542 | AH26: 576 | AI26: 552 | AJ26: 572 | AK26: 588 | AL26: 588 | AM26: 252 | AN26: 58 | AO26: 618 | AP26: 1136 | AQ26: 742 | AR26: 616 | AS26: 616 | AT26: 608 | AU26: 467
B27: *Registre el valor nominal solicitado en la celda, el resultado proporcional esta automatizado.
I29: Semaforización
J30: Valor que requiere atención y justificación en el apartado de observaciones
J31: Valor suficiente
J32: Valor esperado
B34: CUADRO DE OBSERVACIONES
B35: Descripción | H35: No conformidad

Sheet 090251
A1: ='PANEL DE CONTROL DISTRITAL'!A1:Q1 -> INSTITUTO NACIONAL ELECTORAL SISTEMA DE GESTIÓN DE LA CALIDAD CIUDAD DE MÉXICO
D2: Distrito | E2: 2 | F2: Módulo | H2: 90251 | AU2: ='PANEL DE CONTROL DISTRITAL'!M2 -> Fecha de corte 31/08/2023
A4: TABLERO DE CONTROL DE PROCESOS SUSTANTIVOS DEL SISTEMA DE GESTIÓN DE LA CALIDAD
A6: ='PANEL DE CONTROL DISTRITAL'!A6 -> Número | B6: ='PANEL DE CONTROL DISTRITAL'!B6 -> PROCESOS SUSTANTIVOS E INDICADORES | I6: SEMANA OPERATIVA | AV6: % AVANCE REGISTRADO
B7: ='PANEL DE CONTROL DISTRITAL'!B7 -> DESCRIPCIÓN | E7: ='PANEL DE CONTROL DISTRITAL'!E7 -> MEDICIÓN | I7: ='PANEL DE CONTROL DISTRITAL'!A5 -> CAMPAÑA ANUAL PERMANENTE 2022-2023
B9: ='PANEL DE CONTROL DISTRITAL'!B8 -> Proceso | C9: ='PANEL DE CONTROL DISTRITAL'!C8 -> Dueño de Proceso | D9: ='PANEL DE CONTROL DISTRITAL'!D8 -> Indicador | E9: ='PANEL DE CONTROL DISTRITAL'!E8 -> Cálculo | F9: ='PANEL DE CONTROL DISTRITAL'!F8 -> Periodo | G9: ='PANEL DE CONTROL DISTRITAL'!G8 -> Estimado | H9: ='PANEL DE CONTROL DISTRITAL'!H8 -> Nominativo | I9: ='090151'!I9 -> 2022-53 | J9: ='090151'!J9 -> 2022-54 | K9: ='090151'!K9 -> 2022-55 | L9: ='090151'!L9 -> 2023-01 | M9: ='090151'!M9 -> 2023-02 | N9: ='090151'!N9 -> 2023-03 | O9: ='090151'!O9 -> 2023-04 | P9: ='090151'!P9 -> 2023-05 | ... AU9: ='090151'!AU9 -> 2023-36
A10: ='PANEL DE CONTROL DISTRITAL'!A9 -> 1 | B10: ='PANEL DE CONTROL DISTRITAL'!B9 -> ENTREVISTA | C10: ='PANEL DE CONTROL DISTRITAL'!C9 -> Auxiliar de Atención Ciudadana | D10: ='PANEL DE CONTROL DISTRITAL'!D9 -> Efectividad de la entrevista = | E10: ='PANEL DE CONTROL DISTRITAL'!E9 -> (Número de trámites aplicados / (Número de fichas requisitadas - Notificaciones de improcedencia de trámite)) x 100 | F10: ='PANEL DE CONTROL DISTRITAL'!F9 -> Semanal (remesa) | G10: ='PANEL DE CONTROL DISTRITAL'!G9 -> 0.9 | H10: ='PANEL DE CONTROL DISTRITAL'!H9 -> Número de trámites aplicados | I10: 436 | J10: 1731 | K10: 0 | L10: 0 | M10: 1397 | N10: 1980 | O10: 1958 | P10: 2034 | Q10: 1862 | R10: 1643 | S10: 1987 | T10: 1900 | U10: 1854 | V10: 1705 | W10: 2038 | X10: 1543 | Y10: 1847 | Z10: 1337 | AA10: 1915 | AB10: 1960 | AC10: 1862 | AD10: 1123 | AE10: 1619 | AF10: 1871 | AG10: 1937 | AH10: 1888 | AI10: 1881 | AJ10: 1928 | AK10: 1873 | AL10: 1695 | AM10: 1488 | AN10: 1977 | AO10: 1869 | AP10: 1906 | AQ10: 1946 | AR10: 1952 | AS10: 1951 | AT10: 1960 | AU10: 1513 | AV10: =IFERROR(SUM(I10:AU10)/SUM(I11:AU11),0) -> 0.9990982
H11: ='PANEL DE CONTROL DISTRITAL'!H10 -> Número de fichas requisitadas - Notificaciones de improcedencia de trámite | I11: 437 | J11: 1731 | K11: 0 | L11: 0 | M11: 1397 | N11: 1981 | O11: 1958 | P11: 2034 | Q11: 1862 | R11: 1643 | S11: 1987 | T11: 1900 | U11: 1854 | V11: 1706 | W11: 2039 | X11: 1543 | Y11: 1850 | Z11: 1338 | AA11: 1923 | AB11: 1973 | AC11: 1878 | AD11: 1125 | AE11: 1620 | AF11: 1872 | AG11: 1937 | AH11: 1888 | AI11: 1882 | AJ11: 1928 | AK11: 1875 | AL11: 1696 | AM11: 1489 | AN11: 1977 | AO11: 1869 | AP11: 1907 | AQ11: 1947 | AR11: 1953 | AS11: 1953 | AT11: 1960 | AU11: 1513
A13: ='PANEL DE CONTROL DISTRITAL'!A12 -> 2 | B13: ='PANEL DE CONTROL DISTRITAL'!B12 -> TRÁMITE | C13: ='PANEL DE CONTROL DISTRITAL'!C12 -> Operador de Equipo Tecnológico | D13: ='PANEL DE CONTROL DISTRITAL'!D12 -> Trámites exitosos efectivos= | E13: ='PANEL DE CONTROL DISTRITAL'!E12 -> (Número de trámites exitosos / Número de trámites aplicados) x 100 | F13: ='PANEL DE CONTROL DISTRITAL'!F12 -> Semanal (remesa) | G13: ='PANEL DE CONTROL DISTRITAL'!G12 -> 0.9 | H13: ='PANEL DE CONTROL DISTRITAL'!H12 -> Número de trámites exitosos | I13: 435 | J13: 1728 | K13: 0 | L13: 0 | M13: 1396 | N13: 1977 | O13: 1952 | P13: 2029 | Q13: 1855 | R13: 1639 | S13: 1982 | T13: 1892 | U13: 1851 | V13: 1696 | W13: 2029 | X13: 1537 | Y13: 1842 | Z13: 1331 | AA13: 1333 | AB13: 1954 | AC13: 1857 | AD13: 1120 | AE13: 1616 | AF13: 1860 | AG13: 1931 | AH13: 1880 | AI13: 1877 | AJ13: 1918 | AK13: 1868 | AL13: 1691 | AM13: 1481 | AN13: 1974 | AO13: 1858 | AP13: 1902 | AQ13: 1936 | AR13: 1945 | AS13: 1944 | AT13: 1954 | AU13: 1505 | AV13: =IFERROR(SUM(I13:AU13)/SUM(I14:AU14),0) -> 0.98789891
H14: ='PANEL DE CONTROL DISTRITAL'!H13 -> Número de trámites aplicados | I14: 436 | J14: 1731 | K14: 0 | L14: 0 | M14: 1397 | N14: 1980 | O14: 1958 | P14: 2034 | Q14: 1862 | R14: 1643 | S14: 1987 | T14: 1900 | U14: 1854 | V14: 1705 | W14: 2038 | X14: 1543 | Y14: 1847 | Z14: 1337 | AA14: 1915 | AB14: 1960 | AC14: 1862 | AD14: 1123 | AE14: 1619 | AF14: 1871 | AG14: 1937 | AH14: 1888 | AI14: 1881 | AJ14: 1928 | AK14: 1873 | AL14: 1695 | AM14: 1488 | AN14: 1977 | AO14: 1869 | AP14: 1906 | AQ14: 1946 | AR14: 1952 | AS14: 1951 | AT14: 1960 | AU14: 1513
A16: ='PANEL DE CONTROL DISTRITAL'!A15 -> 3 | B16: ='PANEL DE CONTROL DISTRITAL'!B15 -> TRANSFERENCIA | C16: ='PANEL DE CONTROL DISTRITAL'!C15 -> Responsable de Módulo | D16: ='PANEL DE CONTROL DISTRITAL'!D15 -> Transacciones exitosas = | E16: ='PANEL DE CONTROL DISTRITAL'!E15 -> (Número de Archivos de Transacción aceptados /Total de Archivos de Transacción procesados) x100 | F16: ='PANEL DE CONTROL DISTRITAL'!F15 -> Semanal (remesa) | G16: ='PANEL DE CONTROL DISTRITAL'!G15 -> 0.9 | H16: ='PANEL DE CONTROL DISTRITAL'!H15 -> Número de Archivos de Transacción aceptados | I16: 436 | J16: 1731 | K16: 0 | L16: 0 | M16: 1397 | N16: 1980 | O16: 1958 | P16: 2034 | Q16: 1862 | R16: 1643 | S16: 1987 | T16: 1900 | U16: 1854 | V16: 1705 | W16: 2038 | X16: 1543 | Y16: 1846 | Z16: 1337 | AA16: 1915 | AB16: 1960 | AC16: 1862 | AD16: 1123 | AE16: 1619 | AF16: 1871 | AG16: 1937 | AH16: 1888 | AI16: 1881 | AJ16: 1928 | AK16: 1873 | AL16: 1695 | AM16: 1487 | AN16: 1977 | AO16: 1869 | AP16: 1905 | AQ16: 1946 | AR16: 1952 | AS16: 1951 | AT16: 1960 | AU16: 1513 | AV16: =IFERROR(SUM(I16:AU16)/SUM(I17:AU17),0) -> 1
H17: ='PANEL DE CONTROL DISTRITAL'!H16 -> Total de Archivos de Transacción procesados | I17: 436 | J17: 1731 | K17: 0 | L17: 0 | M17: 1397 | N17: 1980 | O17: 1958 | P17: 2034 | Q17: 1860 | R17: 1643 | S17: 1987 | T17: 1900 | U17: 1854 | V17: 1705 | W17: 2038 | X17: 1543 | Y17: 1847 | Z17: 1337 | AA17: 1915 | AB17: 1960 | AC17: 1862 | AD17: 1123 | AE17: 1619 | AF17: 1871 | AG17: 1937 | AH17: 1888 | AI17: 1880 | AJ17: 1928 | AK17: 1873 | AL17: 1695 | AM17: 1488 | AN17: 1977 | AO17: 1869 | AP17: 1906 | AQ17: 1946 | AR17: 1952 | AS17: 1951 | AT17: 1960 | AU17: 1513
A19: ='PANEL DE CONTROL DISTRITAL'!A18 -> 4 | B19: ='PANEL DE CONTROL DISTRITAL'!B18 -> CONCILIACIÓN | C19: ='PANEL DE CONTROL DISTRITAL'!C18 -> Responsable de Módulo | D19: ='PANEL DE CONTROL DISTRITAL'!D18 -> Credenciales disponibles para entrega = | E19: ='PANEL DE CONTROL DISTRITAL'!E18 -> ((Credenciales recibidas - Credenciales inconsistentes) / Credenciales recibidas) x 100 | F19: ='PANEL DE CONTROL DISTRITAL'!F18 -> Semanal (remesa) | G19: ='PANEL DE CONTROL DISTRITAL'!G18 -> 0.9 | H19: ='PANEL DE CONTROL DISTRITAL'!H18 -> Credenciales Recibidas - Credenciales inconsistentes | I19: 756 | J19: 1532 | K19: 0 | L19: 0 | M19: 828 | N19: 1925 | O19: 2205 | P19: 2321 | Q19: 1463 | R19: 2008 | S19: 2044 | T19: 1896 | U19: 1899 | V19: 360 | W19: 951 | X19: 3759 | Y19: 1967 | Z19: 775 | AA19: 1729 | AB19: 2630 | AC19: 1923 | AD19: 1091 | AE19: 1684 | AF19: 1822 | AG19: 1865 | AH19: 1916 | AI19: 1567 | AJ19: 2406 | AK19: 1930 | AL19: 371 | AM19: 0 | AN19: 0 | AO19: 5719 | AP19: 1811 | AQ19: 2706 | AR19: 1952 | AS19: 2078 | AT19: 1949 | AU19: 1629 | AV19: =IFERROR(SUM(I19:AU19)/SUM(I20:AU20),0) -> 0.99995418
H20: ='PANEL DE CONTROL DISTRITAL'!H19 -> Credenciales recibidas | I20: 756 | J20: 1532 | K20: 0 | L20: 0 | M20: 828 | N20: 1925 | O20: 2205 | P20: 2321 | Q20: 1463 | R20: 2008 | S20: 2044 | T20: 1896 | U20: 1899 | V20: 360 | W20: 951 | X20: 3759 | Y20: 1967 | Z20: 775 | AA20: 1729 | AB20: 2630 | AC20: 1923 | AD20: 1091 | AE20: 1684 | AF20: 1822 | AG20: 1865 | AH20: 1916 | AI20: 1567 | AJ20: 2406 | AK20: 1930 | AL20: 371 | AM20: 0 | AN20: 0 | AO20: 5719 | AP20: 1811 | AQ20: 2706 | AR20: 1952 | AS20: 2078 | AT20: 1949 | AU20: 1632
A22: ='PANEL DE CONTROL DISTRITAL'!A21 -> 5 | B22: ='PANEL DE CONTROL DISTRITAL'!B21 -> CONCILIACIÓN | C22: ='PANEL DE CONTROL DISTRITAL'!C21 -> Responsable de Módulo | D22: ='PANEL DE CONTROL DISTRITAL'!D21 -> Credenciales disponibles para entrega = | E22: ='PANEL DE CONTROL DISTRITAL'!E21 -> (Credenciales en resguardo / Credenciales totales en SIIRFE disponibles para entrega) x 100 | F22: ='PANEL DE CONTROL DISTRITAL'!F21 -> Semanal (remesa) | G22: ='PANEL DE CONTROL DISTRITAL'!G21 -> 1 | H22: ='PANEL DE CONTROL DISTRITAL'!H21 -> Credenciales en resguardo | I22: 4125 | J22: 3616 | K22: 3616 | L22: 3616 | M22: 2948 | N22: 3301 | O22: 3577 | P22: 3904 | Q22: 3438 | R22: 3635 | S22: 3894 | T22: 3845 | U22: 3718 | V22: 2324 | W22: 2381 | X22: 4348 | Y22: 4177 | Z22: 3552 | AA22: 3332 | AB22: 4936 | AC22: 4523 | AD22: 3895 | AE22: 3606 | AF22: 3824 | AG22: 3950 | AH22: 4002 | AI22: 3654 | AJ22: 4100 | AK22: 4149 | AL22: 2619 | AM22: 1776 | AN22: 1423 | AO22: 5954 | AP22: 4747 | AQ22: 4560 | AR22: 4258 | AS22: 4326 | AT22: 4267 | AU22: 4456 | AV22: =IFERROR(SUM(I22:AU22)/SUM(I23:AU23),0) -> 1
H23: ='PANEL DE CONTROL DISTRITAL'!H22 -> Credenciales totales en SIIRFE disponibles para entrega | I23: 4125 | J23: 3616 | K23: 3616 | L23: 3616 | M23: 2948 | N23: 3301 | O23: 3577 | P23: 3904 | Q23: 3438 | R23: 3635 | S23: 3894 | T23: 3845 | U23: 3718 | V23: 2324 | W23: 2381 | X23: 4348 | Y23: 4177 | Z23: 3552 | AA23: 3332 | AB23: 4936 | AC23: 4523 | AD23: 3895 | AE23: 3606 | AF23: 3824 | AG23: 3950 | AH23: 4002 | AI23: 3654 | AJ23: 4100 | AK23: 4149 | AL23: 2619 | AM23: 1776 | AN23: 1423 | AO23: 5954 | AP23: 4747 | AQ23: 4560 | AR23: 4258 | AS23: 4326 | AT23: 4267 | AU23: 4456
A25: ='PANEL DE CONTROL DISTRITAL'!A24 -> 6 | B25: ='PANEL DE CONTROL DISTRITAL'!B24 -> ENTREGA | C25: ='PANEL DE CONTROL DISTRITAL'!C24 -> Operador de Equipo Tecnológico | D25: ='PANEL DE CONTROL DISTRITAL'!D24 -> Efectividad de entrega de CPV en MAC = | E25: ='PANEL DE CONTROL DISTRITAL'!E24 -> (Total de credenciales entregadas / Total de credenciales solicitadas) x 100 | F25: ='PANEL DE CONTROL DISTRITAL'!F24 -> Semanal (remesa) | G25: ='PANEL DE CONTROL DISTRITAL'!G24 -> 0.9 | H25: ='PANEL DE CONTROL DISTRITAL'!H24 -> Total de credenciales entregadas | I25: 500 | J25: 2041 | K25: 0 | L25: 0 | M25: 1496 | N25: 1572 | O25: 1926 | P25: 1994 | Q25: 1929 | R25: 1811 | S25: 1745 | T25: 1945 | U25: 1953 | V25: 1754 | W25: 884 | X25: 1790 | Y25: 2138 | Z25: 1386 | AA25: 1949 | AB25: 1026 | AC25: 2335 | AD25: 1719 | AE25: 1957 | AF25: 1604 | AG25: 1739 | AH25: 1864 | AI25: 1903 | AJ25: 1960 | AK25: 1881 | AL25: 1901 | AM25: 843 | AN25: 353 | AO25: 1188 | AP25: 2989 | AQ25: 2893 | AR25: 2254 | AS25: 2010 | AT25: 2007 | AU25: 1440 | AV25: =IFERROR(SUM(I25:AU25)/SUM(I26:AU26),0) -> 0.99984541
H26: ='PANEL DE CONTROL DISTRITAL'!H25 -> Total de credenciales solicitadas | I26: 501 | J26: 2041 | K26: 0 | L26: 0 | M26: 1496 | N26: 1572 | O26: 1929 | P26: 1994 | Q26: 1929 | R26: 1811 | S26: 1745 | T26: 1945 | U26: 1953 | V26: 1754 | W26: 885 | X26: 1792 | Y26: 2138 | Z26: 1386 | AA26: 1949 | AB26: 1026 | AC26: 2336 | AD26: 1719 | AE26: 1958 | AF26: 1604 | AG26: 1739 | AH26: 1864 | AI26: 1903 | AJ26: 1960 | AK26: 1881 | AL26: 1901 | AM26: 843 | AN26: 353 | AO26: 1188 | AP26: 2989 | AQ26: 2893 | AR26: 2254 | AS26: 2010 | AT26: 2008 | AU26: 1440
B27: *Registre el valor nominal solicitado en la celda, el resultado proporcional esta automatizado.
I29: Semaforización
J30: Valor que requiere atención y justificación en el apartado de observaciones
J31: Valor suficiente
J32: Valor esperado
B34: CUADRO DE OBSERVACIONES
B35: Descripción | H35: No conformidad

Sheet 090351
A1: ='PANEL DE CONTROL DISTRITAL'!A1:Q1 -> INSTITUTO NACIONAL ELECTORAL SISTEMA DE GESTIÓN DE LA CALIDAD CIUDAD DE MÉXICO
D2: Distrito | E2: 3 | F2: Módulo | H2: 90351 | AS2: ='PANEL DE CONTROL DISTRITAL'!M2 -> Fecha de corte 31/08/2023
A4: TABLERO DE CONTROL DE PROCESOS SUSTANTIVOS DEL SISTEMA DE GESTIÓN DE LA CALIDAD
A6: ='PANEL DE CONTROL DISTRITAL'!A6 -> Número | B6: ='PANEL DE CONTROL DISTRITAL'!B6 -> PROCESOS SUSTANTIVOS E INDICADORES | I6: SEMANA OPERATIVA | AV6: % AVANCE REGISTRADO
B7: ='PANEL DE CONTROL DISTRITAL'!B7 -> DESCRIPCIÓN | E7: ='PANEL DE CONTROL DISTRITAL'!E7 -> MEDICIÓN | I7: ='PANEL DE CONTROL DISTRITAL'!A5 -> CAMPAÑA ANUAL PERMANENTE 2022-2023
B9: ='PANEL DE CONTROL DISTRITAL'!B8 -> Proceso | C9: ='PANEL DE CONTROL DISTRITAL'!C8 -> Dueño de Proceso | D9: ='PANEL DE CONTROL DISTRITAL'!D8 -> Indicador | E9: ='PANEL DE CONTROL DISTRITAL'!E8 -> Cálculo | F9: ='PANEL DE CONTROL DISTRITAL'!F8 -> Periodo | G9: ='PANEL DE CONTROL DISTRITAL'!G8 -> Estimado | H9: ='PANEL DE CONTROL DISTRITAL'!H8 -> Nominativo | I9: ='090151'!I9 -> 2022-53 | J9: ='090151'!J9 -> 2022-54 | K9: ='090151'!K9 -> 2022-55 | L9: ='090151'!L9 -> 2023-01 | M9: ='090151'!M9 -> 2023-02 | N9: ='090151'!N9 -> 2023-03 | O9: ='090151'!O9 -> 2023-04 | P9: ='090151'!P9 -> 2023-05 | ... AU9: ='090151'!AU9 -> 2023-36
A10: ='PANEL DE CONTROL DISTRITAL'!A9 -> 1 | B10: ='PANEL DE CONTROL DISTRITAL'!B9 -> ENTREVISTA | C10: ='PANEL DE CONTROL DISTRITAL'!C9 -> Auxiliar de Atención Ciudadana | D10: ='PANEL DE CONTROL DISTRITAL'!D9 -> Efectividad de la entrevista = | E10: ='PANEL DE CONTROL DISTRITAL'!E9 -> (Número de trámites aplicados / (Número de fichas requisitadas - Notificaciones de improcedencia de trámite)) x 100 | F10: ='PANEL DE CONTROL DISTRITAL'!F9 -> Semanal (remesa) | G10: ='PANEL DE CONTROL DISTRITAL'!G9 -> 0.9 | H10: ='PANEL DE CONTROL DISTRITAL'!H9 -> Número de trámites aplicados | I10: 231 | J10: 946 | K10: 0 | L10: 0 | M10: 832 | N10: 1038 | O10: 1129 | P10: 1115 | Q10: 1073 | R10: 891 | S10: 1043 | T10: 1046 | U10: 968 | V10: 931 | W10: 980 | X10: 832 | Y10: 1071 | Z10: 687 | AA10: 1028 | AB10: 995 | AC10: 930 | AD10: 544 | AE10: 793 | AF10: 1012 | AG10: 1037 | AH10: 976 | AI10: 970 | AJ10: 931 | AK10: 899 | AL10: 874 | AM10: 802 | AN10: 1047 | AO10: 1050 | AP10: 1025 | AQ10: 1040 | AR10: 1023 | AS10: 1017 | AT10: 1027 | AU10: 678 | AV10: =IFERROR(SUM(I10:AU10)/SUM(I11:AU11),0) -> 0.95121413
H11: ='PANEL DE CONTROL DISTRITAL'!H10 -> Número de fichas requisitadas - Notificaciones de improcedencia de trámite | I11: 246 | J11: 1121 | K11: 0 | L11: 0 | M11: 901 | N11: 1127 | O11: 1204 | P11: 1188 | Q11: 1151 | R11: 941 | S11: 1121 | T11: 1130 | U11: 1044 | V11: 1002 | W11: 1044 | X11: 883 | Y11: 1143 | Z11: 724 | AA11: 1079 | AB11: 1037 | AC11: 969 | AD11: 553 | AE11: 812 | AF11: 1051 | AG11: 1064 | AH11: 1016 | AI11: 1001 | AJ11: 961 | AK11: 926 | AL11: 837 | AM11: 838 | AN11: 1076 | AO11: 1118 | AP11: 1059 | AQ11: 1064 | AR11: 1048 | AS11: 1048 | AT11: 1057 | AU11: 697
A13: ='PANEL DE CONTROL DISTRITAL'!A12 -> 2 | B13: ='PANEL DE CONTROL DISTRITAL'!B12 -> TRÁMITE | C13: ='PANEL DE CONTROL DISTRITAL'!C12 -> Operador de Equipo Tecnológico | D13: ='PANEL DE CONTROL DISTRITAL'!D12 -> Trámites exitosos efectivos= | E13: ='PANEL DE CONTROL DISTRITAL'!E12 -> (Número de trámites exitosos / Número de trámites aplicados) x 100 | F13: ='PANEL DE CONTROL DISTRITAL'!F12 -> Semanal (remesa) | G13: ='PANEL DE CONTROL DISTRITAL'!G12 -> 0.9 | H13: ='PANEL DE CONTROL DISTRITAL'!H12 -> Número de trámites exitosos | I13: 228 | J13: 942 | K13: 0 | L13: 0 | M13: 832 | N13: 1036 | O13: 1125 | P13: 1112 | Q13: 1072 | R13: 890 | S13: 1042 | T13: 1040 | U13: 962 | V13: 930 | W13: 980 | X13: 831 | Y13: 1070 | Z13: 687 | AA13: 1023 | AB13: 994 | AC13: 929 | AD13: 544 | AE13: 793 | AF13: 1008 | AG13: 1037 | AH13: 972 | AI13: 968 | AJ13: 929 | AK13: 896 | AL13: 871 | AM13: 797 | AN13: 1043 | AO13: 1049 | AP13: 1019 | AQ13: 1035 | AR13: 1021 | AS13: 1007 | AT13: 1022 | AU13: 673 | AV13: =IFERROR(SUM(I13:AU13)/SUM(I14:AU14),0) -> 0.99704442
H14: ='PANEL DE CONTROL DISTRITAL'!H13 -> Número de trámites aplicados | I14: 231 | J14: 946 | K14: 0 | L14: 0 | M14: 832 | N14: 1038 | O14: 1129 | P14: 1115 | Q14: 1073 | R14: 891 | S14: 1043 | T14: 1046 | U14: 968 | V14: 931 | W14: 980 | X14: 832 | Y14: 1071 | Z14: 687 | AA14: 1028 | AB14: 995 | AC14: 930 | AD14: 544 | AE14: 793 | AF14: 1012 | AG14: 1037 | AH14: 976 | AI14: 970 | AJ14: 931 | AK14: 899 | AL14: 874 | AM14: 802 | AN14: 1047 | AO14: 1050 | AP14: 1025 | AQ14: 1040 | AR14: 1023 | AS14: 1017 | AT14: 1027 | AU14: 678
A16: ='PANEL DE CONTROL DISTRITAL'!A15 -> 3 | B16: ='PANEL DE CONTROL DISTRITAL'!B15 -> TRANSFERENCIA | C16: ='PANEL DE CONTROL DISTRITAL'!C15 -> Responsable de Módulo | D16: ='PANEL DE CONTROL DISTRITAL'!D15 -> Transacciones exitosas = | E16: ='PANEL DE CONTROL DISTRITAL'!E15 -> (Número de Archivos de Transacción aceptados /Total de Archivos de Transacción procesados) x100 | F16: ='PANEL DE CONTROL DISTRITAL'!F15 -> Semanal (remesa) | G16: ='PANEL DE CONTROL DISTRITAL'!G15 -> 0.9 | H16: ='PANEL DE CONTROL DISTRITAL'!H15 -> Número de Archivos de Transacción aceptados | I16: 231 | J16: 946 | K16: 0 | L16: 0 | M16: 832 | N16: 1038 | O16: 1129 | P16: 1115 | Q16: 1073 | R16: 891 | S16: 1043 | T16: 1046 | U16: 968 | V16: 931 | W16: 980 | X16: 832 | Y16: 1071 | Z16: 687 | AA16: 1028 | AB16: 995 | AC16: 930 | AD16: 544 | AE16: 793 | AF16: 1012 | AG16: 1037 | AH16: 976 | AI16: 970 | AJ16: 931 | AK16: 899 | AL16: 874 | AM16: 802 | AN16: 1047 | AO16: 1050 | AP16: 1025 | AQ16: 1040 | AR16: 1023 | AS16: 1017 | AT16: 1027 | AU16: 678 | AV16: =IFERROR(SUM(I16:AU16)/SUM(I17:AU17),0) -> 1
H17: ='PANEL DE CONTROL DISTRITAL'!H16 -> Total de Archivos de Transacción procesados | I17: 231 | J17: 946 | K17: 0 | L17: 0 | M17: 832 | N17: 1038 | O17: 1129 | P17: 1115 | Q17: 1073 | R17: 891 | S17: 1043 | T17: 1046 | U17: 968 | V17: 931 | W17: 980 | X17: 832 | Y17: 1071 | Z17: 687 | AA17: 1028 | AB17: 995 | AC17: 930 | AD17: 544 | AE17: 793 | AF17: 1012 | AG17: 1037 | AH17: 976 | AI17: 970 | AJ17: 931 | AK17: 899 | AL17: 874 | AM17: 802 | AN17: 1047 | AO17: 1050 | AP17: 1025 | AQ17: 1040 | AR17: 1023 | AS17: 1017 | AT17: 1027 | AU17: 678
A19: ='PANEL DE CONTROL DISTRITAL'!A18 -> 4 | B19: ='PANEL DE CONTROL DISTRITAL'!B18 -> CONCILIACIÓN | C19: ='PANEL DE CONTROL DISTRITAL'!C18 -> Responsable de Módulo | D19: ='PANEL DE CONTROL DISTRITAL'!D18 -> Credenciales disponibles para entrega = | E19: ='PANEL DE CONTROL DISTRITAL'!E18 -> ((Credenciales recibidas - Credenciales inconsistentes) / Credenciales recibidas) x 100 | F19: ='PANEL DE CONTROL DISTRITAL'!F18 -> Semanal (remesa) | G19: ='PANEL DE CONTROL DISTRITAL'!G18 -> 0.9 | H19: ='PANEL DE CONTROL DISTRITAL'!H18 -> Credenciales Recibidas - Credenciales inconsistentes | I19: 239 | J19: 845 | K19: 0 | L19: 0 | M19: 424 | N19: 993 | O19: 1338 | P19: 1296 | Q19: 792 | R19: 1175 | S19: 1052 | T19: 1003 | U19: 1032 | V19: 176 | W19: 467 | X19: 1931 | Y19: 1154 | Z19: 389 | AA19: 916 | AB19: 1357 | AC19: 957 | AD19: 544 | AE19: 795 | AF19: 948 | AG19: 1025 | AH19: 1004 | AI19: 876 | AJ19: 1215 | AK19: 933 | AL19: 179 | AM19: 0 | AN19: 0 | AO19: 3007 | AP19: 1044 | AQ19: 1438 | AR19: 1070 | AS19: 1025 | AT19: 1047 | AU19: 751 | AV19: =IFERROR(SUM(I19:AU19)/SUM(I20:AU20),0) -> 0.99991289
H20: ='PANEL DE CONTROL DISTRITAL'!H19 -> Credenciales recibidas | I20: 239 | J20: 845 | K20: 0 | L20: 0 | M20: 424 | N20: 993 | O20: 1338 | P20: 1296 | Q20: 792 | R20: 1175 | S20: 1052 | T20: 1003 | U20: 1032 | V20: 176 | W20: 467 | X20: 1931 | Y20: 1154 | Z20: 389 | AA20: 916 | AB20: 1357 | AC20: 957 | AD20: 544 | AE20: 796 | AF20: 949 | AG20: 1026 | AH20: 1004 | AI20: 876 | AJ20: 1215 | AK20: 933 | AL20: 179 | AM20: 0 | AN20: 0 | AO20: 3007 | AP20: 1044 | AQ20: 1438 | AR20: 1070 | AS20: 1025 | AT20: 1047 | AU20: 751
A22: ='PANEL DE CONTROL DISTRITAL'!A21 -> 5 | B22: ='PANEL DE CONTROL DISTRITAL'!B21 -> CONCILIACIÓN | C22: ='PANEL DE CONTROL DISTRITAL'!C21 -> Responsable de Módulo | D22: ='PANEL DE CONTROL DISTRITAL'!D21 -> Credenciales disponibles para entrega = | E22: ='PANEL DE CONTROL DISTRITAL'!E21 -> (Credenciales en resguardo / Credenciales totales en SIIRFE disponibles para entrega) x 100 | F22: ='PANEL DE CONTROL DISTRITAL'!F21 -> Semanal (remesa) | G22: ='PANEL DE CONTROL DISTRITAL'!G21 -> 1 | H22: ='PANEL DE CONTROL DISTRITAL'!H21 -> Credenciales en resguardo | I22: 2321 | J22: 1963 | K22: 1963 | L22: 1963 | M22: 1645 | N22: 1843 | O22: 2270 | P22: 2610 | Q22: 2214 | R22: 2188 | S22: 2155 | T22: 2039 | U22: 2000 | V22: 1212 | W22: 1221 | X22: 2295 | Y22: 2460 | Z22: 2139 | AA22: 2016 | AB22: 2670 | AC22: 2441 | AD22: 2119 | AE22: 1912 | AF22: 2045 | AG22: 2241 | AH22: 2206 | AI22: 2075 | AJ22: 2266 | AK22: 2174 | AL22: 1435 | AM22: 1073 | AN22: 873 | AO22: 3422 | AP22: 3252 | AQ22: 3115 | AR22: 2580 | AS22: 2408 | AT22: 2354 | AU22: 2308 | AV22: =IFERROR(SUM(I22:AU22)/SUM(I23:AU23),0) -> 1
H23: ='PANEL DE CONTROL DISTRITAL'!H22 -> Credenciales totales en SIIRFE disponibles para entrega | I23: 2321 | J23: 1963 | K23: 1963 | L23: 1963 | M23: 1645 | N23: 1843 | O23: 2270 | P23: 2610 | Q23: 2214 | R23: 2188 | S23: 2155 | T23: 2039 | U23: 2000 | V23: 1212 | W23: 1221 | X23: 2295 | Y23: 2460 | Z23: 2139 | AA23: 2016 | AB23: 2670 | AC23: 2441 | AD23: 2119 | AE23: 1912 | AF23: 2045 | AG23: 2241 | AH23: 2206 | AI23: 2075 | AJ23: 2266 | AK23: 2174 | AL23: 1435 | AM23: 1073 | AN23: 873 | AO23: 3422 | AP23: 3252 | AQ23: 3115 | AR23: 2580 | AS23: 2408 | AT23: 2354 | AU23: 2308
A25: ='PANEL DE CONTROL DISTRITAL'!A24 -> 6 | B25: ='PANEL DE CONTROL DISTRITAL'!B24 -> ENTREGA | C25: ='PANEL DE CONTROL DISTRITAL'!C24 -> Operador de Equipo Tecnológico | D25: ='PANEL DE CONTROL DISTRITAL'!D24 -> Efectividad de entrega de CPV en MAC = | E25: ='PANEL DE CONTROL DISTRITAL'!E24 -> (Total de credenciales entregadas / Total de credenciales solicitadas) x 100 | F25: ='PANEL DE CONTROL DISTRITAL'!F24 -> Semanal (remesa) | G25: ='PANEL DE CONTROL DISTRITAL'!G24 -> 0.9 | H25: ='PANEL DE CONTROL DISTRITAL'!H24 -> Total de credenciales entregadas | I25: 238 | J25: 1203 | K25: 0 | L25: 0 | M25: 742 | N25: 795 | O25: 911 | P25: 956 | Q25: 1188 | R25: 1201 | S25: 1063 | T25: 1119 | U25: 1046 | V25: 964 | W25: 454 | X25: 857 | Y25: 989 | Z25: 700 | AA25: 1039 | AB25: 703 | AC25: 1186 | AD25: 866 | AE25: 993 | AF25: 815 | AG25: 829 | AH25: 1039 | AI25: 1000 | AJ25: 1024 | AK25: 1025 | AL25: 918 | AM25: 362 | AN25: 200 | AO25: 458 | AP25: 1204 | AQ25: 1575 | AR25: 1605 | AS25: 1197 | AT25: 1101 | AU25: 797 | AV25: =IFERROR(SUM(I25:AU25)/SUM(I26:AU26),0) -> 1
H26: ='PANEL DE CONTROL DISTRITAL'!H25 -> Total de credenciales solicitadas | I26: 238 | J26: 1203 | K26: 0 | L26: 0 | M26: 742 | N26: 795 | O26: 911 | P26: 956 | Q26: 1188 | R26: 1201 | S26: 1063 | T26: 1119 | U26: 1046 | V26: 964 | W26: 454 | X26: 857 | Y26: 989 | Z26: 700 | AA26: 1039 | AB26: 703 | AC26: 1186 | AD26: 866 | AE26: 993 | AF26: 815 | AG26: 829 | AH26: 1039 | AI26: 1000 | AJ26: 1024 | AK26: 1025 | AL26: 918 | AM26: 362 | AN26: 200 | AO26: 458 | AP26: 1204 | AQ26: 1575 | AR26: 1605 | AS26: 1197 | AT26: 1101 | AU26: 797
B27: *Registre el valor nominal solicitado en la celda, el resultado proporcional esta automatizado.
I29: Semaforización
J30: Valor que requiere atención y justificación en el apartado de observaciones
J31: Valor suficiente
J32: Valor esperado
B34: CUADRO DE OBSERVACIONES
B35: Descripción | H35: No conformidad

Sheet 090451
A1: ='PANEL DE CONTROL DISTRITAL'!A1:Q1 -> INSTITUTO NACIONAL ELECTORAL SISTEMA DE GESTIÓN DE LA CALIDAD CIUDAD DE MÉXICO
D2: Distrito | E2: 4 | F2: Módulo | H2: 90451 | AS2: ='PANEL DE CONTROL DISTRITAL'!M2 -> Fecha de corte 31/08/2023
A4: TABLERO DE CONTROL DE PROCESOS SUSTANTIVOS DEL SISTEMA DE GESTIÓN DE LA CALIDAD
A6: ='PANEL DE CONTROL DISTRITAL'!A6 -> Número | B6: ='PANEL DE CONTROL DISTRITAL'!B6 -> PROCESOS SUSTANTIVOS E INDICADORES | I6: SEMANA OPERATIVA | AV6: % AVANCE REGISTRADO
B7: ='PANEL DE CONTROL DISTRITAL'!B7 -> DESCRIPCIÓN | E7: ='PANEL DE CONTROL DISTRITAL'!E7 -> MEDICIÓN | I7: ='PANEL DE CONTROL DISTRITAL'!A5 -> CAMPAÑA ANUAL PERMANENTE 2022-2023
B9: ='PANEL DE CONTROL DISTRITAL'!B8 -> Proceso | C9: ='PANEL DE CONTROL DISTRITAL'!C8 -> Dueño de Proceso | D9: ='PANEL DE CONTROL DISTRITAL'!D8 -> Indicador | E9: ='PANEL DE CONTROL DISTRITAL'!E8 -> Cálculo | F9: ='PANEL DE CONTROL DISTRITAL'!F8 -> Periodo | G9: ='PANEL DE CONTROL DISTRITAL'!G8 -> Estimado | H9: ='PANEL DE CONTROL DISTRITAL'!H8 -> Nominativo | I9: ='090151'!I9 -> 2022-53 | J9: ='090151'!J9 -> 2022-54 | K9: ='090151'!K9 -> 2022-55 | L9: ='090151'!L9 -> 2023-01 | M9: ='090151'!M9 -> 2023-02 | N9: ='090151'!N9 -> 2023-03 | O9: ='090151'!O9 -> 2023-04 | P9: ='090151'!P9 -> 2023-05 | ... AU9: ='090151'!AU9 -> 2023-36
A10: ='PANEL DE CONTROL DISTRITAL'!A9 -> 1 | B10: ='PANEL DE CONTROL DISTRITAL'!B9 -> ENTREVISTA | C10: ='PANEL DE CONTROL DISTRITAL'!C9 -> Auxiliar de Atención Ciudadana | D10: ='PANEL DE CONTROL DISTRITAL'!D9 -> Efectividad de la entrevista = | E10: ='PANEL DE CONTROL DISTRITAL'!E9 -> (Número de trámites aplicados / (Número de fichas requisitadas - Notificaciones de improcedencia de trámite)) x 100 | F10: ='PANEL DE CONTROL DISTRITAL'!F9 -> Semanal (remesa) | G10: ='PANEL DE CONTROL DISTRITAL'!G9 -> 0.9 | H10: ='PANEL DE CONTROL DISTRITAL'!H9 -> Número de trámites aplicados | I10: 385 | J10: 1498 | K10: 0 | L10: 0 | M10: 1451 | N10: 2325 | O10: 2158 | P10: 2190 | Q10: 2068 | R10: 1700 | S10: 1961 | T10: 2070 | U10: 1981 | V10: 1704 | W10: 1906 | X10: 1589 | Y10: 1898 | Z10: 1399 | AA10: 2001 | AB10: 1770 | AC10: 1630 | AD10: 1021 | AE10: 1464 | AF10: 1666 | AG10: 1484 | AH10: 1457 | AI10: 1396 | AJ10: 1319 | AK10: 1237 | AL10: 1291 | AM10: 1240 | AN10: 1667 | AO10: 1673 | AP10: 1780 | AQ10: 1947 | AR10: 1959 | AS10: 1792 | AT10: 1832 | AU10: 1473 | AV10: =IFERROR(SUM(I10:AU10)/SUM(I11:AU11),0) -> 0.95603146
H11: ='PANEL DE CONTROL DISTRITAL'!H10 -> Número de fichas requisitadas - Notificaciones de improcedencia de trámite | I11: 426 | J11: 1549 | K11: 0 | L11: 0 | M11: 1503 | N11: 2430 | O11: 2244 | P11: 2288 | Q11: 2158 | R11: 1757 | S11: 2041 | T11: 2144 | U11: 2077 | V11: 1767 | W11: 2003 | X11: 1642 | Y11: 1980 | Z11: 1462 | AA11: 2082 | AB11: 1837 | AC11: 1700 | AD11: 1053 | AE11: 1518 | AF11: 1757 | AG11: 1550 | AH11: 1517 | AI11: 1448 | AJ11: 1366 | AK11: 1285 | AL11: 1342 | AM11: 1298 | AN11: 1755 | AO11: 1741 | AP11: 1879 | AQ11: 2080 | AR11: 2072 | AS11: 1941 | AT11: 1946 | AU11: 1567
A13: ='PANEL DE CONTROL DISTRITAL'!A12 -> 2 | B13: ='PANEL DE CONTROL DISTRITAL'!B12 -> TRÁMITE | C13: ='PANEL DE CONTROL DISTRITAL'!C12 -> Operador de Equipo Tecnológico | D13: ='PANEL DE CONTROL DISTRITAL'!D12 -> Trámites exitosos efectivos= | E13: ='PANEL DE CONTROL DISTRITAL'!E12 -> (Número de trámites exitosos / Número de trámites aplicados) x 100 | F13: ='PANEL DE CONTROL DISTRITAL'!F12 -> Semanal (remesa) | G13: ='PANEL DE CONTROL DISTRITAL'!G12 -> 0.9 | H13: ='PANEL DE CONTROL DISTRITAL'!H12 -> Número de trámites exitosos | I13: 385 | J13: 1496 | K13: 0 | L13: 0 | M13: 1447 | N13: 2322 | O13: 2156 | P13: 2189 | Q13: 2063 | R13: 1700 | S13: 1955 | T13: 2066 | U13: 1976 | V13: 1703 | W13: 1903 | X13: 1584 | Y13: 1895 | Z13: 1399 | AA13: 1998 | AB13: 1770 | AC13: 1628 | AD13: 1021 | AE13: 1462 | AF13: 1664 | AG13: 1483 | AH13: 1454 | AI13: 1393 | AJ13: 1317 | AK13: 1235 | AL13: 1286 | AM13: 1236 | AN13: 1662 | AO13: 1671 | AP13: 1777 | AQ13: 1943 | AR13: 1955 | AS13: 1792 | AT13: 1829 | AU13: 1470 | AV13: =IFERROR(SUM(I13:AU13)/SUM(I14:AU14),0) -> 0.99841973
H14: ='PANEL DE CONTROL DISTRITAL'!H13 -> Número de trámites aplicados | I14: 385 | J14: 1498 | K14: 0 | L14: 0 | M14: 1451 | N14: 2325 | O14: 2158 | P14: 2190 | Q14: 2068 | R14: 1700 | S14: 1961 | T14: 2070 | U14: 1981 | V14: 1704 | W14: 1906 | X14: 1589 | Y14: 1898 | Z14: 1399 | AA14: 2001 | AB14: 1770 | AC14: 1630 | AD14: 1021 | AE14: 1464 | AF14: 1666 | AG14: 1484 | AH14: 1457 | AI14: 1396 | AJ14: 1319 | AK14: 1237 | AL14: 1291 | AM14: 1240 | AN14: 1667 | AO14: 1673 | AP14: 1780 | AQ14: 1947 | AR14: 1959 | AS14: 1792 | AT14: 1832 | AU14: 1473
A16: ='PANEL DE CONTROL DISTRITAL'!A15 -> 3 | B16: ='PANEL DE CONTROL DISTRITAL'!B15 -> TRANSFERENCIA | C16: ='PANEL DE CONTROL DISTRITAL'!C15 -> Responsable de Módulo | D16: ='PANEL DE CONTROL DISTRITAL'!D15 -> Transacciones exitosas = | E16: ='PANEL DE CONTROL DISTRITAL'!E15 -> (Número de Archivos de Transacción aceptados /Total de Archivos de Transacción procesados) x100 | F16: ='PANEL DE CONTROL DISTRITAL'!F15 -> Semanal (remesa) | G16: ='PANEL DE CONTROL DISTRITAL'!G15 -> 0.9 | H16: ='PANEL DE CONTROL DISTRITAL'!H15 -> Número de Archivos de Transacción aceptados | I16: 385 | J16: 1498 | K16: 0 | L16: 0 | M16: 1451 | N16: 2325 | O16: 2158 | P16: 2190 | Q16: 2068 | R16: 1700 | S16: 1961 | T16: 2070 | U16: 1981 | V16: 1704 | W16: 1906 | X16: 1589 | Y16: 1898 | Z16: 1399 | AA16: 2001 | AB16: 1770 | AC16: 1630 | AD16: 1021 | AE16: 1464 | AF16: 1666 | AG16: 1484 | AH16: 1457 | AI16: 1396 | AJ16: 1319 | AK16: 1237 | AL16: 1395 | AM16: 1240 | AN16: 1667 | AO16: 1673 | AP16: 1780 | AQ16: 1947 | AR16: 1959 | AS16: 1792 | AT16: 1832 | AU16: 1473 | AV16: =IFERROR(SUM(I16:AU16)/SUM(I17:AU17),0) -> 1
H17: ='PANEL DE CONTROL DISTRITAL'!H16 -> Total de Archivos de Transacción procesados | I17: 385 | J17: 1498 | K17: 0 | L17: 0 | M17: 1451 | N17: 2325 | O17: 2158 | P17: 2190 | Q17: 2068 | R17: 1700 | S17: 1961 | T17: 2070 | U17: 1981 | V17: 1704 | W17: 1906 | X17: 1589 | Y17: 1898 | Z17: 1399 | AA17: 2001 | AB17: 1770 | AC17: 1630 | AD17: 1021 | AE17: 1464 | AF17: 1666 | AG17: 1484 | AH17: 1457 | AI17: 1396 | AJ17: 1319 | AK17: 1237 | AL17: 1395 | AM17: 1240 | AN17: 1667 | AO17: 1673 | AP17: 1780 | AQ17: 1947 | AR17: 1959 | AS17: 1792 | AT17: 1832 | AU17: 1473
A19: ='PANEL DE CONTROL DISTRITAL'!A18 -> 4 | B19: ='PANEL DE CONTROL DISTRITAL'!B18 -> CONCILIACIÓN | C19: ='PANEL DE CONTROL DISTRITAL'!C18 -> Responsable de Módulo | D19: ='PANEL DE CONTROL DISTRITAL'!D18 -> Credenciales disponibles para entrega = | E19: ='PANEL DE CONTROL DISTRITAL'!E18 -> ((Credenciales recibidas - Credenciales inconsistentes) / Credenciales recibidas) x 100 | F19: ='PANEL DE CONTROL DISTRITAL'!F18 -> Semanal (remesa) | G19: ='PANEL DE CONTROL DISTRITAL'!G18 -> 0.9 | H19: ='PANEL DE CONTROL DISTRITAL'!H18 -> Credenciales Recibidas - Credenciales inconsistentes | I19: 626 | J19: 1332 | K19: 0 | L19: 0 | M19: 671 | N19: 1781 | O19: 2826 | P19: 2556 | Q19: 1671 | R19: 2147 | S19: 2073 | T19: 1973 | U19: 2054 | V19: 391 | W19: 964 | X19: 3672 | Y19: 2080 | Z19: 1039 | AA19: 1545 | AB19: 2657 | AC19: 1655 | AD19: 965 | AE19: 1561 | AF19: 1709 | AG19: 1522 | AH19: 1487 | AI19: 1067 | AJ19: 1714 | AK19: 1250 | AL19: 224 | AM19: 0 | AN19: 0 | AO19: 4605 | AP19: 1702 | AQ19: 2578 | AR19: 1983 | AS19: 1867 | AT19: 1873 | AU19: 852 | AV19: =IFERROR(SUM(I19:AU19)/SUM(I20:AU20),0) -> 0.99886403
H20: ='PANEL DE CONTROL DISTRITAL'!H19 -> Credenciales recibidas | I20: 626 | J20: 1332 | K20: 0 | L20: 0 | M20: 671 | N20: 1781 | O20: 2826 | P20: 2556 | Q20: 1739 | R20: 2148 | S20: 2073 | T20: 1973 | U20: 2054 | V20: 391 | W20: 964 | X20: 3672 | Y20: 2080 | Z20: 1039 | AA20: 1545 | AB20: 2657 | AC20: 1655 | AD20: 965 | AE20: 1561 | AF20: 1709 | AG20: 1522 | AH20: 1487 | AI20: 1067 | AJ20: 1714 | AK20: 1250 | AL20: 224 | AM20: 0 | AN20: 0 | AO20: 4605 | AP20: 1702 | AQ20: 2578 | AR20: 1983 | AS20: 1867 | AT20: 1873 | AU20: 852
A22: ='PANEL DE CONTROL DISTRITAL'!A21 -> 5 | B22: ='PANEL DE CONTROL DISTRITAL'!B21 -> CONCILIACIÓN | C22: ='PANEL DE CONTROL DISTRITAL'!C21 -> Responsable de Módulo | D22: ='PANEL DE CONTROL DISTRITAL'!D21 -> Credenciales disponibles para entrega = | E22: ='PANEL DE CONTROL DISTRITAL'!E21 -> (Credenciales en resguardo / Credenciales totales en SIIRFE disponibles para entrega) x 100 | F22: ='PANEL DE CONTROL DISTRITAL'!F21 -> Semanal (remesa) | G22: ='PANEL DE CONTROL DISTRITAL'!G21 -> 1 | H22: ='PANEL DE CONTROL DISTRITAL'!H21 -> Credenciales en resguardo | I22: 3402 | J22: 3012 | K22: 3012 | L22: 3012 | M22: 3310 | N22: 4063 | O22: 4187 | P22: 4114 | Q22: 3627 | R22: 3671 | S22: 3862 | T22: 3814 | U22: 3778 | V22: 2178 | W22: 2339 | X22: 4450 | Y22: 4564 | Z22: 4016 | AA22: 3821 | AB22: 5359 | AC22: 4791 | AD22: 3930 | AE22: 3516 | AF22: 3657 | AG22: 3530 | AH22: 3371 | AI22: 2967 | AJ22: 3228 | AK22: 3068 | AL22: 1966 | AM22: 1459 | AN22: 1294 | AO22: 4163 | AP22: 3218 | AQ22: 3792 | AR22: 3865 | AS22: 3732 | AT22: 3695 | AU22: 3183 | AV22: =IFERROR(SUM(I22:AU22)/SUM(I23:AU23),0) -> 1
H23: ='PANEL DE CONTROL DISTRITAL'!H22 -> Credenciales totales en SIIRFE disponibles para entrega | I23: 3402 | J23: 3012 | K23: 3012 | L23: 3012 | M23: 3310 | N23: 4063 | O23: 4187 | P23: 4114 | Q23: 3627 | R23: 3671 | S23: 3862 | T23: 3814 | U23: 3778 | V23: 2178 | W23: 2339 | X23: 4450 | Y23: 4564 | Z23: 4016 | AA23: 3821 | AB23: 5359 | AC23: 4791 | AD23: 3930 | AE23: 3516 | AF23: 3657 | AG23: 3530 | AH23: 3371 | AI23: 2967 | AJ23: 3228 | AK23: 3068 | AL23: 1966 | AM23: 1459 | AN23: 1294 | AO23: 4163 | AP23: 3218 | AQ23: 3792 | AR23: 3865 | AS23: 3732 | AT23: 3695 | AU23: 3183
A25: ='PANEL DE CONTROL DISTRITAL'!A24 -> 6 | B25: ='PANEL DE CONTROL DISTRITAL'!B24 -> ENTREGA | C25: ='PANEL DE CONTROL DISTRITAL'!C24 -> Operador de Equipo Tecnológico | D25: ='PANEL DE CONTROL DISTRITAL'!D24 -> Efectividad de entrega de CPV en MAC = | E25: ='PANEL DE CONTROL DISTRITAL'!E24 -> (Total de credenciales entregadas / Total de credenciales solicitadas) x 100 | F25: ='PANEL DE CONTROL DISTRITAL'!F24 -> Semanal (remesa) | G25: ='PANEL DE CONTROL DISTRITAL'!G24 -> 0.9 | H25: ='PANEL DE CONTROL DISTRITAL'!H24 -> Total de credenciales entregadas | I25: 532 | J25: 1722 | K25: 0 | L25: 0 | M25: 373 | N25: 1028 | O25: 2702 | P25: 2629 | Q25: 2094 | R25: 2098 | S25: 1849 | T25: 2021 | U25: 2014 | V25: 1991 | W25: 782 | X25: 1561 | Y25: 1966 | Z25: 1572 | AA25: 1740 | AB25: 1119 | AC25: 2223 | AD25: 1826 | AE25: 1956 | AF25: 1568 | AG25: 1649 | AH25: 1646 | AI25: 1459 | AJ25: 1453 | AK25: 1410 | AL25: 1326 | AM25: 507 | AN25: 165 | AO25: 1736 | AP25: 2621 | AQ25: 2004 | AR25: 1910 | AS25: 2000 | AT25: 1910 | AU25: 1364 | AV25: =IFERROR(SUM(I25:AU25)/SUM(I26:AU26),0) -> 1
H26: ='PANEL DE CONTROL DISTRITAL'!H25 -> Total de credenciales solicitadas | I26: 532 | J26: 1722 | K26: 0 | L26: 0 | M26: 373 | N26: 1028 | O26: 2702 | P26: 2629 | Q26: 2094 | R26: 2098 | S26: 1849 | T26: 2021 | U26: 2014 | V26: 1991 | W26: 782 | X26: 1561 | Y26: 1966 | Z26: 1572 | AA26: 1740 | AB26: 1119 | AC26: 2223 | AD26: 1826 | AE26: 1956 | AF26: 1568 | AG26: 1649 | AH26: 1646 | AI26: 1459 | AJ26: 1453 | AK26: 1410 | AL26: 1326 | AM26: 507 | AN26: 165 | AO26: 1736 | AP26: 2621 | AQ26: 2004 | AR26: 1910 | AS26: 2000 | AT26: 1910 | AU26: 1364
B27: *Registre el valor nominal solicitado en la celda, el resultado proporcional esta automatizado.
I29: Semaforización
J30: Valor que requiere atención y justificación en el apartado de observaciones
J31: Valor suficiente
J32: Valor esperado
B34: CUADRO DE OBSERVACIONES
B35: Descripción | H35: No conformidad

Sheet 090551
A1: ='PANEL DE CONTROL DISTRITAL'!A1:Q1 -> INSTITUTO NACIONAL ELECTORAL SISTEMA DE GESTIÓN DE LA CALIDAD CIUDAD DE MÉXICO
D2: Distrito | E2: 5 | F2: Módulo | H2: 90551 | AS2: ='PANEL DE CONTROL DISTRITAL'!M2 -> Fecha de corte 31/08/2023
A4: TABLERO DE CONTROL DE PROCESOS SUSTANTIVOS DEL SISTEMA DE GESTIÓN DE LA CALIDAD
A6: ='PANEL DE CONTROL DISTRITAL'!A6 -> Número | B6: ='PANEL DE CONTROL DISTRITAL'!B6 -> PROCESOS SUSTANTIVOS E INDICADORES | I6: SEMANA OPERATIVA | AV6: % AVANCE REGISTRADO
B7: ='PANEL DE CONTROL DISTRITAL'!B7 -> DESCRIPCIÓN | E7: ='PANEL DE CONTROL DISTRITAL'!E7 -> MEDICIÓN | I7: ='PANEL DE CONTROL DISTRITAL'!A5 -> CAMPAÑA ANUAL PERMANENTE 2022-2023
B9: ='PANEL DE CONTROL DISTRITAL'!B8 -> Proceso | C9: ='PANEL DE CONTROL DISTRITAL'!C8 -> Dueño de Proceso | D9: ='PANEL DE CONTROL DISTRITAL'!D8 -> Indicador | E9: ='PANEL DE CONTROL DISTRITAL'!E8 -> Cálculo | F9: ='PANEL DE CONTROL DISTRITAL'!F8 -> Periodo | G9: ='PANEL DE CONTROL DISTRITAL'!G8 -> Estimado | H9: ='PANEL DE CONTROL DISTRITAL'!H8 -> Nominativo | I9: ='090151'!I9 -> 2022-53 | J9: ='090151'!J9 -> 2022-54 | K9: ='090151'!K9 -> 2022-55 | L9: ='090151'!L9 -> 2023-01 | M9: ='090151'!M9 -> 2023-02 | N9: ='090151'!N9 -> 2023-03 | O9: ='090151'!O9 -> 2023-04 | P9: ='090151'!P9 -> 2023-05 | ... AU9: ='090151'!AU9 -> 2023-36
